Workbook

Sheet ENE
A3: REPORTE DE ACTIVIDADES DEL COMPONENTE DE DISCAPACIDAD
A5: Periodo: Enero - 2025
A6: Diresa/Red/M.Red/EE.SS: AREQUIPA/AREQUIPA CAYLLOMA/TIABAYA/TODOS LOS EE.SS
A8: PERSONAS CON DISCAPACIDAD RECIBEN ATENCION DE REHABILITACION EN ESTABLECIMIENTOS DE SALUD (3000688)
A10: Capacitación en medicina de rehabilitación integral (5004449)
B12: N° | C12: Capacitados
A13: Capacitación personal médido rehabilitador
A15: Atención de Rehabilitación en Personas con Discapacidad de Tipo Física (5005150)
A17: GRUPO | B17: ATENCIONES | AC17: Total | AG17: 00a-11a | AL17: 12a-17a | AN17: 18a-29a | AP17: 30a-59a | AR17: 60a+
AG18: M | AI18: F | AL18: M | AM18: F | AN18: M | AO18: F | AP18: M | AQ18: F | AR18: M | AS18: F
A19: 0515001 LESIONES MEDULARES | B19: Lesiones medulares | H19: Lesiones medulares con severidad leve
H20: Lesiones medulares con severidad moderada
H21: Lesiones medulares severas
H22: Lesiones medulares en personas rehabilitadas
H23: Lesiones medulares en personas con discapacidad
H24: Lesiones medulares con servicio de evaluación, calificación y certificación de la discapacidad
H25: Lesiones medulares con consulta ambulatoria para la evaluación y manejo de un usuario de salud nuevo nivel de atención I (Prescripción de la ayuda técnica o producto de apoyo)
H26: Lesiones medulares con consulta ambulatoria para la evaluación y manejo de un usuario de salud nuevo nivel de atención III (Prescripción de la ayuda técnica o producto de apoyo).
H27: Lesiones medulares con consulta ambulatoria para la evaluación y manejo de un usuario de salud nuevo nivel de atención II (Prescripción de la ayuda técnica o producto de apoyo).
H28: Lesiones medulares con revisión final para el uso de dispositivos ortóticos/protésicos usuario de salud establecido (Entrega de la ayuda técnica o producto de apoyo).
A29: 0515013 REHABILITACIÓN EN PACIENTES AMPUTADOS | B29: Paciente amputado: Amputados de miembro superior | H29: Paciente amputado: Amputados de miembro superior con severidad leve
H30: Paciente amputado: Amputados de miembro superir con severidad moderado
H31: Paciente amputado: Amputados de miembro superior severo
H32: Paciente amputado: Amputados de miembro superior rehabilitado
H33: Paciente amputado: Amputados de miembro superior discapacitado
H34: Paciente amputado: Amputados de miembro superior con servicio de evaluación, calificación y certificación de la discapacidad
H35: Paciente amputado: Amputados de miembro superior con consulta ambulatoria para la evaluación y manejo de un usuario de salud nuevo nivel de atención I (Prescripción de la ayuda técnica o producto de apoyo)
H36: Paciente amputado: Amputados de miembro superior con consulta ambulatoria para la evaluación y manejo de un usuario de salud nuevo nivel de atención II (Prescripción de la ayuda técnica o producto de apoyo).
H37: Paciente amputado: Amputados de miembro superior con consulta ambulatoria para la evaluación y manejo de un usuario de salud nuevo nivel de atención III (Prescripción de la ayuda técnica o producto de apoyo).
H38: Paciente amputado: Amputados de miembro superior con revisión final para el uso de dispositivos ortóticos/protésicos usuario de salud establecido (Entrega de la ayuda técnica o producto de apoyo
B39: Paciente amputado: Amputados de miembro inferior | H39: Paciente amputado: Amputados de miembro inferior con severidad leve
H40: Paciente amputado: Amputados de miembro inferior con severidad moderada
H41: Paciente amputado: Amputados de miembro inferior severo
H42: Paciente amputado: Amputados de miembro inferior rehabilitado
H43: Paciente amputado: Amputados de miembro inferior con discapacidad
H44: Paciente amputado: Amputados de miembro inferior con servicio de evaluación, calificación y certificación de la discapacidad
H45: Paciente amputado: Amputados de miembro inferior con consulta ambulatoria para la evaluación y manejo de un usuario de salud nuevo nivel de atención I (Prescripción de la ayuda técnica o producto de apoyo)
H46: Paciente amputado: Amputados de miembro inferior con consulta ambulatoria para la evaluación y manejo de un usuario de salud nuevo nivel de atención II (Prescripción de la ayuda técnica o producto de apoyo).
H47: Paciente amputado: Amputados de miembro inferior con consulta ambulatoria para la evaluación y manejo de un usuario de salud nuevo nivel de atención III (Prescripción de la ayuda técnica o producto de apoyo).
H48: Paciente amputado: Amputados de miembro inferior con revisión final para el uso de dispositivos ortóticos/protésicos usuario de salud establecido (Entrega de la ayuda técnica o producto de apoyo).
...

Sheet FEB
A3: REPORTE DE ACTIVIDADES DEL COMPONENTE DE DISCAPACIDAD
A5: Periodo: Febrero - 2025
A6: Diresa/Red/M.Red/EE.SS: AREQUIPA/AREQUIPA CAYLLOMA/TIABAYA/TODOS LOS EE.SS
A8: PERSONAS CON DISCAPACIDAD RECIBEN ATENCION DE REHABILITACION EN ESTABLECIMIENTOS DE SALUD (3000688)
A10: Capacitación en medicina de rehabilitación integral (5004449)
B12: N° | C12: Capacitados
A13: Capacitación personal médido rehabilitador
A15: Atención de Rehabilitación en Personas con Discapacidad de Tipo Física (5005150)
A17: GRUPO | B17: ATENCIONES | AC17: Total | AG17: 00a-11a | AL17: 12a-17a | AN17: 18a-29a | AP17: 30a-59a | AR17: 60a+
AG18: M | AI18: F | AL18: M | AM18: F | AN18: M | AO18: F | AP18: M | AQ18: F | AR18: M | AS18: F
A19: 0515001 LESIONES MEDULARES | B19: Lesiones medulares | H19: Lesiones medulares con severidad leve
H20: Lesiones medulares con severidad moderada
H21: Lesiones medulares severas
H22: Lesiones medulares en personas rehabilitadas
H23: Lesiones medulares en personas con discapacidad
H24: Lesiones medulares con servicio de evaluación, calificación y certificación de la discapacidad
H25: Lesiones medulares con consulta ambulatoria para la evaluación y manejo de un usuario de salud nuevo nivel de atención I (Prescripción de la ayuda técnica o producto de apoyo)
H26: Lesiones medulares con consulta ambulatoria para la evaluación y manejo de un usuario de salud nuevo nivel de atención III (Prescripción de la ayuda técnica o producto de apoyo).
H27: Lesiones medulares con consulta ambulatoria para la evaluación y manejo de un usuario de salud nuevo nivel de atención II (Prescripción de la ayuda técnica o producto de apoyo).
H28: Lesiones medulares con revisión final para el uso de dispositivos ortóticos/protésicos usuario de salud establecido (Entrega de la ayuda técnica o producto de apoyo).
A29: 0515013 REHABILITACIÓN EN PACIENTES AMPUTADOS | B29: Paciente amputado: Amputados de miembro superior | H29: Paciente amputado: Amputados de miembro superior con severidad leve
H30: Paciente amputado: Amputados de miembro superir con severidad moderado
H31: Paciente amputado: Amputados de miembro superior severo
H32: Paciente amputado: Amputados de miembro superior rehabilitado
H33: Paciente amputado: Amputados de miembro superior discapacitado
H34: Paciente amputado: Amputados de miembro superior con servicio de evaluación, calificación y certificación de la discapacidad
H35: Paciente amputado: Amputados de miembro superior con consulta ambulatoria para la evaluación y manejo de un usuario de salud nuevo nivel de atención I (Prescripción de la ayuda técnica o producto de apoyo)
H36: Paciente amputado: Amputados de miembro superior con consulta ambulatoria para la evaluación y manejo de un usuario de salud nuevo nivel de atención II (Prescripción de la ayuda técnica o producto de apoyo).
H37: Paciente amputado: Amputados de miembro superior con consulta ambulatoria para la evaluación y manejo de un usuario de salud nuevo nivel de atención III (Prescripción de la ayuda técnica o producto de apoyo).
H38: Paciente amputado: Amputados de miembro superior con revisión final para el uso de dispositivos ortóticos/protésicos usuario de salud establecido (Entrega de la ayuda técnica o producto de apoyo
B39: Paciente amputado: Amputados de miembro inferior | H39: Paciente amputado: Amputados de miembro inferior con severidad leve
H40: Paciente amputado: Amputados de miembro inferior con severidad moderada
H41: Paciente amputado: Amputados de miembro inferior severo
H42: Paciente amputado: Amputados de miembro inferior rehabilitado
H43: Paciente amputado: Amputados de miembro inferior con discapacidad
H44: Paciente amputado: Amputados de miembro inferior con servicio de evaluación, calificación y certificación de la discapacidad
H45: Paciente amputado: Amputados de miembro inferior con consulta ambulatoria para la evaluación y manejo de un usuario de salud nuevo nivel de atención I (Prescripción de la ayuda técnica o producto de apoyo)
H46: Paciente amputado: Amputados de miembro inferior con consulta ambulatoria para la evaluación y manejo de un usuario de salud nuevo nivel de atención II (Prescripción de la ayuda técnica o producto de apoyo).
H47: Paciente amputado: Amputados de miembro inferior con consulta ambulatoria para la evaluación y manejo de un usuario de salud nuevo nivel de atención III (Prescripción de la ayuda técnica o producto de apoyo).
H48: Paciente amputado: Amputados de miembro inferior con revisión final para el uso de dispositivos ortóticos/protésicos usuario de salud establecido (Entrega de la ayuda técnica o producto de apoyo).
...

Sheet MAR
A3: REPORTE DE ACTIVIDADES DEL COMPONENTE DE DISCAPACIDAD
A5: Periodo: Marzo - 2025
A6: Diresa/Red/M.Red/EE.SS: AREQUIPA/AREQUIPA CAYLLOMA/TIABAYA/TODOS LOS EE.SS
A8: PERSONAS CON DISCAPACIDAD RECIBEN ATENCION DE REHABILITACION EN ESTABLECIMIENTOS DE SALUD (3000688)
A10: Capacitación en medicina de rehabilitación integral (5004449)
B12: N° | C12: Capacitados
A13: Capacitación personal médido rehabilitador
A15: Atención de Rehabilitación en Personas con Discapacidad de Tipo Física (5005150)
A17: GRUPO | B17: ATENCIONES | AC17: Total | AG17: 00a-11a | AL17: 12a-17a | AN17: 18a-29a | AP17: 30a-59a | AR17: 60a+
AG18: M | AI18: F | AL18: M | AM18: F | AN18: M | AO18: F | AP18: M | AQ18: F | AR18: M | AS18: F
A19: 0515001 LESIONES MEDULARES | B19: Lesiones medulares | H19: Lesiones medulares con severidad leve
H20: Lesiones medulares con severidad moderada
H21: Lesiones medulares severas
H22: Lesiones medulares en personas rehabilitadas
H23: Lesiones medulares en personas con discapacidad
H24: Lesiones medulares con servicio de evaluación, calificación y certificación de la discapacidad
H25: Lesiones medulares con consulta ambulatoria para la evaluación y manejo de un usuario de salud nuevo nivel de atención I (Prescripción de la ayuda técnica o producto de apoyo)
H26: Lesiones medulares con consulta ambulatoria para la evaluación y manejo de un usuario de salud nuevo nivel de atención III (Prescripción de la ayuda técnica o producto de apoyo).
H27: Lesiones medulares con consulta ambulatoria para la evaluación y manejo de un usuario de salud nuevo nivel de atención II (Prescripción de la ayuda técnica o producto de apoyo).
H28: Lesiones medulares con revisión final para el uso de dispositivos ortóticos/protésicos usuario de salud establecido (Entrega de la ayuda técnica o producto de apoyo).
A29: 0515013 REHABILITACIÓN EN PACIENTES AMPUTADOS | B29: Paciente amputado: Amputados de miembro superior | H29: Paciente amputado: Amputados de miembro superior con severidad leve
H30: Paciente amputado: Amputados de miembro superir con severidad moderado
H31: Paciente amputado: Amputados de miembro superior severo
H32: Paciente amputado: Amputados de miembro superior rehabilitado
H33: Paciente amputado: Amputados de miembro superior discapacitado
H34: Paciente amputado: Amputados de miembro superior con servicio de evaluación, calificación y certificación de la discapacidad
H35: Paciente amputado: Amputados de miembro superior con consulta ambulatoria para la evaluación y manejo de un usuario de salud nuevo nivel de atención I (Prescripción de la ayuda técnica o producto de apoyo)
H36: Paciente amputado: Amputados de miembro superior con consulta ambulatoria para la evaluación y manejo de un usuario de salud nuevo nivel de atención II (Prescripción de la ayuda técnica o producto de apoyo).
H37: Paciente amputado: Amputados de miembro superior con consulta ambulatoria para la evaluación y manejo de un usuario de salud nuevo nivel de atención III (Prescripción de la ayuda técnica o producto de apoyo).
H38: Paciente amputado: Amputados de miembro superior con revisión final para el uso de dispositivos ortóticos/protésicos usuario de salud establecido (Entrega de la ayuda técnica o producto de apoyo
B39: Paciente amputado: Amputados de miembro inferior | H39: Paciente amputado: Amputados de miembro inferior con severidad leve
H40: Paciente amputado: Amputados de miembro inferior con severidad moderada
H41: Paciente amputado: Amputados de miembro inferior severo
H42: Paciente amputado: Amputados de miembro inferior rehabilitado
H43: Paciente amputado: Amputados de miembro inferior con discapacidad
H44: Paciente amputado: Amputados de miembro inferior con servicio de evaluación, calificación y certificación de la discapacidad
H45: Paciente amputado: Amputados de miembro inferior con consulta ambulatoria para la evaluación y manejo de un usuario de salud nuevo nivel de atención I (Prescripción de la ayuda técnica o producto de apoyo)
H46: Paciente amputado: Amputados de miembro inferior con consulta ambulatoria para la evaluación y manejo de un usuario de salud nuevo nivel de atención II (Prescripción de la ayuda técnica o producto de apoyo).
H47: Paciente amputado: Amputados de miembro inferior con consulta ambulatoria para la evaluación y manejo de un usuario de salud nuevo nivel de atención III (Prescripción de la ayuda técnica o producto de apoyo).
H48: Paciente amputado: Amputados de miembro inferior con revisión final para el uso de dispositivos ortóticos/protésicos usuario de salud establecido (Entrega de la ayuda técnica o producto de apoyo).
...

Sheet I TRIM
A3: REPORTE DE ACTIVIDADES DEL COMPONENTE DE DISCAPACIDAD
A5: Periodo: Marzo - 2025
A6: Diresa/Red/M.Red/EE.SS: AREQUIPA/AREQUIPA CAYLLOMA/TIABAYA/TODOS LOS EE.SS
A8: PERSONAS CON DISCAPACIDAD RECIBEN ATENCION DE REHABILITACION EN ESTABLECIMIENTOS DE SALUD (3000688)
A10: Capacitación en medicina de rehabilitación integral (5004449)
B12: N° | C12: Capacitados
A13: Capacitación personal médido rehabilitador | B13: =SUM(ENE:MAR!B13) -> 0 | C13: =SUM(ENE:MAR!C13:E13) -> 0
A15: Atención de Rehabilitación en Personas con Discapacidad de Tipo Física (5005150)
A17: GRUPO | B17: ATENCIONES | AC17: Total | AG17: 00a-11a | AL17: 12a-17a | AN17: 18a-29a | AP17: 30a-59a | AR17: 60a+
AG18: M | AI18: F | AL18: M | AM18: F | AN18: M | AO18: F | AP18: M | AQ18: F | AR18: M | AS18: F
A19: 0515001 LESIONES MEDULARES | B19: Lesiones medulares | H19: Lesiones medulares con severidad leve | AC19: =SUM(ENE:MAR!AC19:AF19) -> 0 | AG19: =SUM(ENE:MAR!AG19:AH19) -> 0 | AI19: =SUM(ENE:MAR!AI19:AK19) -> 0 | AL19: =SUM(ENE:MAR!AL19) -> 0 | AM19: =SUM(ENE:MAR!AM19) -> 0 | AN19: =SUM(ENE:MAR!AN19) -> 0 | AO19: =SUM(ENE:MAR!AO19) -> 0 | AP19: =SUM(ENE:MAR!AP19) -> 0 | AQ19: =SUM(ENE:MAR!AQ19) -> 0 | AR19: =SUM(ENE:MAR!AR19) -> 0 | AS19: =SUM(ENE:MAR!AS19) -> 0
H20: Lesiones medulares con severidad moderada | AC20: =SUM(ENE:MAR!AC20:AF20) -> 0 | AG20: =SUM(ENE:MAR!AG20:AH20) -> 0 | AI20: =SUM(ENE:MAR!AI20:AK20) -> 0 | AL20: =SUM(ENE:MAR!AL20) -> 0 | AM20: =SUM(ENE:MAR!AM20) -> 0 | AN20: =SUM(ENE:MAR!AN20) -> 0 | AO20: =SUM(ENE:MAR!AO20) -> 0 | AP20: =SUM(ENE:MAR!AP20) -> 0 | AQ20: =SUM(ENE:MAR!AQ20) -> 0 | AR20: =SUM(ENE:MAR!AR20) -> 0 | AS20: =SUM(ENE:MAR!AS20) -> 0
H21: Lesiones medulares severas | AC21: =SUM(ENE:MAR!AC21:AF21) -> 0 | AG21: =SUM(ENE:MAR!AG21:AH21) -> 0 | AI21: =SUM(ENE:MAR!AI21:AK21) -> 0 | AL21: =SUM(ENE:MAR!AL21) -> 0 | AM21: =SUM(ENE:MAR!AM21) -> 0 | AN21: =SUM(ENE:MAR!AN21) -> 0 | AO21: =SUM(ENE:MAR!AO21) -> 0 | AP21: =SUM(ENE:MAR!AP21) -> 0 | AQ21: =SUM(ENE:MAR!AQ21) -> 0 | AR21: =SUM(ENE:MAR!AR21) -> 0 | AS21: =SUM(ENE:MAR!AS21) -> 0
H22: Lesiones medulares en personas rehabilitadas | AC22: =SUM(ENE:MAR!AC22:AF22) -> 0 | AG22: =SUM(ENE:MAR!AG22:AH22) -> 0 | AI22: =SUM(ENE:MAR!AI22:AK22) -> 0 | AL22: =SUM(ENE:MAR!AL22) -> 0 | AM22: =SUM(ENE:MAR!AM22) -> 0 | AN22: =SUM(ENE:MAR!AN22) -> 0 | AO22: =SUM(ENE:MAR!AO22) -> 0 | AP22: =SUM(ENE:MAR!AP22) -> 0 | AQ22: =SUM(ENE:MAR!AQ22) -> 0 | AR22: =SUM(ENE:MAR!AR22) -> 0 | AS22: =SUM(ENE:MAR!AS22) -> 0
H23: Lesiones medulares en personas con discapacidad | AC23: =SUM(ENE:MAR!AC23:AF23) -> 0 | AG23: =SUM(ENE:MAR!AG23:AH23) -> 0 | AI23: =SUM(ENE:MAR!AI23:AK23) -> 0 | AL23: =SUM(ENE:MAR!AL23) -> 0 | AM23: =SUM(ENE:MAR!AM23) -> 0 | AN23: =SUM(ENE:MAR!AN23) -> 0 | AO23: =SUM(ENE:MAR!AO23) -> 0 | AP23: =SUM(ENE:MAR!AP23) -> 0 | AQ23: =SUM(ENE:MAR!AQ23) -> 0 | AR23: =SUM(ENE:MAR!AR23) -> 0 | AS23: =SUM(ENE:MAR!AS23) -> 0
H24: Lesiones medulares con servicio de evaluación, calificación y certificación de la discapacidad | AC24: =SUM(ENE:MAR!AC24:AF24) -> 0 | AG24: =SUM(ENE:MAR!AG24:AH24) -> 0 | AI24: =SUM(ENE:MAR!AI24:AK24) -> 0 | AL24: =SUM(ENE:MAR!AL24) -> 0 | AM24: =SUM(ENE:MAR!AM24) -> 0 | AN24: =SUM(ENE:MAR!AN24) -> 0 | AO24: =SUM(ENE:MAR!AO24) -> 0 | AP24: =SUM(ENE:MAR!AP24) -> 0 | AQ24: =SUM(ENE:MAR!AQ24) -> 0 | AR24: =SUM(ENE:MAR!AR24) -> 0 | AS24: =SUM(ENE:MAR!AS24) -> 0
H25: Lesiones medulares con consulta ambulatoria para la evaluación y manejo de un usuario de salud nuevo nivel de atención I (Prescripción de la ayuda técnica o producto de apoyo) | AC25: =SUM(ENE:MAR!AC25:AF25) -> 0 | AG25: =SUM(ENE:MAR!AG25:AH25) -> 0 | AI25: =SUM(ENE:MAR!AI25:AK25) -> 0 | AL25: =SUM(ENE:MAR!AL25) -> 0 | AM25: =SUM(ENE:MAR!AM25) -> 0 | AN25: =SUM(ENE:MAR!AN25) -> 0 | AO25: =SUM(ENE:MAR!AO25) -> 0 | AP25: =SUM(ENE:MAR!AP25) -> 0 | AQ25: =SUM(ENE:MAR!AQ25) -> 0 | AR25: =SUM(ENE:MAR!AR25) -> 0 | AS25: =SUM(ENE:MAR!AS25) -> 0
H26: Lesiones medulares con consulta ambulatoria para la evaluación y manejo de un usuario de salud nuevo nivel de atención III (Prescripción de la ayuda técnica o producto de apoyo). | AC26: =SUM(ENE:MAR!AC26:AF26) -> 0 | AG26: =SUM(ENE:MAR!AG26:AH26) -> 0 | AI26: =SUM(ENE:MAR!AI26:AK26) -> 0 | AL26: =SUM(ENE:MAR!AL26) -> 0 | AM26: =SUM(ENE:MAR!AM26) -> 0 | AN26: =SUM(ENE:MAR!AN26) -> 0 | AO26: =SUM(ENE:MAR!AO26) -> 0 | AP26: =SUM(ENE:MAR!AP26) -> 0 | AQ26: =SUM(ENE:MAR!AQ26) -> 0 | AR26: =SUM(ENE:MAR!AR26) -> 0 | AS26: =SUM(ENE:MAR!AS26) -> 0
H27: Lesiones medulares con consulta ambulatoria para la evaluación y manejo de un usuario de salud nuevo nivel de atención II (Prescripción de la ayuda técnica o producto de apoyo). | AC27: =SUM(ENE:MAR!AC27:AF27) -> 0 | AG27: =SUM(ENE:MAR!AG27:AH27) -> 0 | AI27: =SUM(ENE:MAR!AI27:AK27) -> 0 | AL27: =SUM(ENE:MAR!AL27) -> 0 | AM27: =SUM(ENE:MAR!AM27) -> 0 | AN27: =SUM(ENE:MAR!AN27) -> 0 | AO27: =SUM(ENE:MAR!AO27) -> 0 | AP27: =SUM(ENE:MAR!AP27) -> 0 | AQ27: =SUM(ENE:MAR!AQ27) -> 0 | AR27: =SUM(ENE:MAR!AR27) -> 0 | AS27: =SUM(ENE:MAR!AS27) -> 0
H28: Lesiones medulares con revisión final para el uso de dispositivos ortóticos/protésicos usuario de salud establecido (Entrega de la ayuda técnica o producto de apoyo). | AC28: =SUM(ENE:MAR!AC28:AF28) -> 0 | AG28: =SUM(ENE:MAR!AG28:AH28) -> 0 | AI28: =SUM(ENE:MAR!AI28:AK28) -> 0 | AL28: =SUM(ENE:MAR!AL28) -> 0 | AM28: =SUM(ENE:MAR!AM28) -> 0 | AN28: =SUM(ENE:MAR!AN28) -> 0 | AO28: =SUM(ENE:MAR!AO28) -> 0 | AP28: =SUM(ENE:MAR!AP28) -> 0 | AQ28: =SUM(ENE:MAR!AQ28) -> 0 | AR28: =SUM(ENE:MAR!AR28) -> 0 | AS28: =SUM(ENE:MAR!AS28) -> 0
A29: 0515013 REHABILITACIÓN EN PACIENTES AMPUTADOS | B29: Paciente amputado: Amputados de miembro superior | H29: Paciente amputado: Amputados de miembro superior con severidad leve | AC29: =SUM(ENE:MAR!AC29:AF29) -> 0 | AG29: =SUM(ENE:MAR!AG29:AH29) -> 0 | AI29: =SUM(ENE:MAR!AI29:AK29) -> 0 | AL29: =SUM(ENE:MAR!AL29) -> 0 | AM29: =SUM(ENE:MAR!AM29) -> 0 | AN29: =SUM(ENE:MAR!AN29) -> 0 | AO29: =SUM(ENE:MAR!AO29) -> 0 | AP29: =SUM(ENE:MAR!AP29) -> 0 | AQ29: =SUM(ENE:MAR!AQ29) -> 0 | AR29: =SUM(ENE:MAR!AR29) -> 0 | AS29: =SUM(ENE:MAR!AS29) -> 0
H30: Paciente amputado: Amputados de miembro superir con severidad moderado | AC30: =SUM(ENE:MAR!AC30:AF30) -> 0 | AG30: =SUM(ENE:MAR!AG30:AH30) -> 0 | AI30: =SUM(ENE:MAR!AI30:AK30) -> 0 | AL30: =SUM(ENE:MAR!AL30) -> 0 | AM30: =SUM(ENE:MAR!AM30) -> 0 | AN30: =SUM(ENE:MAR!AN30) -> 0 | AO30: =SUM(ENE:MAR!AO30) -> 0 | AP30: =SUM(ENE:MAR!AP30) -> 0 | AQ30: =SUM(ENE:MAR!AQ30) -> 0 | AR30: =SUM(ENE:MAR!AR30) -> 0 | AS30: =SUM(ENE:MAR!AS30) -> 0
H31: Paciente amputado: Amputados de miembro superior severo | AC31: =SUM(ENE:MAR!AC31:AF31) -> 0 | AG31: =SUM(ENE:MAR!AG31:AH31) -> 0 | AI31: =SUM(ENE:MAR!AI31:AK31) -> 0 | AL31: =SUM(ENE:MAR!AL31) -> 0 | AM31: =SUM(ENE:MAR!AM31) -> 0 | AN31: =SUM(ENE:MAR!AN31) -> 0 | AO31: =SUM(ENE:MAR!AO31) -> 0 | AP31: =SUM(ENE:MAR!AP31) -> 0 | AQ31: =SUM(ENE:MAR!AQ31) -> 0 | AR31: =SUM(ENE:MAR!AR31) -> 0 | AS31: =SUM(ENE:MAR!AS31) -> 0
H32: Paciente amputado: Amputados de miembro superior rehabilitado | AC32: =SUM(ENE:MAR!AC32:AF32) -> 0 | AG32: =SUM(ENE:MAR!AG32:AH32) -> 0 | AI32: =SUM(ENE:MAR!AI32:AK32) -> 0 | AL32: =SUM(ENE:MAR!AL32) -> 0 | AM32: =SUM(ENE:MAR!AM32) -> 0 | AN32: =SUM(ENE:MAR!AN32) -> 0 | AO32: =SUM(ENE:MAR!AO32) -> 0 | AP32: =SUM(ENE:MAR!AP32) -> 0 | AQ32: =SUM(ENE:MAR!AQ32) -> 0 | AR32: =SUM(ENE:MAR!AR32) -> 0 | AS32: =SUM(ENE:MAR!AS32) -> 0
H33: Paciente amputado: Amputados de miembro superior discapacitado | AC33: =SUM(ENE:MAR!AC33:AF33) -> 0 | AG33: =SUM(ENE:MAR!AG33:AH33) -> 0 | AI33: =SUM(ENE:MAR!AI33:AK33) -> 0 | AL33: =SUM(ENE:MAR!AL33) -> 0 | AM33: =SUM(ENE:MAR!AM33) -> 0 | AN33: =SUM(ENE:MAR!AN33) -> 0 | AO33: =SUM(ENE:MAR!AO33) -> 0 | AP33: =SUM(ENE:MAR!AP33) -> 0 | AQ33: =SUM(ENE:MAR!AQ33) -> 0 | AR33: =SUM(ENE:MAR!AR33) -> 0 | AS33: =SUM(ENE:MAR!AS33) -> 0
H34: Paciente amputado: Amputados de miembro superior con servicio de evaluación, calificación y certificación de la discapacidad | AC34: =SUM(ENE:MAR!AC34:AF34) -> 0 | AG34: =SUM(ENE:MAR!AG34:AH34) -> 0 | AI34: =SUM(ENE:MAR!AI34:AK34) -> 0 | AL34: =SUM(ENE:MAR!AL34) -> 0 | AM34: =SUM(ENE:MAR!AM34) -> 0 | AN34: =SUM(ENE:MAR!AN34) -> 0 | AO34: =SUM(ENE:MAR!AO34) -> 0 | AP34: =SUM(ENE:MAR!AP34) -> 0 | AQ34: =SUM(ENE:MAR!AQ34) -> 0 | AR34: =SUM(ENE:MAR!AR34) -> 0 | AS34: =SUM(ENE:MAR!AS34) -> 0
H35: Paciente amputado: Amputados de miembro superior con consulta ambulatoria para la evaluación y manejo de un usuario de salud nuevo nivel de atención I (Prescripción de la ayuda técnica o producto de apoyo) | AC35: =SUM(ENE:MAR!AC35:AF35) -> 0 | AG35: =SUM(ENE:MAR!AG35:AH35) -> 0 | AI35: =SUM(ENE:MAR!AI35:AK35) -> 0 | AL35: =SUM(ENE:MAR!AL35) -> 0 | AM35: =SUM(ENE:MAR!AM35) -> 0 | AN35: =SUM(ENE:MAR!AN35) -> 0 | AO35: =SUM(ENE:MAR!AO35) -> 0 | AP35: =SUM(ENE:MAR!AP35) -> 0 | AQ35: =SUM(ENE:MAR!AQ35) -> 0 | AR35: =SUM(ENE:MAR!AR35) -> 0 | AS35: =SUM(ENE:MAR!AS35) -> 0
H36: Paciente amputado: Amputados de miembro superior con consulta ambulatoria para la evaluación y manejo de un usuario de salud nuevo nivel de atención II (Prescripción de la ayuda técnica o producto de apoyo). | AC36: =SUM(ENE:MAR!AC36:AF36) -> 0 | AG36: =SUM(ENE:MAR!AG36:AH36) -> 0 | AI36: =SUM(ENE:MAR!AI36:AK36) -> 0 | AL36: =SUM(ENE:MAR!AL36) -> 0 | AM36: =SUM(ENE:MAR!AM36) -> 0 | AN36: =SUM(ENE:MAR!AN36) -> 0 | AO36: =SUM(ENE:MAR!AO36) -> 0 | AP36: =SUM(ENE:MAR!AP36) -> 0 | AQ36: =SUM(ENE:MAR!AQ36) -> 0 | AR36: =SUM(ENE:MAR!AR36) -> 0 | AS36: =SUM(ENE:MAR!AS36) -> 0
H37: Paciente amputado: Amputados de miembro superior con consulta ambulatoria para la evaluación y manejo de un usuario de salud nuevo nivel de atención III (Prescripción de la ayuda técnica o producto de apoyo). | AC37: =SUM(ENE:MAR!AC37:AF37) -> 0 | AG37: =SUM(ENE:MAR!AG37:AH37) -> 0 | AI37: =SUM(ENE:MAR!AI37:AK37) -> 0 | AL37: =SUM(ENE:MAR!AL37) -> 0 | AM37: =SUM(ENE:MAR!AM37) -> 0 | AN37: =SUM(ENE:MAR!AN37) -> 0 | AO37: =SUM(ENE:MAR!AO37) -> 0 | AP37: =SUM(ENE:MAR!AP37) -> 0 | AQ37: =SUM(ENE:MAR!AQ37) -> 0 | AR37: =SUM(ENE:MAR!AR37) -> 0 | AS37: =SUM(ENE:MAR!AS37) -> 0
H38: Paciente amputado: Amputados de miembro superior con revisión final para el uso de dispositivos ortóticos/protésicos usuario de salud establecido (Entrega de la ayuda técnica o producto de apoyo | AC38: =SUM(ENE:MAR!AC38:AF38) -> 0 | AG38: =SUM(ENE:MAR!AG38:AH38) -> 0 | AI38: =SUM(ENE:MAR!AI38:AK38) -> 0 | AL38: =SUM(ENE:MAR!AL38) -> 0 | AM38: =SUM(ENE:MAR!AM38) -> 0 | AN38: =SUM(ENE:MAR!AN38) -> 0 | AO38: =SUM(ENE:MAR!AO38) -> 0 | AP38: =SUM(ENE:MAR!AP38) -> 0 | AQ38: =SUM(ENE:MAR!AQ38) -> 0 | AR38: =SUM(ENE:MAR!AR38) -> 0 | AS38: =SUM(ENE:MAR!AS38) -> 0
B39: Paciente amputado: Amputados de miembro inferior | H39: Paciente amputado: Amputados de miembro inferior con severidad leve | AC39: =SUM(ENE:MAR!AC39:AF39) -> 0 | AG39: =SUM(ENE:MAR!AG39:AH39) -> 0 | AI39: =SUM(ENE:MAR!AI39:AK39) -> 0 | AL39: =SUM(ENE:MAR!AL39) -> 0 | AM39: =SUM(ENE:MAR!AM39) -> 0 | AN39: =SUM(ENE:MAR!AN39) -> 0 | AO39: =SUM(ENE:MAR!AO39) -> 0 | AP39: =SUM(ENE:MAR!AP39) -> 0 | AQ39: =SUM(ENE:MAR!AQ39) -> 0 | AR39: =SUM(ENE:MAR!AR39) -> 0 | AS39: =SUM(ENE:MAR!AS39) -> 0
H40: Paciente amputado: Amputados de miembro inferior con severidad moderada | AC40: =SUM(ENE:MAR!AC40:AF40) -> 0 | AG40: =SUM(ENE:MAR!AG40:AH40) -> 0 | AI40: =SUM(ENE:MAR!AI40:AK40) -> 0 | AL40: =SUM(ENE:MAR!AL40) -> 0 | AM40: =SUM(ENE:MAR!AM40) -> 0 | AN40: =SUM(ENE:MAR!AN40) -> 0 | AO40: =SUM(ENE:MAR!AO40) -> 0 | AP40: =SUM(ENE:MAR!AP40) -> 0 | AQ40: =SUM(ENE:MAR!AQ40) -> 0 | AR40: =SUM(ENE:MAR!AR40) -> 0 | AS40: =SUM(ENE:MAR!AS40) -> 0
H41: Paciente amputado: Amputados de miembro inferior severo | AC41: =SUM(ENE:MAR!AC41:AF41) -> 0 | AG41: =SUM(ENE:MAR!AG41:AH41) -> 0 | AI41: =SUM(ENE:MAR!AI41:AK41) -> 0 | AL41: =SUM(ENE:MAR!AL41) -> 0 | AM41: =SUM(ENE:MAR!AM41) -> 0 | AN41: =SUM(ENE:MAR!AN41) -> 0 | AO41: =SUM(ENE:MAR!AO41) -> 0 | AP41: =SUM(ENE:MAR!AP41) -> 0 | AQ41: =SUM(ENE:MAR!AQ41) -> 0 | AR41: =SUM(ENE:MAR!AR41) -> 0 | AS41: =SUM(ENE:MAR!AS41) -> 0
H42: Paciente amputado: Amputados de miembro inferior rehabilitado | AC42: =SUM(ENE:MAR!AC42:AF42) -> 0 | AG42: =SUM(ENE:MAR!AG42:AH42) -> 0 | AI42: =SUM(ENE:MAR!AI42:AK42) -> 0 | AL42: =SUM(ENE:MAR!AL42) -> 0 | AM42: =SUM(ENE:MAR!AM42) -> 0 | AN42: =SUM(ENE:MAR!AN42) -> 0 | AO42: =SUM(ENE:MAR!AO42) -> 0 | AP42: =SUM(ENE:MAR!AP42) -> 0 | AQ42: =SUM(ENE:MAR!AQ42) -> 0 | AR42: =SUM(ENE:MAR!AR42) -> 0 | AS42: =SUM(ENE:MAR!AS42) -> 0
H43: Paciente amputado: Amputados de miembro inferior con discapacidad | AC43: =SUM(ENE:MAR!AC43:AF43) -> 0 | AG43: =SUM(ENE:MAR!AG43:AH43) -> 0 | AI43: =SUM(ENE:MAR!AI43:AK43) -> 0 | AL43: =SUM(ENE:MAR!AL43) -> 0 | AM43: =SUM(ENE:MAR!AM43) -> 0 | AN43: =SUM(ENE:MAR!AN43) -> 0 | AO43: =SUM(ENE:MAR!AO43) -> 0 | AP43: =SUM(ENE:MAR!AP43) -> 0 | AQ43: =SUM(ENE:MAR!AQ43) -> 0 | AR43: =SUM(ENE:MAR!AR43) -> 0 | AS43: =SUM(ENE:MAR!AS43) -> 0
H44: Paciente amputado: Amputados de miembro inferior con servicio de evaluación, calificación y certificación de la discapacidad | AC44: =SUM(ENE:MAR!AC44:AF44) -> 0 | AG44: =SUM(ENE:MAR!AG44:AH44) -> 0 | AI44: =SUM(ENE:MAR!AI44:AK44) -> 0 | AL44: =SUM(ENE:MAR!AL44) -> 0 | AM44: =SUM(ENE:MAR!AM44) -> 0 | AN44: =SUM(ENE:MAR!AN44) -> 0 | AO44: =SUM(ENE:MAR!AO44) -> 0 | AP44: =SUM(ENE:MAR!AP44) -> 0 | AQ44: =SUM(ENE:MAR!AQ44) -> 0 | AR44: =SUM(ENE:MAR!AR44) -> 0 | AS44: =SUM(ENE:MAR!AS44) -> 0
H45: Paciente amputado: Amputados de miembro inferior con consulta ambulatoria para la evaluación y manejo de un usuario de salud nuevo nivel de atención I (Prescripción de la ayuda técnica o producto de apoyo) | AC45: =SUM(ENE:MAR!AC45:AF45) -> 0 | AG45: =SUM(ENE:MAR!AG45:AH45) -> 0 | AI45: =SUM(ENE:MAR!AI45:AK45) -> 0 | AL45: =SUM(ENE:MAR!AL45) -> 0 | AM45: =SUM(ENE:MAR!AM45) -> 0 | AN45: =SUM(ENE:MAR!AN45) -> 0 | AO45: =SUM(ENE:MAR!AO45) -> 0 | AP45: =SUM(ENE:MAR!AP45) -> 0 | AQ45: =SUM(ENE:MAR!AQ45) -> 0 | AR45: =SUM(ENE:MAR!AR45) -> 0 | AS45: =SUM(ENE:MAR!AS45) -> 0
H46: Paciente amputado: Amputados de miembro inferior con consulta ambulatoria para la evaluación y manejo de un usuario de salud nuevo nivel de atención II (Prescripción de la ayuda técnica o producto de apoyo). | AC46: =SUM(ENE:MAR!AC46:AF46) -> 0 | AG46: =SUM(ENE:MAR!AG46:AH46) -> 0 | AI46: =SUM(ENE:MAR!AI46:AK46) -> 0 | AL46: =SUM(ENE:MAR!AL46) -> 0 | AM46: =SUM(ENE:MAR!AM46) -> 0 | AN46: =SUM(ENE:MAR!AN46) -> 0 | AO46: =SUM(ENE:MAR!AO46) -> 0 | AP46: =SUM(ENE:MAR!AP46) -> 0 | AQ46: =SUM(ENE:MAR!AQ46) -> 0 | AR46: =SUM(ENE:MAR!AR46) -> 0 | AS46: =SUM(ENE:MAR!AS46) -> 0
H47: Paciente amputado: Amputados de miembro inferior con consulta ambulatoria para la evaluación y manejo de un usuario de salud nuevo nivel de atención III (Prescripción de la ayuda técnica o producto de apoyo). | AC47: =SUM(ENE:MAR!AC47:AF47) -> 0 | AG47: =SUM(ENE:MAR!AG47:AH47) -> 0 | AI47: =SUM(ENE:MAR!AI47:AK47) -> 0 | AL47: =SUM(ENE:MAR!AL47) -> 0 | AM47: =SUM(ENE:MAR!AM47) -> 0 | AN47: =SUM(ENE:MAR!AN47) -> 0 | AO47: =SUM(ENE:MAR!AO47) -> 0 | AP47: =SUM(ENE:MAR!AP47) -> 0 | AQ47: =SUM(ENE:MAR!AQ47) -> 0 | AR47: =SUM(ENE:MAR!AR47) -> 0 | AS47: =SUM(ENE:MAR!AS47) -> 0
H48: Paciente amputado: Amputados de miembro inferior con revisión final para el uso de dispositivos ortóticos/protésicos usuario de salud establecido (Entrega de la ayuda técnica o producto de apoyo). | AC48: =SUM(ENE:MAR!AC48:AF48) -> 0 | AG48: =SUM(ENE:MAR!AG48:AH48) -> 0 | AI48: =SUM(ENE:MAR!AI48:AK48) -> 0 | AL48: =SUM(ENE:MAR!AL48) -> 0 | AM48: =SUM(ENE:MAR!AM48) -> 0 | AN48: =SUM(ENE:MAR!AN48) -> 0 | AO48: =SUM(ENE:MAR!AO48) -> 0 | AP48: =SUM(ENE:MAR!AP48) -> 0 | AQ48: =SUM(ENE:MAR!AQ48) -> 0 | AR48: =SUM(ENE:MAR!AR48) -> 0 | AS48: =SUM(ENE:MAR!AS48) -> 0
...

Sheet ABR
A3: REPORTE DE ACTIVIDADES DEL COMPONENTE DE DISCAPACIDAD
A5: Periodo: Abril - 2025
A6: Diresa/Red/M.Red/EE.SS: AREQUIPA/AREQUIPA CAYLLOMA/TIABAYA/TODOS LOS EE.SS
A8: PERSONAS CON DISCAPACIDAD RECIBEN ATENCION DE REHABILITACION EN ESTABLECIMIENTOS DE SALUD (3000688)
A10: Capacitación en medicina de rehabilitación integral (5004449)
B12: N° | C12: Capacitados
A13: Capacitación personal médido rehabilitador
A15: Atención de Rehabilitación en Personas con Discapacidad de Tipo Física (5005150)
A17: GRUPO | B17: ATENCIONES | AC17: Total | AG17: 00a-11a | AL17: 12a-17a | AN17: 18a-29a | AP17: 30a-59a | AR17: 60a+
AG18: M | AI18: F | AL18: M | AM18: F | AN18: M | AO18: F | AP18: M | AQ18: F | AR18: M | AS18: F
A19: 0515001 LESIONES MEDULARES | B19: Lesiones medulares | H19: Lesiones medulares con severidad leve
H20: Lesiones medulares con severidad moderada
H21: Lesiones medulares severas
H22: Lesiones medulares en personas rehabilitadas
H23: Lesiones medulares en personas con discapacidad
H24: Lesiones medulares con servicio de evaluación, calificación y certificación de la discapacidad
H25: Lesiones medulares con consulta ambulatoria para la evaluación y manejo de un usuario de salud nuevo nivel de atención I (Prescripción de la ayuda técnica o producto de apoyo)
H26: Lesiones medulares con consulta ambulatoria para la evaluación y manejo de un usuario de salud nuevo nivel de atención III (Prescripción de la ayuda técnica o producto de apoyo).
H27: Lesiones medulares con consulta ambulatoria para la evaluación y manejo de un usuario de salud nuevo nivel de atención II (Prescripción de la ayuda técnica o producto de apoyo).
H28: Lesiones medulares con revisión final para el uso de dispositivos ortóticos/protésicos usuario de salud establecido (Entrega de la ayuda técnica o producto de apoyo).
A29: 0515013 REHABILITACIÓN EN PACIENTES AMPUTADOS | B29: Paciente amputado: Amputados de miembro superior | H29: Paciente amputado: Amputados de miembro superior con severidad leve
H30: Paciente amputado: Amputados de miembro superir con severidad moderado
H31: Paciente amputado: Amputados de miembro superior severo
H32: Paciente amputado: Amputados de miembro superior rehabilitado
H33: Paciente amputado: Amputados de miembro superior discapacitado
H34: Paciente amputado: Amputados de miembro superior con servicio de evaluación, calificación y certificación de la discapacidad
H35: Paciente amputado: Amputados de miembro superior con consulta ambulatoria para la evaluación y manejo de un usuario de salud nuevo nivel de atención I (Prescripción de la ayuda técnica o producto de apoyo)
H36: Paciente amputado: Amputados de miembro superior con consulta ambulatoria para la evaluación y manejo de un usuario de salud nuevo nivel de atención II (Prescripción de la ayuda técnica o producto de apoyo).
H37: Paciente amputado: Amputados de miembro superior con consulta ambulatoria para la evaluación y manejo de un usuario de salud nuevo nivel de atención III (Prescripción de la ayuda técnica o producto de apoyo).
H38: Paciente amputado: Amputados de miembro superior con revisión final para el uso de dispositivos ortóticos/protésicos usuario de salud establecido (Entrega de la ayuda técnica o producto de apoyo
B39: Paciente amputado: Amputados de miembro inferior | H39: Paciente amputado: Amputados de miembro inferior con severidad leve
H40: Paciente amputado: Amputados de miembro inferior con severidad moderada
H41: Paciente amputado: Amputados de miembro inferior severo
H42: Paciente amputado: Amputados de miembro inferior rehabilitado
H43: Paciente amputado: Amputados de miembro inferior con discapacidad
H44: Paciente amputado: Amputados de miembro inferior con servicio de evaluación, calificación y certificación de la discapacidad
H45: Paciente amputado: Amputados de miembro inferior con consulta ambulatoria para la evaluación y manejo de un usuario de salud nuevo nivel de atención I (Prescripción de la ayuda técnica o producto de apoyo)
H46: Paciente amputado: Amputados de miembro inferior con consulta ambulatoria para la evaluación y manejo de un usuario de salud nuevo nivel de atención II (Prescripción de la ayuda técnica o producto de apoyo).
H47: Paciente amputado: Amputados de miembro inferior con consulta ambulatoria para la evaluación y manejo de un usuario de salud nuevo nivel de atención III (Prescripción de la ayuda técnica o producto de apoyo).
H48: Paciente amputado: Amputados de miembro inferior con revisión final para el uso de dispositivos ortóticos/protésicos usuario de salud establecido (Entrega de la ayuda técnica o producto de apoyo).
...

Sheet MAY
A3: REPORTE DE ACTIVIDADES DEL COMPONENTE DE DISCAPACIDAD
A5: Periodo: Mayo - 2025
A6: Diresa/Red/M.Red/EE.SS: AREQUIPA/AREQUIPA CAYLLOMA/TIABAYA/TODOS LOS EE.SS
A8: PERSONAS CON DISCAPACIDAD RECIBEN ATENCION DE REHABILITACION EN ESTABLECIMIENTOS DE SALUD (3000688)
A10: Capacitación en medicina de rehabilitación integral (5004449)
B12: N° | C12: Capacitados
A13: Capacitación personal médido rehabilitador
A15: Atención de Rehabilitación en Personas con Discapacidad de Tipo Física (5005150)
A17: GRUPO | B17: ATENCIONES | AC17: Total | AG17: 00a-11a | AL17: 12a-17a | AN17: 18a-29a | AP17: 30a-59a | AR17: 60a+
AG18: M | AI18: F | AL18: M | AM18: F | AN18: M | AO18: F | AP18: M | AQ18: F | AR18: M | AS18: F
A19: 0515001 LESIONES MEDULARES | B19: Lesiones medulares | H19: Lesiones medulares con severidad leve
H20: Lesiones medulares con severidad moderada
H21: Lesiones medulares severas
H22: Lesiones medulares en personas rehabilitadas
H23: Lesiones medulares en personas con discapacidad
H24: Lesiones medulares con servicio de evaluación, calificación y certificación de la discapacidad
H25: Lesiones medulares con consulta ambulatoria para la evaluación y manejo de un usuario de salud nuevo nivel de atención I (Prescripción de la ayuda técnica o producto de apoyo)
H26: Lesiones medulares con consulta ambulatoria para la evaluación y manejo de un usuario de salud nuevo nivel de atención III (Prescripción de la ayuda técnica o producto de apoyo).
H27: Lesiones medulares con consulta ambulatoria para la evaluación y manejo de un usuario de salud nuevo nivel de atención II (Prescripción de la ayuda técnica o producto de apoyo).
H28: Lesiones medulares con revisión final para el uso de dispositivos ortóticos/protésicos usuario de salud establecido (Entrega de la ayuda técnica o producto de apoyo).
A29: 0515013 REHABILITACIÓN EN PACIENTES AMPUTADOS | B29: Paciente amputado: Amputados de miembro superior | H29: Paciente amputado: Amputados de miembro superior con severidad leve
H30: Paciente amputado: Amputados de miembro superir con severidad moderado
H31: Paciente amputado: Amputados de miembro superior severo
H32: Paciente amputado: Amputados de miembro superior rehabilitado
H33: Paciente amputado: Amputados de miembro superior discapacitado
H34: Paciente amputado: Amputados de miembro superior con servicio de evaluación, calificación y certificación de la discapacidad
H35: Paciente amputado: Amputados de miembro superior con consulta ambulatoria para la evaluación y manejo de un usuario de salud nuevo nivel de atención I (Prescripción de la ayuda técnica o producto de apoyo)
H36: Paciente amputado: Amputados de miembro superior con consulta ambulatoria para la evaluación y manejo de un usuario de salud nuevo nivel de atención II (Prescripción de la ayuda técnica o producto de apoyo).
H37: Paciente amputado: Amputados de miembro superior con consulta ambulatoria para la evaluación y manejo de un usuario de salud nuevo nivel de atención III (Prescripción de la ayuda técnica o producto de apoyo).
H38: Paciente amputado: Amputados de miembro superior con revisión final para el uso de dispositivos ortóticos/protésicos usuario de salud establecido (Entrega de la ayuda técnica o producto de apoyo
B39: Paciente amputado: Amputados de miembro inferior | H39: Paciente amputado: Amputados de miembro inferior con severidad leve
H40: Paciente amputado: Amputados de miembro inferior con severidad moderada
H41: Paciente amputado: Amputados de miembro inferior severo
H42: Paciente amputado: Amputados de miembro inferior rehabilitado
H43: Paciente amputado: Amputados de miembro inferior con discapacidad
H44: Paciente amputado: Amputados de miembro inferior con servicio de evaluación, calificación y certificación de la discapacidad
H45: Paciente amputado: Amputados de miembro inferior con consulta ambulatoria para la evaluación y manejo de un usuario de salud nuevo nivel de atención I (Prescripción de la ayuda técnica o producto de apoyo)
H46: Paciente amputado: Amputados de miembro inferior con consulta ambulatoria para la evaluación y manejo de un usuario de salud nuevo nivel de atención II (Prescripción de la ayuda técnica o producto de apoyo).
H47: Paciente amputado: Amputados de miembro inferior con consulta ambulatoria para la evaluación y manejo de un usuario de salud nuevo nivel de atención III (Prescripción de la ayuda técnica o producto de apoyo).
H48: Paciente amputado: Amputados de miembro inferior con revisión final para el uso de dispositivos ortóticos/protésicos usuario de salud establecido (Entrega de la ayuda técnica o producto de apoyo).
...

Sheet JUN
A3: REPORTE DE ACTIVIDADES DEL COMPONENTE DE DISCAPACIDAD
A5: Periodo: Junio - 2025
A6: Diresa/Red/M.Red/EE.SS: AREQUIPA/AREQUIPA CAYLLOMA/TIABAYA/TODOS LOS EE.SS
A8: PERSONAS CON DISCAPACIDAD RECIBEN ATENCION DE REHABILITACION EN ESTABLECIMIENTOS DE SALUD (3000688)
A10: Capacitación en medicina de rehabilitación integral (5004449)
B12: N° | C12: Capacitados
A13: Capacitación personal médido rehabilitador | B13: =SUM(ENE:MAR!B13) -> 0 | C13: =SUM(ENE:MAR!C13:E13) -> 0
A15: Atención de Rehabilitación en Personas con Discapacidad de Tipo Física (5005150)
A17: GRUPO | B17: ATENCIONES | AC17: Total | AG17: 00a-11a | AL17: 12a-17a | AN17: 18a-29a | AP17: 30a-59a | AR17: 60a+
AG18: M | AI18: F | AL18: M | AM18: F | AN18: M | AO18: F | AP18: M | AQ18: F | AR18: M | AS18: F
A19: 0515001 LESIONES MEDULARES | B19: Lesiones medulares | H19: Lesiones medulares con severidad leve
H20: Lesiones medulares con severidad moderada
H21: Lesiones medulares severas
H22: Lesiones medulares en personas rehabilitadas
H23: Lesiones medulares en personas con discapacidad
H24: Lesiones medulares con servicio de evaluación, calificación y certificación de la discapacidad
H25: Lesiones medulares con consulta ambulatoria para la evaluación y manejo de un usuario de salud nuevo nivel de atención I (Prescripción de la ayuda técnica o producto de apoyo)
H26: Lesiones medulares con consulta ambulatoria para la evaluación y manejo de un usuario de salud nuevo nivel de atención III (Prescripción de la ayuda técnica o producto de apoyo).
H27: Lesiones medulares con consulta ambulatoria para la evaluación y manejo de un usuario de salud nuevo nivel de atención II (Prescripción de la ayuda técnica o producto de apoyo).
H28: Lesiones medulares con revisión final para el uso de dispositivos ortóticos/protésicos usuario de salud establecido (Entrega de la ayuda técnica o producto de apoyo).
A29: 0515013 REHABILITACIÓN EN PACIENTES AMPUTADOS | B29: Paciente amputado: Amputados de miembro superior | H29: Paciente amputado: Amputados de miembro superior con severidad leve
H30: Paciente amputado: Amputados de miembro superir con severidad moderado
H31: Paciente amputado: Amputados de miembro superior severo
H32: Paciente amputado: Amputados de miembro superior rehabilitado
H33: Paciente amputado: Amputados de miembro superior discapacitado
H34: Paciente amputado: Amputados de miembro superior con servicio de evaluación, calificación y certificación de la discapacidad
H35: Paciente amputado: Amputados de miembro superior con consulta ambulatoria para la evaluación y manejo de un usuario de salud nuevo nivel de atención I (Prescripción de la ayuda técnica o producto de apoyo)
H36: Paciente amputado: Amputados de miembro superior con consulta ambulatoria para la evaluación y manejo de un usuario de salud nuevo nivel de atención II (Prescripción de la ayuda técnica o producto de apoyo).
H37: Paciente amputado: Amputados de miembro superior con consulta ambulatoria para la evaluación y manejo de un usuario de salud nuevo nivel de atención III (Prescripción de la ayuda técnica o producto de apoyo).
H38: Paciente amputado: Amputados de miembro superior con revisión final para el uso de dispositivos ortóticos/protésicos usuario de salud establecido (Entrega de la ayuda técnica o producto de apoyo
B39: Paciente amputado: Amputados de miembro inferior | H39: Paciente amputado: Amputados de miembro inferior con severidad leve
H40: Paciente amputado: Amputados de miembro inferior con severidad moderada
H41: Paciente amputado: Amputados de miembro inferior severo
H42: Paciente amputado: Amputados de miembro inferior rehabilitado
H43: Paciente amputado: Amputados de miembro inferior con discapacidad
H44: Paciente amputado: Amputados de miembro inferior con servicio de evaluación, calificación y certificación de la discapacidad
H45: Paciente amputado: Amputados de miembro inferior con consulta ambulatoria para la evaluación y manejo de un usuario de salud nuevo nivel de atención I (Prescripción de la ayuda técnica o producto de apoyo)
H46: Paciente amputado: Amputados de miembro inferior con consulta ambulatoria para la evaluación y manejo de un usuario de salud nuevo nivel de atención II (Prescripción de la ayuda técnica o producto de apoyo).
H47: Paciente amputado: Amputados de miembro inferior con consulta ambulatoria para la evaluación y manejo de un usuario de salud nuevo nivel de atención III (Prescripción de la ayuda técnica o producto de apoyo).
H48: Paciente amputado: Amputados de miembro inferior con revisión final para el uso de dispositivos ortóticos/protésicos usuario de salud establecido (Entrega de la ayuda técnica o producto de apoyo).
...

Sheet II TRIM
A3: REPORTE DE ACTIVIDADES DEL COMPONENTE DE DISCAPACIDAD
A5: Periodo: Marzo - 2025
A6: Diresa/Red/M.Red/EE.SS: AREQUIPA/AREQUIPA CAYLLOMA/TIABAYA/TODOS LOS EE.SS
A8: PERSONAS CON DISCAPACIDAD RECIBEN ATENCION DE REHABILITACION EN ESTABLECIMIENTOS DE SALUD (3000688)
A10: Capacitación en medicina de rehabilitación integral (5004449)
B12: N° | C12: Capacitados
A13: Capacitación personal médido rehabilitador | B13: =SUM(ABR:JUN!B13) -> 0 | C13: =SUM(ABR:JUN!C13:E13) -> 0
A15: Atención de Rehabilitación en Personas con Discapacidad de Tipo Física (5005150)
A17: GRUPO | B17: ATENCIONES | AC17: Total | AG17: 00a-11a | AL17: 12a-17a | AN17: 18a-29a | AP17: 30a-59a | AR17: 60a+
AG18: M | AI18: F | AL18: M | AM18: F | AN18: M | AO18: F | AP18: M | AQ18: F | AR18: M | AS18: F
A19: 0515001 LESIONES MEDULARES | B19: Lesiones medulares | H19: Lesiones medulares con severidad leve | AC19: =SUM(ABR:JUN!AC19:AF19) -> 0 | AG19: =SUM(ABR:JUN!AG19:AH19) -> 0 | AI19: =SUM(ABR:JUN!AI19:AK19) -> 0 | AL19: =SUM(ABR:JUN!AL19) -> 0 | AM19: =SUM(ABR:JUN!AM19) -> 0 | AN19: =SUM(ABR:JUN!AN19) -> 0 | AO19: =SUM(ABR:JUN!AO19) -> 0 | AP19: =SUM(ABR:JUN!AP19) -> 0 | AQ19: =SUM(ABR:JUN!AQ19) -> 0 | AR19: =SUM(ABR:JUN!AR19) -> 0 | AS19: =SUM(ABR:JUN!AS19) -> 0
H20: Lesiones medulares con severidad moderada | AC20: =SUM(ABR:JUN!AC20:AF20) -> 0 | AG20: =SUM(ABR:JUN!AG20:AH20) -> 0 | AI20: =SUM(ABR:JUN!AI20:AK20) -> 0 | AL20: =SUM(ABR:JUN!AL20) -> 0 | AM20: =SUM(ABR:JUN!AM20) -> 0 | AN20: =SUM(ABR:JUN!AN20) -> 0 | AO20: =SUM(ABR:JUN!AO20) -> 0 | AP20: =SUM(ABR:JUN!AP20) -> 0 | AQ20: =SUM(ABR:JUN!AQ20) -> 0 | AR20: =SUM(ABR:JUN!AR20) -> 0 | AS20: =SUM(ABR:JUN!AS20) -> 0
H21: Lesiones medulares severas | AC21: =SUM(ABR:JUN!AC21:AF21) -> 0 | AG21: =SUM(ABR:JUN!AG21:AH21) -> 0 | AI21: =SUM(ABR:JUN!AI21:AK21) -> 0 | AL21: =SUM(ABR:JUN!AL21) -> 0 | AM21: =SUM(ABR:JUN!AM21) -> 0 | AN21: =SUM(ABR:JUN!AN21) -> 0 | AO21: =SUM(ABR:JUN!AO21) -> 0 | AP21: =SUM(ABR:JUN!AP21) -> 0 | AQ21: =SUM(ABR:JUN!AQ21) -> 0 | AR21: =SUM(ABR:JUN!AR21) -> 0 | AS21: =SUM(ABR:JUN!AS21) -> 0
H22: Lesiones medulares en personas rehabilitadas | AC22: =SUM(ABR:JUN!AC22:AF22) -> 0 | AG22: =SUM(ABR:JUN!AG22:AH22) -> 0 | AI22: =SUM(ABR:JUN!AI22:AK22) -> 0 | AL22: =SUM(ABR:JUN!AL22) -> 0 | AM22: =SUM(ABR:JUN!AM22) -> 0 | AN22: =SUM(ABR:JUN!AN22) -> 0 | AO22: =SUM(ABR:JUN!AO22) -> 0 | AP22: =SUM(ABR:JUN!AP22) -> 0 | AQ22: =SUM(ABR:JUN!AQ22) -> 0 | AR22: =SUM(ABR:JUN!AR22) -> 0 | AS22: =SUM(ABR:JUN!AS22) -> 0
H23: Lesiones medulares en personas con discapacidad | AC23: =SUM(ABR:JUN!AC23:AF23) -> 0 | AG23: =SUM(ABR:JUN!AG23:AH23) -> 0 | AI23: =SUM(ABR:JUN!AI23:AK23) -> 0 | AL23: =SUM(ABR:JUN!AL23) -> 0 | AM23: =SUM(ABR:JUN!AM23) -> 0 | AN23: =SUM(ABR:JUN!AN23) -> 0 | AO23: =SUM(ABR:JUN!AO23) -> 0 | AP23: =SUM(ABR:JUN!AP23) -> 0 | AQ23: =SUM(ABR:JUN!AQ23) -> 0 | AR23: =SUM(ABR:JUN!AR23) -> 0 | AS23: =SUM(ABR:JUN!AS23) -> 0
H24: Lesiones medulares con servicio de evaluación, calificación y certificación de la discapacidad | AC24: =SUM(ABR:JUN!AC24:AF24) -> 0 | AG24: =SUM(ABR:JUN!AG24:AH24) -> 0 | AI24: =SUM(ABR:JUN!AI24:AK24) -> 0 | AL24: =SUM(ABR:JUN!AL24) -> 0 | AM24: =SUM(ABR:JUN!AM24) -> 0 | AN24: =SUM(ABR:JUN!AN24) -> 0 | AO24: =SUM(ABR:JUN!AO24) -> 0 | AP24: =SUM(ABR:JUN!AP24) -> 0 | AQ24: =SUM(ABR:JUN!AQ24) -> 0 | AR24: =SUM(ABR:JUN!AR24) -> 0 | AS24: =SUM(ABR:JUN!AS24) -> 0
H25: Lesiones medulares con consulta ambulatoria para la evaluación y manejo de un usuario de salud nuevo nivel de atención I (Prescripción de la ayuda técnica o producto de apoyo) | AC25: =SUM(ABR:JUN!AC25:AF25) -> 0 | AG25: =SUM(ABR:JUN!AG25:AH25) -> 0 | AI25: =SUM(ABR:JUN!AI25:AK25) -> 0 | AL25: =SUM(ABR:JUN!AL25) -> 0 | AM25: =SUM(ABR:JUN!AM25) -> 0 | AN25: =SUM(ABR:JUN!AN25) -> 0 | AO25: =SUM(ABR:JUN!AO25) -> 0 | AP25: =SUM(ABR:JUN!AP25) -> 0 | AQ25: =SUM(ABR:JUN!AQ25) -> 0 | AR25: =SUM(ABR:JUN!AR25) -> 0 | AS25: =SUM(ABR:JUN!AS25) -> 0
H26: Lesiones medulares con consulta ambulatoria para la evaluación y manejo de un usuario de salud nuevo nivel de atención III (Prescripción de la ayuda técnica o producto de apoyo). | AC26: =SUM(ABR:JUN!AC26:AF26) -> 0 | AG26: =SUM(ABR:JUN!AG26:AH26) -> 0 | AI26: =SUM(ABR:JUN!AI26:AK26) -> 0 | AL26: =SUM(ABR:JUN!AL26) -> 0 | AM26: =SUM(ABR:JUN!AM26) -> 0 | AN26: =SUM(ABR:JUN!AN26) -> 0 | AO26: =SUM(ABR:JUN!AO26) -> 0 | AP26: =SUM(ABR:JUN!AP26) -> 0 | AQ26: =SUM(ABR:JUN!AQ26) -> 0 | AR26: =SUM(ABR:JUN!AR26) -> 0 | AS26: =SUM(ABR:JUN!AS26) -> 0
H27: Lesiones medulares con consulta ambulatoria para la evaluación y manejo de un usuario de salud nuevo nivel de atención II (Prescripción de la ayuda técnica o producto de apoyo). | AC27: =SUM(ABR:JUN!AC27:AF27) -> 0 | AG27: =SUM(ABR:JUN!AG27:AH27) -> 0 | AI27: =SUM(ABR:JUN!AI27:AK27) -> 0 | AL27: =SUM(ABR:JUN!AL27) -> 0 | AM27: =SUM(ABR:JUN!AM27) -> 0 | AN27: =SUM(ABR:JUN!AN27) -> 0 | AO27: =SUM(ABR:JUN!AO27) -> 0 | AP27: =SUM(ABR:JUN!AP27) -> 0 | AQ27: =SUM(ABR:JUN!AQ27) -> 0 | AR27: =SUM(ABR:JUN!AR27) -> 0 | AS27: =SUM(ABR:JUN!AS27) -> 0
H28: Lesiones medulares con revisión final para el uso de dispositivos ortóticos/protésicos usuario de salud establecido (Entrega de la ayuda técnica o producto de apoyo). | AC28: =SUM(ABR:JUN!AC28:AF28) -> 0 | AG28: =SUM(ABR:JUN!AG28:AH28) -> 0 | AI28: =SUM(ABR:JUN!AI28:AK28) -> 0 | AL28: =SUM(ABR:JUN!AL28) -> 0 | AM28: =SUM(ABR:JUN!AM28) -> 0 | AN28: =SUM(ABR:JUN!AN28) -> 0 | AO28: =SUM(ABR:JUN!AO28) -> 0 | AP28: =SUM(ABR:JUN!AP28) -> 0 | AQ28: =SUM(ABR:JUN!AQ28) -> 0 | AR28: =SUM(ABR:JUN!AR28) -> 0 | AS28: =SUM(ABR:JUN!AS28) -> 0
A29: 0515013 REHABILITACIÓN EN PACIENTES AMPUTADOS | B29: Paciente amputado: Amputados de miembro superior | H29: Paciente amputado: Amputados de miembro superior con severidad leve | AC29: =SUM(ABR:JUN!AC29:AF29) -> 0 | AG29: =SUM(ABR:JUN!AG29:AH29) -> 0 | AI29: =SUM(ABR:JUN!AI29:AK29) -> 0 | AL29: =SUM(ABR:JUN!AL29) -> 0 | AM29: =SUM(ABR:JUN!AM29) -> 0 | AN29: =SUM(ABR:JUN!AN29) -> 0 | AO29: =SUM(ABR:JUN!AO29) -> 0 | AP29: =SUM(ABR:JUN!AP29) -> 0 | AQ29: =SUM(ABR:JUN!AQ29) -> 0 | AR29: =SUM(ABR:JUN!AR29) -> 0 | AS29: =SUM(ABR:JUN!AS29) -> 0
H30: Paciente amputado: Amputados de miembro superir con severidad moderado | AC30: =SUM(ABR:JUN!AC30:AF30) -> 0 | AG30: =SUM(ABR:JUN!AG30:AH30) -> 0 | AI30: =SUM(ABR:JUN!AI30:AK30) -> 0 | AL30: =SUM(ABR:JUN!AL30) -> 0 | AM30: =SUM(ABR:JUN!AM30) -> 0 | AN30: =SUM(ABR:JUN!AN30) -> 0 | AO30: =SUM(ABR:JUN!AO30) -> 0 | AP30: =SUM(ABR:JUN!AP30) -> 0 | AQ30: =SUM(ABR:JUN!AQ30) -> 0 | AR30: =SUM(ABR:JUN!AR30) -> 0 | AS30: =SUM(ABR:JUN!AS30) -> 0
H31: Paciente amputado: Amputados de miembro superior severo | AC31: =SUM(ABR:JUN!AC31:AF31) -> 0 | AG31: =SUM(ABR:JUN!AG31:AH31) -> 0 | AI31: =SUM(ABR:JUN!AI31:AK31) -> 0 | AL31: =SUM(ABR:JUN!AL31) -> 0 | AM31: =SUM(ABR:JUN!AM31) -> 0 | AN31: =SUM(ABR:JUN!AN31) -> 0 | AO31: =SUM(ABR:JUN!AO31) -> 0 | AP31: =SUM(ABR:JUN!AP31) -> 0 | AQ31: =SUM(ABR:JUN!AQ31) -> 0 | AR31: =SUM(ABR:JUN!AR31) -> 0 | AS31: =SUM(ABR:JUN!AS31) -> 0
H32: Paciente amputado: Amputados de miembro superior rehabilitado | AC32: =SUM(ABR:JUN!AC32:AF32) -> 0 | AG32: =SUM(ABR:JUN!AG32:AH32) -> 0 | AI32: =SUM(ABR:JUN!AI32:AK32) -> 0 | AL32: =SUM(ABR:JUN!AL32) -> 0 | AM32: =SUM(ABR:JUN!AM32) -> 0 | AN32: =SUM(ABR:JUN!AN32) -> 0 | AO32: =SUM(ABR:JUN!AO32) -> 0 | AP32: =SUM(ABR:JUN!AP32) -> 0 | AQ32: =SUM(ABR:JUN!AQ32) -> 0 | AR32: =SUM(ABR:JUN!AR32) -> 0 | AS32: =SUM(ABR:JUN!AS32) -> 0
H33: Paciente amputado: Amputados de miembro superior discapacitado | AC33: =SUM(ABR:JUN!AC33:AF33) -> 0 | AG33: =SUM(ABR:JUN!AG33:AH33) -> 0 | AI33: =SUM(ABR:JUN!AI33:AK33) -> 0 | AL33: =SUM(ABR:JUN!AL33) -> 0 | AM33: =SUM(ABR:JUN!AM33) -> 0 | AN33: =SUM(ABR:JUN!AN33) -> 0 | AO33: =SUM(ABR:JUN!AO33) -> 0 | AP33: =SUM(ABR:JUN!AP33) -> 0 | AQ33: =SUM(ABR:JUN!AQ33) -> 0 | AR33: =SUM(ABR:JUN!AR33) -> 0 | AS33: =SUM(ABR:JUN!AS33) -> 0
H34: Paciente amputado: Amputados de miembro superior con servicio de evaluación, calificación y certificación de la discapacidad | AC34: =SUM(ABR:JUN!AC34:AF34) -> 0 | AG34: =SUM(ABR:JUN!AG34:AH34) -> 0 | AI34: =SUM(ABR:JUN!AI34:AK34) -> 0 | AL34: =SUM(ABR:JUN!AL34) -> 0 | AM34: =SUM(ABR:JUN!AM34) -> 0 | AN34: =SUM(ABR:JUN!AN34) -> 0 | AO34: =SUM(ABR:JUN!AO34) -> 0 | AP34: =SUM(ABR:JUN!AP34) -> 0 | AQ34: =SUM(ABR:JUN!AQ34) -> 0 | AR34: =SUM(ABR:JUN!AR34) -> 0 | AS34: =SUM(ABR:JUN!AS34) -> 0
H35: Paciente amputado: Amputados de miembro superior con consulta ambulatoria para la evaluación y manejo de un usuario de salud nuevo nivel de atención I (Prescripción de la ayuda técnica o producto de apoyo) | AC35: =SUM(ABR:JUN!AC35:AF35) -> 0 | AG35: =SUM(ABR:JUN!AG35:AH35) -> 0 | AI35: =SUM(ABR:JUN!AI35:AK35) -> 0 | AL35: =SUM(ABR:JUN!AL35) -> 0 | AM35: =SUM(ABR:JUN!AM35) -> 0 | AN35: =SUM(ABR:JUN!AN35) -> 0 | AO35: =SUM(ABR:JUN!AO35) -> 0 | AP35: =SUM(ABR:JUN!AP35) -> 0 | AQ35: =SUM(ABR:JUN!AQ35) -> 0 | AR35: =SUM(ABR:JUN!AR35) -> 0 | AS35: =SUM(ABR:JUN!AS35) -> 0
H36: Paciente amputado: Amputados de miembro superior con consulta ambulatoria para la evaluación y manejo de un usuario de salud nuevo nivel de atención II (Prescripción de la ayuda técnica o producto de apoyo). | AC36: =SUM(ABR:JUN!AC36:AF36) -> 0 | AG36: =SUM(ABR:JUN!AG36:AH36) -> 0 | AI36: =SUM(ABR:JUN!AI36:AK36) -> 0 | AL36: =SUM(ABR:JUN!AL36) -> 0 | AM36: =SUM(ABR:JUN!AM36) -> 0 | AN36: =SUM(ABR:JUN!AN36) -> 0 | AO36: =SUM(ABR:JUN!AO36) -> 0 | AP36: =SUM(ABR:JUN!AP36) -> 0 | AQ36: =SUM(ABR:JUN!AQ36) -> 0 | AR36: =SUM(ABR:JUN!AR36) -> 0 | AS36: =SUM(ABR:JUN!AS36) -> 0
H37: Paciente amputado: Amputados de miembro superior con consulta ambulatoria para la evaluación y manejo de un usuario de salud nuevo nivel de atención III (Prescripción de la ayuda técnica o producto de apoyo). | AC37: =SUM(ABR:JUN!AC37:AF37) -> 0 | AG37: =SUM(ABR:JUN!AG37:AH37) -> 0 | AI37: =SUM(ABR:JUN!AI37:AK37) -> 0 | AL37: =SUM(ABR:JUN!AL37) -> 0 | AM37: =SUM(ABR:JUN!AM37) -> 0 | AN37: =SUM(ABR:JUN!AN37) -> 0 | AO37: =SUM(ABR:JUN!AO37) -> 0 | AP37: =SUM(ABR:JUN!AP37) -> 0 | AQ37: =SUM(ABR:JUN!AQ37) -> 0 | AR37: =SUM(ABR:JUN!AR37) -> 0 | AS37: =SUM(ABR:JUN!AS37) -> 0
H38: Paciente amputado: Amputados de miembro superior con revisión final para el uso de dispositivos ortóticos/protésicos usuario de salud establecido (Entrega de la ayuda técnica o producto de apoyo | AC38: =SUM(ABR:JUN!AC38:AF38) -> 0 | AG38: =SUM(ABR:JUN!AG38:AH38) -> 0 | AI38: =SUM(ABR:JUN!AI38:AK38) -> 0 | AL38: =SUM(ABR:JUN!AL38) -> 0 | AM38: =SUM(ABR:JUN!AM38) -> 0 | AN38: =SUM(ABR:JUN!AN38) -> 0 | AO38: =SUM(ABR:JUN!AO38) -> 0 | AP38: =SUM(ABR:JUN!AP38) -> 0 | AQ38: =SUM(ABR:JUN!AQ38) -> 0 | AR38: =SUM(ABR:JUN!AR38) -> 0 | AS38: =SUM(ABR:JUN!AS38) -> 0
B39: Paciente amputado: Amputados de miembro inferior | H39: Paciente amputado: Amputados de miembro inferior con severidad leve | AC39: =SUM(ABR:JUN!AC39:AF39) -> 0 | AG39: =SUM(ABR:JUN!AG39:AH39) -> 0 | AI39: =SUM(ABR:JUN!AI39:AK39) -> 0 | AL39: =SUM(ABR:JUN!AL39) -> 0 | AM39: =SUM(ABR:JUN!AM39) -> 0 | AN39: =SUM(ABR:JUN!AN39) -> 0 | AO39: =SUM(ABR:JUN!AO39) -> 0 | AP39: =SUM(ABR:JUN!AP39) -> 0 | AQ39: =SUM(ABR:JUN!AQ39) -> 0 | AR39: =SUM(ABR:JUN!AR39) -> 0 | AS39: =SUM(ABR:JUN!AS39) -> 0
H40: Paciente amputado: Amputados de miembro inferior con severidad moderada | AC40: =SUM(ABR:JUN!AC40:AF40) -> 0 | AG40: =SUM(ABR:JUN!AG40:AH40) -> 0 | AI40: =SUM(ABR:JUN!AI40:AK40) -> 0 | AL40: =SUM(ABR:JUN!AL40) -> 0 | AM40: =SUM(ABR:JUN!AM40) -> 0 | AN40: =SUM(ABR:JUN!AN40) -> 0 | AO40: =SUM(ABR:JUN!AO40) -> 0 | AP40: =SUM(ABR:JUN!AP40) -> 0 | AQ40: =SUM(ABR:JUN!AQ40) -> 0 | AR40: =SUM(ABR:JUN!AR40) -> 0 | AS40: =SUM(ABR:JUN!AS40) -> 0
H41: Paciente amputado: Amputados de miembro inferior severo | AC41: =SUM(ABR:JUN!AC41:AF41) -> 0 | AG41: =SUM(ABR:JUN!AG41:AH41) -> 0 | AI41: =SUM(ABR:JUN!AI41:AK41) -> 0 | AL41: =SUM(ABR:JUN!AL41) -> 0 | AM41: =SUM(ABR:JUN!AM41) -> 0 | AN41: =SUM(ABR:JUN!AN41) -> 0 | AO41: =SUM(ABR:JUN!AO41) -> 0 | AP41: =SUM(ABR:JUN!AP41) -> 0 | AQ41: =SUM(ABR:JUN!AQ41) -> 0 | AR41: =SUM(ABR:JUN!AR41) -> 0 | AS41: =SUM(ABR:JUN!AS41) -> 0
H42: Paciente amputado: Amputados de miembro inferior rehabilitado | AC42: =SUM(ABR:JUN!AC42:AF42) -> 0 | AG42: =SUM(ABR:JUN!AG42:AH42) -> 0 | AI42: =SUM(ABR:JUN!AI42:AK42) -> 0 | AL42: =SUM(ABR:JUN!AL42) -> 0 | AM42: =SUM(ABR:JUN!AM42) -> 0 | AN42: =SUM(ABR:JUN!AN42) -> 0 | AO42: =SUM(ABR:JUN!AO42) -> 0 | AP42: =SUM(ABR:JUN!AP42) -> 0 | AQ42: =SUM(ABR:JUN!AQ42) -> 0 | AR42: =SUM(ABR:JUN!AR42) -> 0 | AS42: =SUM(ABR:JUN!AS42) -> 0
H43: Paciente amputado: Amputados de miembro inferior con discapacidad | AC43: =SUM(ABR:JUN!AC43:AF43) -> 0 | AG43: =SUM(ABR:JUN!AG43:AH43) -> 0 | AI43: =SUM(ABR:JUN!AI43:AK43) -> 0 | AL43: =SUM(ABR:JUN!AL43) -> 0 | AM43: =SUM(ABR:JUN!AM43) -> 0 | AN43: =SUM(ABR:JUN!AN43) -> 0 | AO43: =SUM(ABR:JUN!AO43) -> 0 | AP43: =SUM(ABR:JUN!AP43) -> 0 | AQ43: =SUM(ABR:JUN!AQ43) -> 0 | AR43: =SUM(ABR:JUN!AR43) -> 0 | AS43: =SUM(ABR:JUN!AS43) -> 0
H44: Paciente amputado: Amputados de miembro inferior con servicio de evaluación, calificación y certificación de la discapacidad | AC44: =SUM(ABR:JUN!AC44:AF44) -> 0 | AG44: =SUM(ABR:JUN!AG44:AH44) -> 0 | AI44: =SUM(ABR:JUN!AI44:AK44) -> 0 | AL44: =SUM(ABR:JUN!AL44) -> 0 | AM44: =SUM(ABR:JUN!AM44) -> 0 | AN44: =SUM(ABR:JUN!AN44) -> 0 | AO44: =SUM(ABR:JUN!AO44) -> 0 | AP44: =SUM(ABR:JUN!AP44) -> 0 | AQ44: =SUM(ABR:JUN!AQ44) -> 0 | AR44: =SUM(ABR:JUN!AR44) -> 0 | AS44: =SUM(ABR:JUN!AS44) -> 0
H45: Paciente amputado: Amputados de miembro inferior con consulta ambulatoria para la evaluación y manejo de un usuario de salud nuevo nivel de atención I (Prescripción de la ayuda técnica o producto de apoyo) | AC45: =SUM(ABR:JUN!AC45:AF45) -> 0 | AG45: =SUM(ABR:JUN!AG45:AH45) -> 0 | AI45: =SUM(ABR:JUN!AI45:AK45) -> 0 | AL45: =SUM(ABR:JUN!AL45) -> 0 | AM45: =SUM(ABR:JUN!AM45) -> 0 | AN45: =SUM(ABR:JUN!AN45) -> 0 | AO45: =SUM(ABR:JUN!AO45) -> 0 | AP45: =SUM(ABR:JUN!AP45) -> 0 | AQ45: =SUM(ABR:JUN!AQ45) -> 0 | AR45: =SUM(ABR:JUN!AR45) -> 0 | AS45: =SUM(ABR:JUN!AS45) -> 0
H46: Paciente amputado: Amputados de miembro inferior con consulta ambulatoria para la evaluación y manejo de un usuario de salud nuevo nivel de atención II (Prescripción de la ayuda técnica o producto de apoyo). | AC46: =SUM(ABR:JUN!AC46:AF46) -> 0 | AG46: =SUM(ABR:JUN!AG46:AH46) -> 0 | AI46: =SUM(ABR:JUN!AI46:AK46) -> 0 | AL46: =SUM(ABR:JUN!AL46) -> 0 | AM46: =SUM(ABR:JUN!AM46) -> 0 | AN46: =SUM(ABR:JUN!AN46) -> 0 | AO46: =SUM(ABR:JUN!AO46) -> 0 | AP46: =SUM(ABR:JUN!AP46) -> 0 | AQ46: =SUM(ABR:JUN!AQ46) -> 0 | AR46: =SUM(ABR:JUN!AR46) -> 0 | AS46: =SUM(ABR:JUN!AS46) -> 0
H47: Paciente amputado: Amputados de miembro inferior con consulta ambulatoria para la evaluación y manejo de un usuario de salud nuevo nivel de atención III (Prescripción de la ayuda técnica o producto de apoyo). | AC47: =SUM(ABR:JUN!AC47:AF47) -> 0 | AG47: =SUM(ABR:JUN!AG47:AH47) -> 0 | AI47: =SUM(ABR:JUN!AI47:AK47) -> 0 | AL47: =SUM(ABR:JUN!AL47) -> 0 | AM47: =SUM(ABR:JUN!AM47) -> 0 | AN47: =SUM(ABR:JUN!AN47) -> 0 | AO47: =SUM(ABR:JUN!AO47) -> 0 | AP47: =SUM(ABR:JUN!AP47) -> 0 | AQ47: =SUM(ABR:JUN!AQ47) -> 0 | AR47: =SUM(ABR:JUN!AR47) -> 0 | AS47: =SUM(ABR:JUN!AS47) -> 0
H48: Paciente amputado: Amputados de miembro inferior con revisión final para el uso de dispositivos ortóticos/protésicos usuario de salud establecido (Entrega de la ayuda técnica o producto de apoyo). | AC48: =SUM(ABR:JUN!AC48:AF48) -> 0 | AG48: =SUM(ABR:JUN!AG48:AH48) -> 0 | AI48: =SUM(ABR:JUN!AI48:AK48) -> 0 | AL48: =SUM(ABR:JUN!AL48) -> 0 | AM48: =SUM(ABR:JUN!AM48) -> 0 | AN48: =SUM(ABR:JUN!AN48) -> 0 | AO48: =SUM(ABR:JUN!AO48) -> 0 | AP48: =SUM(ABR:JUN!AP48) -> 0 | AQ48: =SUM(ABR:JUN!AQ48) -> 0 | AR48: =SUM(ABR:JUN!AR48) -> 0 | AS48: =SUM(ABR:JUN!AS48) -> 0
...

Sheet I SEM
A3: REPORTE DE ACTIVIDADES DEL COMPONENTE DE DISCAPACIDAD
A5: Periodo: Marzo - 2025
A6: Diresa/Red/M.Red/EE.SS: AREQUIPA/AREQUIPA CAYLLOMA/TIABAYA/TODOS LOS EE.SS
A8: PERSONAS CON DISCAPACIDAD RECIBEN ATENCION DE REHABILITACION EN ESTABLECIMIENTOS DE SALUD (3000688)
A10: Capacitación en medicina de rehabilitación integral (5004449)
B12: N° | C12: Capacitados
A13: Capacitación personal médido rehabilitador | B13: =SUM('I TRIM'!B13+'II TRIM'!B13) -> 0 | C13: =SUM(ABR:JUN!C13:E13) -> 0
A15: Atención de Rehabilitación en Personas con Discapacidad de Tipo Física (5005150)
A17: GRUPO | B17: ATENCIONES | AC17: Total | AG17: 00a-11a | AL17: 12a-17a | AN17: 18a-29a | AP17: 30a-59a | AR17: 60a+
