Workbook

Sheet ENE
A3: REPORTE DE ACTIVIDADES DEL COMPONENTE DE DISCAPACIDAD
A5: Periodo: Enero - 2025
A6: Diresa/Red/M.Red/EE.SS: AREQUIPA/AREQUIPA CAYLLOMA/TIABAYA/TODOS LOS EE.SS
A8: PERSONAS CON DISCAPACIDAD RECIBEN ATENCION DE REHABILITACION EN ESTABLECIMIENTOS DE SALUD (3000688)
A10: Capacitación en medicina de rehabilitación integral (5004449)
B12: N° | C12: Capacitados
A13: Capacitación personal médido rehabilitador
A15: Atención de Rehabilitación en Personas con Discapacidad de Tipo Física (5005150)
A17: GRUPO | B17: ATENCIONES | AC17: Total | AG17: 00a-11a | AL17: 12a-17a | AN17: 18a-29a | AP17: 30a-59a | AR17: 60a+
AG18: M | AI18: F | AL18: M | AM18: F | AN18: M | AO18: F | AP18: M | AQ18: F | AR18: M | AS18: F
A19: 0515001 LESIONES MEDULARES | B19: Lesiones medulares | H19: Lesiones medulares con severidad leve
H20: Lesiones medulares con severidad moderada
H21: Lesiones medulares severas
H22: Lesiones medulares en personas rehabilitadas
H23: Lesiones medulares en personas con discapacidad
H24: Lesiones medulares con servicio de evaluación, calificación y certificación de la discapacidad
H25: Lesiones medulares con consulta ambulatoria para la evaluación y manejo de un usuario de salud nuevo nivel de atención I (Prescripción de la ayuda técnica o producto de apoyo)
H26: Lesiones medulares con consulta ambulatoria para la evaluación y manejo de un usuario de salud nuevo nivel de atención III (Prescripción de la ayuda técnica o producto de apoyo).
H27: Lesiones medulares con consulta ambulatoria para la evaluación y manejo de un usuario de salud nuevo nivel de atención II (Prescripción de la ayuda técnica o producto de apoyo).
H28: Lesiones medulares con revisión final para el uso de dispositivos ortóticos/protésicos usuario de salud establecido (Entrega de la ayuda técnica o producto de apoyo).
A29: 0515013 REHABILITACIÓN EN PACIENTES AMPUTADOS | B29: Paciente amputado: Amputados de miembro superior | H29: Paciente amputado: Amputados de miembro superior con severidad leve
H30: Paciente amputado: Amputados de miembro superir con severidad moderado
H31: Paciente amputado: Amputados de miembro superior severo
H32: Paciente amputado: Amputados de miembro superior rehabilitado
H33: Paciente amputado: Amputados de miembro superior discapacitado
H34: Paciente amputado: Amputados de miembro superior con servicio de evaluación, calificación y certificación de la discapacidad
H35: Paciente amputado: Amputados de miembro superior con consulta ambulatoria para la evaluación y manejo de un usuario de salud nuevo nivel de atención I (Prescripción de la ayuda técnica o producto de apoyo)
H36: Paciente amputado: Amputados de miembro superior con consulta ambulatoria para la evaluación y manejo de un usuario de salud nuevo nivel de atención II (Prescripción de la ayuda técnica o producto de apoyo).
H37: Paciente amputado: Amputados de miembro superior con consulta ambulatoria para la evaluación y manejo de un usuario de salud nuevo nivel de atención III (Prescripción de la ayuda técnica o producto de apoyo).
H38: Paciente amputado: Amputados de miembro superior con revisión final para el uso de dispositivos ortóticos/protésicos usuario de salud establecido (Entrega de la ayuda técnica o producto de apoyo
B39: Paciente amputado: Amputados de miembro inferior | H39: Paciente amputado: Amputados de miembro inferior con severidad leve
H40: Paciente amputado: Amputados de miembro inferior con severidad moderada
H41: Paciente amputado: Amputados de miembro inferior severo
H42: Paciente amputado: Amputados de miembro inferior rehabilitado
H43: Paciente amputado: Amputados de miembro inferior con discapacidad
H44: Paciente amputado: Amputados de miembro inferior con servicio de evaluación, calificación y certificación de la discapacidad
H45: Paciente amputado: Amputados de miembro inferior con consulta ambulatoria para la evaluación y manejo de un usuario de salud nuevo nivel de atención I (Prescripción de la ayuda técnica o producto de apoyo)
H46: Paciente amputado: Amputados de miembro inferior con consulta ambulatoria para la evaluación y manejo de un usuario de salud nuevo nivel de atención II (Prescripción de la ayuda técnica o producto de apoyo).
H47: Paciente amputado: Amputados de miembro inferior con consulta ambulatoria para la evaluación y manejo de un usuario de salud nuevo nivel de atención III (Prescripción de la ayuda técnica o producto de apoyo).
H48: Paciente amputado: Amputados de miembro inferior con revisión final para el uso de dispositivos ortóticos/protésicos usuario de salud establecido (Entrega de la ayuda técnica o producto de apoyo).
A49: PATOLOGÍA NEUROLOGICA | B49: ----------------------- | H49: Enfermedad de Parkinson
H50: Enfermedad cerebro vascular
H51: Enfermedad muscular y unión mioneural
H52: Lesiones de nervio periférico
A53: 0515006 TRANSTORNOS DEL DESARROLLO DE LA FUNCION MOTRIZ | B53: ----------------------- | H53: Trastornos del desarrollo de la función motriz
A54: 0515007 ENFERMEDAD ARTICULAR DEGENERATIVA | B54: ----------------------- | H54: Enfermedad articular degenerativa | AC54: 1 | AS54: 1
A55: 0515009 ENCEFALOPATIA INFANTIL | B55: ----------------------- | H55: Encefalopatía infantil
A56: 0515011 SÍNDROME DE DOWN | B56: ----------------------- | H56: Síndrome de Down
A57: PATOLOGIA DE LA COLUMNA VERTEBRAL Y OTROS TRANSTORNOS POSTURALES | B57: ----------------------- | H57: Cifosis y lordosis | AC57: 1 | AS57: 1
H58: Espondilo artropatías
H59: Otros trastornos de los discos intervertebrales
H60: Cervicalgia, Dorsalgia, Lumbago
H61: Otras dorsopatías deformantes.
H62: Otros trastornos del sistema musculoesquelético y el tejido conectivo
H63: Otros trastornos articulares
H64: Defectos en la longitud de extremidades
A65: REHABILITACIÓN EN ENFERMEDAD CARDIOVASCULAR | B65: ----------------------- | H65: Rehabilitación en enfermedad cardiovascular
A66: REHABILITACIÓN EN ENFERMEDAD RESPIRATORIA | B66: ----------------------- | H66: Rehabilitación en enfermedad respiratoria
A67: REHABILITACIÓN EN ALTERACIONES DEL PISO PÉLVICO | B67: ----------------------- | H67: Vejiga neurogénica
H68: Incontinencia
H69: Prolapso
A70: ATENCIÓN DE REHABILITACIÓN EN PATOLOGÍA TRAUMATOLÓGICA Y REUMATOLÓGICA | B70: ----------------------- | H70: Traumatismo
H71: Enfermedades del tejido conectivo
H72: Patología articular excluida columna
H73: Lesiones Infecciosas
H74: Lesión biomecánica
A75: REHABILITACIÓN ONCOLÓGICA | B75: ----------------------- | H75: Linfedema + DX Neoplasia
H76: Sarcopenia + Dx Neoplasia
A77: REHABILITACIÓN EN DOLOR | B77: ----------------------- | H77: Rehabilitación en dolor
A78: REHABILITACIÓN EN PACIENTES QUEMADOS | B78: ----------------------- | H78: Rehabilitación en pacientes quemados
A80: Atención de Rehabilitación en Personas con Discapacidad de Tipo Sensorial (5005151)
A82: ATENCIONES | H82: Total | J82: 00a-11a | O82: 12a-17a | V82: 18a-29a | Y82: 30a-59a | AD82: 60a+
J83: M | M83: F | O83: M | R83: F | V83: M | W83: F | Y83: M | AA83: F | AD83: M | AH83: F
A84: HIPOACUSIA Y SORDERA | B84: Hipoacusia y/o sordera
A85: BAJA VISIÓN Y CEGUERA | B85: Baja visión y/o ceguera
A86: SORDOMUDEZ | B86: Sordomudez
A87: TRASTORNOS ESPECÍFICOS DEL DESARROLLO DEL HABLA Y LENGUAJE | B87: Transtornos específicos del desarrollo del habla y lenguaje
B88: Otros trastornos de la deglución
A89: DISARTRIA Y DISFAGIA | B89: Disartria
B90: Disfagia
A92: Atención de Rehabilitación en Personas con Discapacidad de Tipo Mental (5005151)
A94: ATENCIONES | C94: Total | D94: 00a-11a | I94: 12a-17a | N94: 18a-29a | U94: 30a-59a | Z94: 60a+
D95: M | G95: F | I95: M | L95: F | N95: M | Q95: F | U95: M | X95: F | Z95: M | AB95: F
A96: Trastornos de aprendizaje
A97: Retraso mental: leve, moderado, severo | C97: 1 | N97: 1
A98: Trastornos del espectro autista
A99: Otros trastornos de salud mental
A101: PERSONAS CON DISCAPACIDAD CERTIFICADAS EN ESTABLECIMIENTOS DE SALUD (3000689)
A103: ATENCIONES | C103: Total | D103: 00a-11a | I103: 12a-17a | N103: 18a-29a | U103: 30a-59a | Z103: 60a+
D104: M | G104: F | I104: M | L104: F | N104: M | Q104: F | U104: M | X104: F | Z104: M | AB104: F
A105: Certificación de Discapacidad
A106: Certificación de Incapacidad
A108: PERSONAS CON DISCAPACIDAD RECIBEN SERVICIOS DE REHABILITACIÓN BASADA EN LA COMUNIDAD (3000690)
A110: ATENCIONES | C110: Total | D110: 00a-11a | I110: 12a-17a | N110: 18a-29a | U110: 30a-59a | Z110: 60a+
D111: M | G111: F | I111: M | L111: F | N111: M | Q111: F | U111: M | X111: F | Z111: M | AB111: F
A112: 1° Visita
A113: 2° Visita
A114: 3° Visita
A116: Capacitación a agentes comunitarios en rehabilitación basada en la comunidad (5005155)
E118: 1° Taller / Sesión | K118: 2° Taller / Sesión
...

Sheet FEB
A3: REPORTE DE ACTIVIDADES DEL COMPONENTE DE DISCAPACIDAD
A5: Periodo: Febrero - 2025
A6: Diresa/Red/M.Red/EE.SS: AREQUIPA/AREQUIPA CAYLLOMA/TIABAYA/TODOS LOS EE.SS
A8: PERSONAS CON DISCAPACIDAD RECIBEN ATENCION DE REHABILITACION EN ESTABLECIMIENTOS DE SALUD (3000688)
A10: Capacitación en medicina de rehabilitación integral (5004449)
B12: N° | C12: Capacitados
A13: Capacitación personal médido rehabilitador
A15: Atención de Rehabilitación en Personas con Discapacidad de Tipo Física (5005150)
A17: GRUPO | B17: ATENCIONES | AC17: Total | AG17: 00a-11a | AL17: 12a-17a | AN17: 18a-29a | AP17: 30a-59a | AR17: 60a+
AG18: M | AI18: F | AL18: M | AM18: F | AN18: M | AO18: F | AP18: M | AQ18: F | AR18: M | AS18: F
A19: 0515001 LESIONES MEDULARES | B19: Lesiones medulares | H19: Lesiones medulares con severidad leve
H20: Lesiones medulares con severidad moderada
H21: Lesiones medulares severas
H22: Lesiones medulares en personas rehabilitadas
H23: Lesiones medulares en personas con discapacidad
H24: Lesiones medulares con servicio de evaluación, calificación y certificación de la discapacidad
H25: Lesiones medulares con consulta ambulatoria para la evaluación y manejo de un usuario de salud nuevo nivel de atención I (Prescripción de la ayuda técnica o producto de apoyo)
H26: Lesiones medulares con consulta ambulatoria para la evaluación y manejo de un usuario de salud nuevo nivel de atención III (Prescripción de la ayuda técnica o producto de apoyo).
H27: Lesiones medulares con consulta ambulatoria para la evaluación y manejo de un usuario de salud nuevo nivel de atención II (Prescripción de la ayuda técnica o producto de apoyo).
H28: Lesiones medulares con revisión final para el uso de dispositivos ortóticos/protésicos usuario de salud establecido (Entrega de la ayuda técnica o producto de apoyo).
A29: 0515013 REHABILITACIÓN EN PACIENTES AMPUTADOS | B29: Paciente amputado: Amputados de miembro superior | H29: Paciente amputado: Amputados de miembro superior con severidad leve
H30: Paciente amputado: Amputados de miembro superir con severidad moderado
H31: Paciente amputado: Amputados de miembro superior severo
H32: Paciente amputado: Amputados de miembro superior rehabilitado
H33: Paciente amputado: Amputados de miembro superior discapacitado
H34: Paciente amputado: Amputados de miembro superior con servicio de evaluación, calificación y certificación de la discapacidad
H35: Paciente amputado: Amputados de miembro superior con consulta ambulatoria para la evaluación y manejo de un usuario de salud nuevo nivel de atención I (Prescripción de la ayuda técnica o producto de apoyo)
H36: Paciente amputado: Amputados de miembro superior con consulta ambulatoria para la evaluación y manejo de un usuario de salud nuevo nivel de atención II (Prescripción de la ayuda técnica o producto de apoyo).
H37: Paciente amputado: Amputados de miembro superior con consulta ambulatoria para la evaluación y manejo de un usuario de salud nuevo nivel de atención III (Prescripción de la ayuda técnica o producto de apoyo).
H38: Paciente amputado: Amputados de miembro superior con revisión final para el uso de dispositivos ortóticos/protésicos usuario de salud establecido (Entrega de la ayuda técnica o producto de apoyo
B39: Paciente amputado: Amputados de miembro inferior | H39: Paciente amputado: Amputados de miembro inferior con severidad leve
H40: Paciente amputado: Amputados de miembro inferior con severidad moderada
H41: Paciente amputado: Amputados de miembro inferior severo
H42: Paciente amputado: Amputados de miembro inferior rehabilitado
H43: Paciente amputado: Amputados de miembro inferior con discapacidad
H44: Paciente amputado: Amputados de miembro inferior con servicio de evaluación, calificación y certificación de la discapacidad
H45: Paciente amputado: Amputados de miembro inferior con consulta ambulatoria para la evaluación y manejo de un usuario de salud nuevo nivel de atención I (Prescripción de la ayuda técnica o producto de apoyo)
H46: Paciente amputado: Amputados de miembro inferior con consulta ambulatoria para la evaluación y manejo de un usuario de salud nuevo nivel de atención II (Prescripción de la ayuda técnica o producto de apoyo).
H47: Paciente amputado: Amputados de miembro inferior con consulta ambulatoria para la evaluación y manejo de un usuario de salud nuevo nivel de atención III (Prescripción de la ayuda técnica o producto de apoyo).
H48: Paciente amputado: Amputados de miembro inferior con revisión final para el uso de dispositivos ortóticos/protésicos usuario de salud establecido (Entrega de la ayuda técnica o producto de apoyo).
A49: PATOLOGÍA NEUROLOGICA | B49: ----------------------- | H49: Enfermedad de Parkinson
H50: Enfermedad cerebro vascular
H51: Enfermedad muscular y unión mioneural
H52: Lesiones de nervio periférico
A53: 0515006 TRANSTORNOS DEL DESARROLLO DE LA FUNCION MOTRIZ | B53: ----------------------- | H53: Trastornos del desarrollo de la función motriz
A54: 0515007 ENFERMEDAD ARTICULAR DEGENERATIVA | B54: ----------------------- | H54: Enfermedad articular degenerativa
A55: 0515009 ENCEFALOPATIA INFANTIL | B55: ----------------------- | H55: Encefalopatía infantil | AC55: 2 | AN55: 2
A56: 0515011 SÍNDROME DE DOWN | B56: ----------------------- | H56: Síndrome de Down
A57: PATOLOGIA DE LA COLUMNA VERTEBRAL Y OTROS TRANSTORNOS POSTURALES | B57: ----------------------- | H57: Cifosis y lordosis
H58: Espondilo artropatías
H59: Otros trastornos de los discos intervertebrales
H60: Cervicalgia, Dorsalgia, Lumbago
H61: Otras dorsopatías deformantes.
H62: Otros trastornos del sistema musculoesquelético y el tejido conectivo
H63: Otros trastornos articulares
H64: Defectos en la longitud de extremidades
A65: REHABILITACIÓN EN ENFERMEDAD CARDIOVASCULAR | B65: ----------------------- | H65: Rehabilitación en enfermedad cardiovascular
A66: REHABILITACIÓN EN ENFERMEDAD RESPIRATORIA | B66: ----------------------- | H66: Rehabilitación en enfermedad respiratoria
A67: REHABILITACIÓN EN ALTERACIONES DEL PISO PÉLVICO | B67: ----------------------- | H67: Vejiga neurogénica
H68: Incontinencia
H69: Prolapso
A70: ATENCIÓN DE REHABILITACIÓN EN PATOLOGÍA TRAUMATOLÓGICA Y REUMATOLÓGICA | B70: ----------------------- | H70: Traumatismo
H71: Enfermedades del tejido conectivo
H72: Patología articular excluida columna
H73: Lesiones Infecciosas
H74: Lesión biomecánica
A75: REHABILITACIÓN ONCOLÓGICA | B75: ----------------------- | H75: Linfedema + DX Neoplasia
H76: Sarcopenia + Dx Neoplasia
A77: REHABILITACIÓN EN DOLOR | B77: ----------------------- | H77: Rehabilitación en dolor
A78: REHABILITACIÓN EN PACIENTES QUEMADOS | B78: ----------------------- | H78: Rehabilitación en pacientes quemados
A80: Atención de Rehabilitación en Personas con Discapacidad de Tipo Sensorial (5005151)
A82: ATENCIONES | H82: Total | J82: 00a-11a | O82: 12a-17a | V82: 18a-29a | Y82: 30a-59a | AD82: 60a+
J83: M | M83: F | O83: M | R83: F | V83: M | W83: F | Y83: M | AA83: F | AD83: M | AH83: F
A84: HIPOACUSIA Y SORDERA | B84: Hipoacusia y/o sordera
A85: BAJA VISIÓN Y CEGUERA | B85: Baja visión y/o ceguera
A86: SORDOMUDEZ | B86: Sordomudez
A87: TRASTORNOS ESPECÍFICOS DEL DESARROLLO DEL HABLA Y LENGUAJE | B87: Transtornos específicos del desarrollo del habla y lenguaje
B88: Otros trastornos de la deglución
A89: DISARTRIA Y DISFAGIA | B89: Disartria
B90: Disfagia
A92: Atención de Rehabilitación en Personas con Discapacidad de Tipo Mental (5005151)
A94: ATENCIONES | C94: Total | D94: 00a-11a | I94: 12a-17a | N94: 18a-29a | U94: 30a-59a | Z94: 60a+
D95: M | G95: F | I95: M | L95: F | N95: M | Q95: F | U95: M | X95: F | Z95: M | AB95: F
A96: Trastornos de aprendizaje
A97: Retraso mental: leve, moderado, severo | C97: 8 | N97: 8
A98: Trastornos del espectro autista | C98: 1 | I98: 1
A99: Otros trastornos de salud mental | C99: 1 | N99: 1
A101: PERSONAS CON DISCAPACIDAD CERTIFICADAS EN ESTABLECIMIENTOS DE SALUD (3000689)
A103: ATENCIONES | C103: Total | D103: 00a-11a | I103: 12a-17a | N103: 18a-29a | U103: 30a-59a | Z103: 60a+
D104: M | G104: F | I104: M | L104: F | N104: M | Q104: F | U104: M | X104: F | Z104: M | AB104: F
A105: Certificación de Discapacidad
A106: Certificación de Incapacidad
A108: PERSONAS CON DISCAPACIDAD RECIBEN SERVICIOS DE REHABILITACIÓN BASADA EN LA COMUNIDAD (3000690)
A110: ATENCIONES | C110: Total | D110: 00a-11a | I110: 12a-17a | N110: 18a-29a | U110: 30a-59a | Z110: 60a+
D111: M | G111: F | I111: M | L111: F | N111: M | Q111: F | U111: M | X111: F | Z111: M | AB111: F
A112: 1° Visita
A113: 2° Visita
A114: 3° Visita
A116: Capacitación a agentes comunitarios en rehabilitación basada en la comunidad (5005155)
E118: 1° Taller / Sesión | K118: 2° Taller / Sesión
...

Sheet MAR
A3: REPORTE DE ACTIVIDADES DEL COMPONENTE DE DISCAPACIDAD
A5: Periodo: Marzo - 2025
A6: Diresa/Red/M.Red/EE.SS: AREQUIPA/AREQUIPA CAYLLOMA/TIABAYA/TODOS LOS EE.SS
A8: PERSONAS CON DISCAPACIDAD RECIBEN ATENCION DE REHABILITACION EN ESTABLECIMIENTOS DE SALUD (3000688)
A10: Capacitación en medicina de rehabilitación integral (5004449)
B12: N° | C12: Capacitados
A13: Capacitación personal médido rehabilitador
A15: Atención de Rehabilitación en Personas con Discapacidad de Tipo Física (5005150)
A17: GRUPO | B17: ATENCIONES | AC17: Total | AG17: 00a-11a | AL17: 12a-17a | AN17: 18a-29a | AP17: 30a-59a | AR17: 60a+
AG18: M | AI18: F | AL18: M | AM18: F | AN18: M | AO18: F | AP18: M | AQ18: F | AR18: M | AS18: F
A19: 0515001 LESIONES MEDULARES | B19: Lesiones medulares | H19: Lesiones medulares con severidad leve
H20: Lesiones medulares con severidad moderada
H21: Lesiones medulares severas
H22: Lesiones medulares en personas rehabilitadas
H23: Lesiones medulares en personas con discapacidad
H24: Lesiones medulares con servicio de evaluación, calificación y certificación de la discapacidad
H25: Lesiones medulares con consulta ambulatoria para la evaluación y manejo de un usuario de salud nuevo nivel de atención I (Prescripción de la ayuda técnica o producto de apoyo)
H26: Lesiones medulares con consulta ambulatoria para la evaluación y manejo de un usuario de salud nuevo nivel de atención III (Prescripción de la ayuda técnica o producto de apoyo).
H27: Lesiones medulares con consulta ambulatoria para la evaluación y manejo de un usuario de salud nuevo nivel de atención II (Prescripción de la ayuda técnica o producto de apoyo).
H28: Lesiones medulares con revisión final para el uso de dispositivos ortóticos/protésicos usuario de salud establecido (Entrega de la ayuda técnica o producto de apoyo).
A29: 0515013 REHABILITACIÓN EN PACIENTES AMPUTADOS | B29: Paciente amputado: Amputados de miembro superior | H29: Paciente amputado: Amputados de miembro superior con severidad leve
H30: Paciente amputado: Amputados de miembro superir con severidad moderado
H31: Paciente amputado: Amputados de miembro superior severo
H32: Paciente amputado: Amputados de miembro superior rehabilitado
H33: Paciente amputado: Amputados de miembro superior discapacitado
H34: Paciente amputado: Amputados de miembro superior con servicio de evaluación, calificación y certificación de la discapacidad
H35: Paciente amputado: Amputados de miembro superior con consulta ambulatoria para la evaluación y manejo de un usuario de salud nuevo nivel de atención I (Prescripción de la ayuda técnica o producto de apoyo)
H36: Paciente amputado: Amputados de miembro superior con consulta ambulatoria para la evaluación y manejo de un usuario de salud nuevo nivel de atención II (Prescripción de la ayuda técnica o producto de apoyo).
H37: Paciente amputado: Amputados de miembro superior con consulta ambulatoria para la evaluación y manejo de un usuario de salud nuevo nivel de atención III (Prescripción de la ayuda técnica o producto de apoyo).
H38: Paciente amputado: Amputados de miembro superior con revisión final para el uso de dispositivos ortóticos/protésicos usuario de salud establecido (Entrega de la ayuda técnica o producto de apoyo
B39: Paciente amputado: Amputados de miembro inferior | H39: Paciente amputado: Amputados de miembro inferior con severidad leve
H40: Paciente amputado: Amputados de miembro inferior con severidad moderada
H41: Paciente amputado: Amputados de miembro inferior severo
H42: Paciente amputado: Amputados de miembro inferior rehabilitado
H43: Paciente amputado: Amputados de miembro inferior con discapacidad
H44: Paciente amputado: Amputados de miembro inferior con servicio de evaluación, calificación y certificación de la discapacidad
H45: Paciente amputado: Amputados de miembro inferior con consulta ambulatoria para la evaluación y manejo de un usuario de salud nuevo nivel de atención I (Prescripción de la ayuda técnica o producto de apoyo)
H46: Paciente amputado: Amputados de miembro inferior con consulta ambulatoria para la evaluación y manejo de un usuario de salud nuevo nivel de atención II (Prescripción de la ayuda técnica o producto de apoyo).
H47: Paciente amputado: Amputados de miembro inferior con consulta ambulatoria para la evaluación y manejo de un usuario de salud nuevo nivel de atención III (Prescripción de la ayuda técnica o producto de apoyo).
H48: Paciente amputado: Amputados de miembro inferior con revisión final para el uso de dispositivos ortóticos/protésicos usuario de salud establecido (Entrega de la ayuda técnica o producto de apoyo).
A49: PATOLOGÍA NEUROLOGICA | B49: ----------------------- | H49: Enfermedad de Parkinson
H50: Enfermedad cerebro vascular
H51: Enfermedad muscular y unión mioneural
H52: Lesiones de nervio periférico
A53: 0515006 TRANSTORNOS DEL DESARROLLO DE LA FUNCION MOTRIZ | B53: ----------------------- | H53: Trastornos del desarrollo de la función motriz
A54: 0515007 ENFERMEDAD ARTICULAR DEGENERATIVA | B54: ----------------------- | H54: Enfermedad articular degenerativa | AC54: 1 | AQ54: 1
A55: 0515009 ENCEFALOPATIA INFANTIL | B55: ----------------------- | H55: Encefalopatía infantil
A56: 0515011 SÍNDROME DE DOWN | B56: ----------------------- | H56: Síndrome de Down
A57: PATOLOGIA DE LA COLUMNA VERTEBRAL Y OTROS TRANSTORNOS POSTURALES | B57: ----------------------- | H57: Cifosis y lordosis
H58: Espondilo artropatías
H59: Otros trastornos de los discos intervertebrales
H60: Cervicalgia, Dorsalgia, Lumbago
H61: Otras dorsopatías deformantes.
H62: Otros trastornos del sistema musculoesquelético y el tejido conectivo
H63: Otros trastornos articulares
H64: Defectos en la longitud de extremidades
A65: REHABILITACIÓN EN ENFERMEDAD CARDIOVASCULAR | B65: ----------------------- | H65: Rehabilitación en enfermedad cardiovascular
A66: REHABILITACIÓN EN ENFERMEDAD RESPIRATORIA | B66: ----------------------- | H66: Rehabilitación en enfermedad respiratoria
A67: REHABILITACIÓN EN ALTERACIONES DEL PISO PÉLVICO | B67: ----------------------- | H67: Vejiga neurogénica
H68: Incontinencia
H69: Prolapso
A70: ATENCIÓN DE REHABILITACIÓN EN PATOLOGÍA TRAUMATOLÓGICA Y REUMATOLÓGICA | B70: ----------------------- | H70: Traumatismo
H71: Enfermedades del tejido conectivo
H72: Patología articular excluida columna
H73: Lesiones Infecciosas
H74: Lesión biomecánica
A75: REHABILITACIÓN ONCOLÓGICA | B75: ----------------------- | H75: Linfedema + DX Neoplasia
H76: Sarcopenia + Dx Neoplasia
A77: REHABILITACIÓN EN DOLOR | B77: ----------------------- | H77: Rehabilitación en dolor
A78: REHABILITACIÓN EN PACIENTES QUEMADOS | B78: ----------------------- | H78: Rehabilitación en pacientes quemados
A80: Atención de Rehabilitación en Personas con Discapacidad de Tipo Sensorial (5005151)
A82: ATENCIONES | H82: Total | J82: 00a-11a | O82: 12a-17a | V82: 18a-29a | Y82: 30a-59a | AD82: 60a+
J83: M | M83: F | O83: M | R83: F | V83: M | W83: F | Y83: M | AA83: F | AD83: M | AH83: F
A84: HIPOACUSIA Y SORDERA | B84: Hipoacusia y/o sordera
A85: BAJA VISIÓN Y CEGUERA | B85: Baja visión y/o ceguera
A86: SORDOMUDEZ | B86: Sordomudez
A87: TRASTORNOS ESPECÍFICOS DEL DESARROLLO DEL HABLA Y LENGUAJE | B87: Transtornos específicos del desarrollo del habla y lenguaje | H87: 1 | O87: 1
B88: Otros trastornos de la deglución
A89: DISARTRIA Y DISFAGIA | B89: Disartria
B90: Disfagia
A92: Atención de Rehabilitación en Personas con Discapacidad de Tipo Mental (5005151)
A94: ATENCIONES | C94: Total | D94: 00a-11a | I94: 12a-17a | N94: 18a-29a | U94: 30a-59a | Z94: 60a+
D95: M | G95: F | I95: M | L95: F | N95: M | Q95: F | U95: M | X95: F | Z95: M | AB95: F
A96: Trastornos de aprendizaje | C96: 1 | I96: 1
A97: Retraso mental: leve, moderado, severo | C97: 3 | I97: 1 | N97: 1 | Q97: 1
A98: Trastornos del espectro autista
A99: Otros trastornos de salud mental
A101: PERSONAS CON DISCAPACIDAD CERTIFICADAS EN ESTABLECIMIENTOS DE SALUD (3000689)
A103: ATENCIONES | C103: Total | D103: 00a-11a | I103: 12a-17a | N103: 18a-29a | U103: 30a-59a | Z103: 60a+
D104: M | G104: F | I104: M | L104: F | N104: M | Q104: F | U104: M | X104: F | Z104: M | AB104: F
A105: Certificación de Discapacidad
A106: Certificación de Incapacidad
A108: PERSONAS CON DISCAPACIDAD RECIBEN SERVICIOS DE REHABILITACIÓN BASADA EN LA COMUNIDAD (3000690)
A110: ATENCIONES | C110: Total | D110: 00a-11a | I110: 12a-17a | N110: 18a-29a | U110: 30a-59a | Z110: 60a+
D111: M | G111: F | I111: M | L111: F | N111: M | Q111: F | U111: M | X111: F | Z111: M | AB111: F
A112: 1° Visita
A113: 2° Visita
A114: 3° Visita
A116: Capacitación a agentes comunitarios en rehabilitación basada en la comunidad (5005155)
E118: 1° Taller / Sesión | K118: 2° Taller / Sesión
...

Sheet I TRIM
A3: REPORTE DE ACTIVIDADES DEL COMPONENTE DE DISCAPACIDAD
A5: Periodo: Marzo - 2025
A6: Diresa/Red/M.Red/EE.SS: AREQUIPA/AREQUIPA CAYLLOMA/TIABAYA/TODOS LOS EE.SS
A8: PERSONAS CON DISCAPACIDAD RECIBEN ATENCION DE REHABILITACION EN ESTABLECIMIENTOS DE SALUD (3000688)
A10: Capacitación en medicina de rehabilitación integral (5004449)
B12: N° | C12: Capacitados
A13: Capacitación personal médido rehabilitador | B13: =SUM(ENE:MAR!B13) -> 0 | C13: =SUM(ENE:MAR!C13:E13) -> 0
A15: Atención de Rehabilitación en Personas con Discapacidad de Tipo Física (5005150)
A17: GRUPO | B17: ATENCIONES | AC17: Total | AG17: 00a-11a | AL17: 12a-17a | AN17: 18a-29a | AP17: 30a-59a | AR17: 60a+
AG18: M | AI18: F | AL18: M | AM18: F | AN18: M | AO18: F | AP18: M | AQ18: F | AR18: M | AS18: F
A19: 0515001 LESIONES MEDULARES | B19: Lesiones medulares | H19: Lesiones medulares con severidad leve | AC19: =SUM(ENE:MAR!AC19:AF19) -> 0 | AG19: =SUM(ENE:MAR!AG19:AH19) -> 0 | AI19: =SUM(ENE:MAR!AI19:AK19) -> 0 | AL19: =SUM(ENE:MAR!AL19) -> 0 | AM19: =SUM(ENE:MAR!AM19) -> 0 | AN19: =SUM(ENE:MAR!AN19) -> 0 | AO19: =SUM(ENE:MAR!AO19) -> 0 | AP19: =SUM(ENE:MAR!AP19) -> 0 | AQ19: =SUM(ENE:MAR!AQ19) -> 0 | AR19: =SUM(ENE:MAR!AR19) -> 0 | AS19: =SUM(ENE:MAR!AS19) -> 0
H20: Lesiones medulares con severidad moderada | AC20: =SUM(ENE:MAR!AC20:AF20) -> 0 | AG20: =SUM(ENE:MAR!AG20:AH20) -> 0 | AI20: =SUM(ENE:MAR!AI20:AK20) -> 0 | AL20: =SUM(ENE:MAR!AL20) -> 0 | AM20: =SUM(ENE:MAR!AM20) -> 0 | AN20: =SUM(ENE:MAR!AN20) -> 0 | AO20: =SUM(ENE:MAR!AO20) -> 0 | AP20: =SUM(ENE:MAR!AP20) -> 0 | AQ20: =SUM(ENE:MAR!AQ20) -> 0 | AR20: =SUM(ENE:MAR!AR20) -> 0 | AS20: =SUM(ENE:MAR!AS20) -> 0
H21: Lesiones medulares severas | AC21: =SUM(ENE:MAR!AC21:AF21) -> 0 | AG21: =SUM(ENE:MAR!AG21:AH21) -> 0 | AI21: =SUM(ENE:MAR!AI21:AK21) -> 0 | AL21: =SUM(ENE:MAR!AL21) -> 0 | AM21: =SUM(ENE:MAR!AM21) -> 0 | AN21: =SUM(ENE:MAR!AN21) -> 0 | AO21: =SUM(ENE:MAR!AO21) -> 0 | AP21: =SUM(ENE:MAR!AP21) -> 0 | AQ21: =SUM(ENE:MAR!AQ21) -> 0 | AR21: =SUM(ENE:MAR!AR21) -> 0 | AS21: =SUM(ENE:MAR!AS21) -> 0
H22: Lesiones medulares en personas rehabilitadas | AC22: =SUM(ENE:MAR!AC22:AF22) -> 0 | AG22: =SUM(ENE:MAR!AG22:AH22) -> 0 | AI22: =SUM(ENE:MAR!AI22:AK22) -> 0 | AL22: =SUM(ENE:MAR!AL22) -> 0 | AM22: =SUM(ENE:MAR!AM22) -> 0 | AN22: =SUM(ENE:MAR!AN22) -> 0 | AO22: =SUM(ENE:MAR!AO22) -> 0 | AP22: =SUM(ENE:MAR!AP22) -> 0 | AQ22: =SUM(ENE:MAR!AQ22) -> 0 | AR22: =SUM(ENE:MAR!AR22) -> 0 | AS22: =SUM(ENE:MAR!AS22) -> 0
H23: Lesiones medulares en personas con discapacidad | AC23: =SUM(ENE:MAR!AC23:AF23) -> 0 | AG23: =SUM(ENE:MAR!AG23:AH23) -> 0 | AI23: =SUM(ENE:MAR!AI23:AK23) -> 0 | AL23: =SUM(ENE:MAR!AL23) -> 0 | AM23: =SUM(ENE:MAR!AM23) -> 0 | AN23: =SUM(ENE:MAR!AN23) -> 0 | AO23: =SUM(ENE:MAR!AO23) -> 0 | AP23: =SUM(ENE:MAR!AP23) -> 0 | AQ23: =SUM(ENE:MAR!AQ23) -> 0 | AR23: =SUM(ENE:MAR!AR23) -> 0 | AS23: =SUM(ENE:MAR!AS23) -> 0
H24: Lesiones medulares con servicio de evaluación, calificación y certificación de la discapacidad | AC24: =SUM(ENE:MAR!AC24:AF24) -> 0 | AG24: =SUM(ENE:MAR!AG24:AH24) -> 0 | AI24: =SUM(ENE:MAR!AI24:AK24) -> 0 | AL24: =SUM(ENE:MAR!AL24) -> 0 | AM24: =SUM(ENE:MAR!AM24) -> 0 | AN24: =SUM(ENE:MAR!AN24) -> 0 | AO24: =SUM(ENE:MAR!AO24) -> 0 | AP24: =SUM(ENE:MAR!AP24) -> 0 | AQ24: =SUM(ENE:MAR!AQ24) -> 0 | AR24: =SUM(ENE:MAR!AR24) -> 0 | AS24: =SUM(ENE:MAR!AS24) -> 0
H25: Lesiones medulares con consulta ambulatoria para la evaluación y manejo de un usuario de salud nuevo nivel de atención I (Prescripción de la ayuda técnica o producto de apoyo) | AC25: =SUM(ENE:MAR!AC25:AF25) -> 0 | AG25: =SUM(ENE:MAR!AG25:AH25) -> 0 | AI25: =SUM(ENE:MAR!AI25:AK25) -> 0 | AL25: =SUM(ENE:MAR!AL25) -> 0 | AM25: =SUM(ENE:MAR!AM25) -> 0 | AN25: =SUM(ENE:MAR!AN25) -> 0 | AO25: =SUM(ENE:MAR!AO25) -> 0 | AP25: =SUM(ENE:MAR!AP25) -> 0 | AQ25: =SUM(ENE:MAR!AQ25) -> 0 | AR25: =SUM(ENE:MAR!AR25) -> 0 | AS25: =SUM(ENE:MAR!AS25) -> 0
H26: Lesiones medulares con consulta ambulatoria para la evaluación y manejo de un usuario de salud nuevo nivel de atención III (Prescripción de la ayuda técnica o producto de apoyo). | AC26: =SUM(ENE:MAR!AC26:AF26) -> 0 | AG26: =SUM(ENE:MAR!AG26:AH26) -> 0 | AI26: =SUM(ENE:MAR!AI26:AK26) -> 0 | AL26: =SUM(ENE:MAR!AL26) -> 0 | AM26: =SUM(ENE:MAR!AM26) -> 0 | AN26: =SUM(ENE:MAR!AN26) -> 0 | AO26: =SUM(ENE:MAR!AO26) -> 0 | AP26: =SUM(ENE:MAR!AP26) -> 0 | AQ26: =SUM(ENE:MAR!AQ26) -> 0 | AR26: =SUM(ENE:MAR!AR26) -> 0 | AS26: =SUM(ENE:MAR!AS26) -> 0
H27: Lesiones medulares con consulta ambulatoria para la evaluación y manejo de un usuario de salud nuevo nivel de atención II (Prescripción de la ayuda técnica o producto de apoyo). | AC27: =SUM(ENE:MAR!AC27:AF27) -> 0 | AG27: =SUM(ENE:MAR!AG27:AH27) -> 0 | AI27: =SUM(ENE:MAR!AI27:AK27) -> 0 | AL27: =SUM(ENE:MAR!AL27) -> 0 | AM27: =SUM(ENE:MAR!AM27) -> 0 | AN27: =SUM(ENE:MAR!AN27) -> 0 | AO27: =SUM(ENE:MAR!AO27) -> 0 | AP27: =SUM(ENE:MAR!AP27) -> 0 | AQ27: =SUM(ENE:MAR!AQ27) -> 0 | AR27: =SUM(ENE:MAR!AR27) -> 0 | AS27: =SUM(ENE:MAR!AS27) -> 0
H28: Lesiones medulares con revisión final para el uso de dispositivos ortóticos/protésicos usuario de salud establecido (Entrega de la ayuda técnica o producto de apoyo). | AC28: =SUM(ENE:MAR!AC28:AF28) -> 0 | AG28: =SUM(ENE:MAR!AG28:AH28) -> 0 | AI28: =SUM(ENE:MAR!AI28:AK28) -> 0 | AL28: =SUM(ENE:MAR!AL28) -> 0 | AM28: =SUM(ENE:MAR!AM28) -> 0 | AN28: =SUM(ENE:MAR!AN28) -> 0 | AO28: =SUM(ENE:MAR!AO28) -> 0 | AP28: =SUM(ENE:MAR!AP28) -> 0 | AQ28: =SUM(ENE:MAR!AQ28) -> 0 | AR28: =SUM(ENE:MAR!AR28) -> 0 | AS28: =SUM(ENE:MAR!AS28) -> 0
A29: 0515013 REHABILITACIÓN EN PACIENTES AMPUTADOS | B29: Paciente amputado: Amputados de miembro superior | H29: Paciente amputado: Amputados de miembro superior con severidad leve | AC29: =SUM(ENE:MAR!AC29:AF29) -> 0 | AG29: =SUM(ENE:MAR!AG29:AH29) -> 0 | AI29: =SUM(ENE:MAR!AI29:AK29) -> 0 | AL29: =SUM(ENE:MAR!AL29) -> 0 | AM29: =SUM(ENE:MAR!AM29) -> 0 | AN29: =SUM(ENE:MAR!AN29) -> 0 | AO29: =SUM(ENE:MAR!AO29) -> 0 | AP29: =SUM(ENE:MAR!AP29) -> 0 | AQ29: =SUM(ENE:MAR!AQ29) -> 0 | AR29: =SUM(ENE:MAR!AR29) -> 0 | AS29: =SUM(ENE:MAR!AS29) -> 0
H30: Paciente amputado: Amputados de miembro superir con severidad moderado | AC30: =SUM(ENE:MAR!AC30:AF30) -> 0 | AG30: =SUM(ENE:MAR!AG30:AH30) -> 0 | AI30: =SUM(ENE:MAR!AI30:AK30) -> 0 | AL30: =SUM(ENE:MAR!AL30) -> 0 | AM30: =SUM(ENE:MAR!AM30) -> 0 | AN30: =SUM(ENE:MAR!AN30) -> 0 | AO30: =SUM(ENE:MAR!AO30) -> 0 | AP30: =SUM(ENE:MAR!AP30) -> 0 | AQ30: =SUM(ENE:MAR!AQ30) -> 0 | AR30: =SUM(ENE:MAR!AR30) -> 0 | AS30: =SUM(ENE:MAR!AS30) -> 0
H31: Paciente amputado: Amputados de miembro superior severo | AC31: =SUM(ENE:MAR!AC31:AF31) -> 0 | AG31: =SUM(ENE:MAR!AG31:AH31) -> 0 | AI31: =SUM(ENE:MAR!AI31:AK31) -> 0 | AL31: =SUM(ENE:MAR!AL31) -> 0 | AM31: =SUM(ENE:MAR!AM31) -> 0 | AN31: =SUM(ENE:MAR!AN31) -> 0 | AO31: =SUM(ENE:MAR!AO31) -> 0 | AP31: =SUM(ENE:MAR!AP31) -> 0 | AQ31: =SUM(ENE:MAR!AQ31) -> 0 | AR31: =SUM(ENE:MAR!AR31) -> 0 | AS31: =SUM(ENE:MAR!AS31) -> 0
H32: Paciente amputado: Amputados de miembro superior rehabilitado | AC32: =SUM(ENE:MAR!AC32:AF32) -> 0 | AG32: =SUM(ENE:MAR!AG32:AH32) -> 0 | AI32: =SUM(ENE:MAR!AI32:AK32) -> 0 | AL32: =SUM(ENE:MAR!AL32) -> 0 | AM32: =SUM(ENE:MAR!AM32) -> 0 | AN32: =SUM(ENE:MAR!AN32) -> 0 | AO32: =SUM(ENE:MAR!AO32) -> 0 | AP32: =SUM(ENE:MAR!AP32) -> 0 | AQ32: =SUM(ENE:MAR!AQ32) -> 0 | AR32: =SUM(ENE:MAR!AR32) -> 0 | AS32: =SUM(ENE:MAR!AS32) -> 0
H33: Paciente amputado: Amputados de miembro superior discapacitado | AC33: =SUM(ENE:MAR!AC33:AF33) -> 0 | AG33: =SUM(ENE:MAR!AG33:AH33) -> 0 | AI33: =SUM(ENE:MAR!AI33:AK33) -> 0 | AL33: =SUM(ENE:MAR!AL33) -> 0 | AM33: =SUM(ENE:MAR!AM33) -> 0 | AN33: =SUM(ENE:MAR!AN33) -> 0 | AO33: =SUM(ENE:MAR!AO33) -> 0 | AP33: =SUM(ENE:MAR!AP33) -> 0 | AQ33: =SUM(ENE:MAR!AQ33) -> 0 | AR33: =SUM(ENE:MAR!AR33) -> 0 | AS33: =SUM(ENE:MAR!AS33) -> 0
H34: Paciente amputado: Amputados de miembro superior con servicio de evaluación, calificación y certificación de la discapacidad | AC34: =SUM(ENE:MAR!AC34:AF34) -> 0 | AG34: =SUM(ENE:MAR!AG34:AH34) -> 0 | AI34: =SUM(ENE:MAR!AI34:AK34) -> 0 | AL34: =SUM(ENE:MAR!AL34) -> 0 | AM34: =SUM(ENE:MAR!AM34) -> 0 | AN34: =SUM(ENE:MAR!AN34) -> 0 | AO34: =SUM(ENE:MAR!AO34) -> 0 | AP34: =SUM(ENE:MAR!AP34) -> 0 | AQ34: =SUM(ENE:MAR!AQ34) -> 0 | AR34: =SUM(ENE:MAR!AR34) -> 0 | AS34: =SUM(ENE:MAR!AS34) -> 0
H35: Paciente amputado: Amputados de miembro superior con consulta ambulatoria para la evaluación y manejo de un usuario de salud nuevo nivel de atención I (Prescripción de la ayuda técnica o producto de apoyo) | AC35: =SUM(ENE:MAR!AC35:AF35) -> 0 | AG35: =SUM(ENE:MAR!AG35:AH35) -> 0 | AI35: =SUM(ENE:MAR!AI35:AK35) -> 0 | AL35: =SUM(ENE:MAR!AL35) -> 0 | AM35: =SUM(ENE:MAR!AM35) -> 0 | AN35: =SUM(ENE:MAR!AN35) -> 0 | AO35: =SUM(ENE:MAR!AO35) -> 0 | AP35: =SUM(ENE:MAR!AP35) -> 0 | AQ35: =SUM(ENE:MAR!AQ35) -> 0 | AR35: =SUM(ENE:MAR!AR35) -> 0 | AS35: =SUM(ENE:MAR!AS35) -> 0
H36: Paciente amputado: Amputados de miembro superior con consulta ambulatoria para la evaluación y manejo de un usuario de salud nuevo nivel de atención II (Prescripción de la ayuda técnica o producto de apoyo). | AC36: =SUM(ENE:MAR!AC36:AF36) -> 0 | AG36: =SUM(ENE:MAR!AG36:AH36) -> 0 | AI36: =SUM(ENE:MAR!AI36:AK36) -> 0 | AL36: =SUM(ENE:MAR!AL36) -> 0 | AM36: =SUM(ENE:MAR!AM36) -> 0 | AN36: =SUM(ENE:MAR!AN36) -> 0 | AO36: =SUM(ENE:MAR!AO36) -> 0 | AP36: =SUM(ENE:MAR!AP36) -> 0 | AQ36: =SUM(ENE:MAR!AQ36) -> 0 | AR36: =SUM(ENE:MAR!AR36) -> 0 | AS36: =SUM(ENE:MAR!AS36) -> 0
H37: Paciente amputado: Amputados de miembro superior con consulta ambulatoria para la evaluación y manejo de un usuario de salud nuevo nivel de atención III (Prescripción de la ayuda técnica o producto de apoyo). | AC37: =SUM(ENE:MAR!AC37:AF37) -> 0 | AG37: =SUM(ENE:MAR!AG37:AH37) -> 0 | AI37: =SUM(ENE:MAR!AI37:AK37) -> 0 | AL37: =SUM(ENE:MAR!AL37) -> 0 | AM37: =SUM(ENE:MAR!AM37) -> 0 | AN37: =SUM(ENE:MAR!AN37) -> 0 | AO37: =SUM(ENE:MAR!AO37) -> 0 | AP37: =SUM(ENE:MAR!AP37) -> 0 | AQ37: =SUM(ENE:MAR!AQ37) -> 0 | AR37: =SUM(ENE:MAR!AR37) -> 0 | AS37: =SUM(ENE:MAR!AS37) -> 0
H38: Paciente amputado: Amputados de miembro superior con revisión final para el uso de dispositivos ortóticos/protésicos usuario de salud establecido (Entrega de la ayuda técnica o producto de apoyo | AC38: =SUM(ENE:MAR!AC38:AF38) -> 0 | AG38: =SUM(ENE:MAR!AG38:AH38) -> 0 | AI38: =SUM(ENE:MAR!AI38:AK38) -> 0 | AL38: =SUM(ENE:MAR!AL38) -> 0 | AM38: =SUM(ENE:MAR!AM38) -> 0 | AN38: =SUM(ENE:MAR!AN38) -> 0 | AO38: =SUM(ENE:MAR!AO38) -> 0 | AP38: =SUM(ENE:MAR!AP38) -> 0 | AQ38: =SUM(ENE:MAR!AQ38) -> 0 | AR38: =SUM(ENE:MAR!AR38) -> 0 | AS38: =SUM(ENE:MAR!AS38) -> 0
B39: Paciente amputado: Amputados de miembro inferior | H39: Paciente amputado: Amputados de miembro inferior con severidad leve | AC39: =SUM(ENE:MAR!AC39:AF39) -> 0 | AG39: =SUM(ENE:MAR!AG39:AH39) -> 0 | AI39: =SUM(ENE:MAR!AI39:AK39) -> 0 | AL39: =SUM(ENE:MAR!AL39) -> 0 | AM39: =SUM(ENE:MAR!AM39) -> 0 | AN39: =SUM(ENE:MAR!AN39) -> 0 | AO39: =SUM(ENE:MAR!AO39) -> 0 | AP39: =SUM(ENE:MAR!AP39) -> 0 | AQ39: =SUM(ENE:MAR!AQ39) -> 0 | AR39: =SUM(ENE:MAR!AR39) -> 0 | AS39: =SUM(ENE:MAR!AS39) -> 0
H40: Paciente amputado: Amputados de miembro inferior con severidad moderada | AC40: =SUM(ENE:MAR!AC40:AF40) -> 0 | AG40: =SUM(ENE:MAR!AG40:AH40) -> 0 | AI40: =SUM(ENE:MAR!AI40:AK40) -> 0 | AL40: =SUM(ENE:MAR!AL40) -> 0 | AM40: =SUM(ENE:MAR!AM40) -> 0 | AN40: =SUM(ENE:MAR!AN40) -> 0 | AO40: =SUM(ENE:MAR!AO40) -> 0 | AP40: =SUM(ENE:MAR!AP40) -> 0 | AQ40: =SUM(ENE:MAR!AQ40) -> 0 | AR40: =SUM(ENE:MAR!AR40) -> 0 | AS40: =SUM(ENE:MAR!AS40) -> 0
H41: Paciente amputado: Amputados de miembro inferior severo | AC41: =SUM(ENE:MAR!AC41:AF41) -> 0 | AG41: =SUM(ENE:MAR!AG41:AH41) -> 0 | AI41: =SUM(ENE:MAR!AI41:AK41) -> 0 | AL41: =SUM(ENE:MAR!AL41) -> 0 | AM41: =SUM(ENE:MAR!AM41) -> 0 | AN41: =SUM(ENE:MAR!AN41) -> 0 | AO41: =SUM(ENE:MAR!AO41) -> 0 | AP41: =SUM(ENE:MAR!AP41) -> 0 | AQ41: =SUM(ENE:MAR!AQ41) -> 0 | AR41: =SUM(ENE:MAR!AR41) -> 0 | AS41: =SUM(ENE:MAR!AS41) -> 0
H42: Paciente amputado: Amputados de miembro inferior rehabilitado | AC42: =SUM(ENE:MAR!AC42:AF42) -> 0 | AG42: =SUM(ENE:MAR!AG42:AH42) -> 0 | AI42: =SUM(ENE:MAR!AI42:AK42) -> 0 | AL42: =SUM(ENE:MAR!AL42) -> 0 | AM42: =SUM(ENE:MAR!AM42) -> 0 | AN42: =SUM(ENE:MAR!AN42) -> 0 | AO42: =SUM(ENE:MAR!AO42) -> 0 | AP42: =SUM(ENE:MAR!AP42) -> 0 | AQ42: =SUM(ENE:MAR!AQ42) -> 0 | AR42: =SUM(ENE:MAR!AR42) -> 0 | AS42: =SUM(ENE:MAR!AS42) -> 0
H43: Paciente amputado: Amputados de miembro inferior con discapacidad | AC43: =SUM(ENE:MAR!AC43:AF43) -> 0 | AG43: =SUM(ENE:MAR!AG43:AH43) -> 0 | AI43: =SUM(ENE:MAR!AI43:AK43) -> 0 | AL43: =SUM(ENE:MAR!AL43) -> 0 | AM43: =SUM(ENE:MAR!AM43) -> 0 | AN43: =SUM(ENE:MAR!AN43) -> 0 | AO43: =SUM(ENE:MAR!AO43) -> 0 | AP43: =SUM(ENE:MAR!AP43) -> 0 | AQ43: =SUM(ENE:MAR!AQ43) -> 0 | AR43: =SUM(ENE:MAR!AR43) -> 0 | AS43: =SUM(ENE:MAR!AS43) -> 0
H44: Paciente amputado: Amputados de miembro inferior con servicio de evaluación, calificación y certificación de la discapacidad | AC44: =SUM(ENE:MAR!AC44:AF44) -> 0 | AG44: =SUM(ENE:MAR!AG44:AH44) -> 0 | AI44: =SUM(ENE:MAR!AI44:AK44) -> 0 | AL44: =SUM(ENE:MAR!AL44) -> 0 | AM44: =SUM(ENE:MAR!AM44) -> 0 | AN44: =SUM(ENE:MAR!AN44) -> 0 | AO44: =SUM(ENE:MAR!AO44) -> 0 | AP44: =SUM(ENE:MAR!AP44) -> 0 | AQ44: =SUM(ENE:MAR!AQ44) -> 0 | AR44: =SUM(ENE:MAR!AR44) -> 0 | AS44: =SUM(ENE:MAR!AS44) -> 0
H45: Paciente amputado: Amputados de miembro inferior con consulta ambulatoria para la evaluación y manejo de un usuario de salud nuevo nivel de atención I (Prescripción de la ayuda técnica o producto de apoyo) | AC45: =SUM(ENE:MAR!AC45:AF45) -> 0 | AG45: =SUM(ENE:MAR!AG45:AH45) -> 0 | AI45: =SUM(ENE:MAR!AI45:AK45) -> 0 | AL45: =SUM(ENE:MAR!AL45) -> 0 | AM45: =SUM(ENE:MAR!AM45) -> 0 | AN45: =SUM(ENE:MAR!AN45) -> 0 | AO45: =SUM(ENE:MAR!AO45) -> 0 | AP45: =SUM(ENE:MAR!AP45) -> 0 | AQ45: =SUM(ENE:MAR!AQ45) -> 0 | AR45: =SUM(ENE:MAR!AR45) -> 0 | AS45: =SUM(ENE:MAR!AS45) -> 0
H46: Paciente amputado: Amputados de miembro inferior con consulta ambulatoria para la evaluación y manejo de un usuario de salud nuevo nivel de atención II (Prescripción de la ayuda técnica o producto de apoyo). | AC46: =SUM(ENE:MAR!AC46:AF46) -> 0 | AG46: =SUM(ENE:MAR!AG46:AH46) -> 0 | AI46: =SUM(ENE:MAR!AI46:AK46) -> 0 | AL46: =SUM(ENE:MAR!AL46) -> 0 | AM46: =SUM(ENE:MAR!AM46) -> 0 | AN46: =SUM(ENE:MAR!AN46) -> 0 | AO46: =SUM(ENE:MAR!AO46) -> 0 | AP46: =SUM(ENE:MAR!AP46) -> 0 | AQ46: =SUM(ENE:MAR!AQ46) -> 0 | AR46: =SUM(ENE:MAR!AR46) -> 0 | AS46: =SUM(ENE:MAR!AS46) -> 0
H47: Paciente amputado: Amputados de miembro inferior con consulta ambulatoria para la evaluación y manejo de un usuario de salud nuevo nivel de atención III (Prescripción de la ayuda técnica o producto de apoyo). | AC47: =SUM(ENE:MAR!AC47:AF47) -> 0 | AG47: =SUM(ENE:MAR!AG47:AH47) -> 0 | AI47: =SUM(ENE:MAR!AI47:AK47) -> 0 | AL47: =SUM(ENE:MAR!AL47) -> 0 | AM47: =SUM(ENE:MAR!AM47) -> 0 | AN47: =SUM(ENE:MAR!AN47) -> 0 | AO47: =SUM(ENE:MAR!AO47) -> 0 | AP47: =SUM(ENE:MAR!AP47) -> 0 | AQ47: =SUM(ENE:MAR!AQ47) -> 0 | AR47: =SUM(ENE:MAR!AR47) -> 0 | AS47: =SUM(ENE:MAR!AS47) -> 0
H48: Paciente amputado: Amputados de miembro inferior con revisión final para el uso de dispositivos ortóticos/protésicos usuario de salud establecido (Entrega de la ayuda técnica o producto de apoyo). | AC48: =SUM(ENE:MAR!AC48:AF48) -> 0 | AG48: =SUM(ENE:MAR!AG48:AH48) -> 0 | AI48: =SUM(ENE:MAR!AI48:AK48) -> 0 | AL48: =SUM(ENE:MAR!AL48) -> 0 | AM48: =SUM(ENE:MAR!AM48) -> 0 | AN48: =SUM(ENE:MAR!AN48) -> 0 | AO48: =SUM(ENE:MAR!AO48) -> 0 | AP48: =SUM(ENE:MAR!AP48) -> 0 | AQ48: =SUM(ENE:MAR!AQ48) -> 0 | AR48: =SUM(ENE:MAR!AR48) -> 0 | AS48: =SUM(ENE:MAR!AS48) -> 0
A49: PATOLOGÍA NEUROLOGICA | B49: ----------------------- | H49: Enfermedad de Parkinson | AC49: =SUM(ENE:MAR!AC49:AF49) -> 0 | AG49: =SUM(ENE:MAR!AG49:AH49) -> 0 | AI49: =SUM(ENE:MAR!AI49:AK49) -> 0 | AL49: =SUM(ENE:MAR!AL49) -> 0 | AM49: =SUM(ENE:MAR!AM49) -> 0 | AN49: =SUM(ENE:MAR!AN49) -> 0 | AO49: =SUM(ENE:MAR!AO49) -> 0 | AP49: =SUM(ENE:MAR!AP49) -> 0 | AQ49: =SUM(ENE:MAR!AQ49) -> 0 | AR49: =SUM(ENE:MAR!AR49) -> 0 | AS49: =SUM(ENE:MAR!AS49) -> 0
H50: Enfermedad cerebro vascular | AC50: =SUM(ENE:MAR!AC50:AF50) -> 0 | AG50: =SUM(ENE:MAR!AG50:AH50) -> 0 | AI50: =SUM(ENE:MAR!AI50:AK50) -> 0 | AL50: =SUM(ENE:MAR!AL50) -> 0 | AM50: =SUM(ENE:MAR!AM50) -> 0 | AN50: =SUM(ENE:MAR!AN50) -> 0 | AO50: =SUM(ENE:MAR!AO50) -> 0 | AP50: =SUM(ENE:MAR!AP50) -> 0 | AQ50: =SUM(ENE:MAR!AQ50) -> 0 | AR50: =SUM(ENE:MAR!AR50) -> 0 | AS50: =SUM(ENE:MAR!AS50) -> 0
H51: Enfermedad muscular y unión mioneural | AC51: =SUM(ENE:MAR!AC51:AF51) -> 0 | AG51: =SUM(ENE:MAR!AG51:AH51) -> 0 | AI51: =SUM(ENE:MAR!AI51:AK51) -> 0 | AL51: =SUM(ENE:MAR!AL51) -> 0 | AM51: =SUM(ENE:MAR!AM51) -> 0 | AN51: =SUM(ENE:MAR!AN51) -> 0 | AO51: =SUM(ENE:MAR!AO51) -> 0 | AP51: =SUM(ENE:MAR!AP51) -> 0 | AQ51: =SUM(ENE:MAR!AQ51) -> 0 | AR51: =SUM(ENE:MAR!AR51) -> 0 | AS51: =SUM(ENE:MAR!AS51) -> 0
H52: Lesiones de nervio periférico | AC52: =SUM(ENE:MAR!AC52:AF52) -> 0 | AG52: =SUM(ENE:MAR!AG52:AH52) -> 0 | AI52: =SUM(ENE:MAR!AI52:AK52) -> 0 | AL52: =SUM(ENE:MAR!AL52) -> 0 | AM52: =SUM(ENE:MAR!AM52) -> 0 | AN52: =SUM(ENE:MAR!AN52) -> 0 | AO52: =SUM(ENE:MAR!AO52) -> 0 | AP52: =SUM(ENE:MAR!AP52) -> 0 | AQ52: =SUM(ENE:MAR!AQ52) -> 0 | AR52: =SUM(ENE:MAR!AR52) -> 0 | AS52: =SUM(ENE:MAR!AS52) -> 0
A53: 0515006 TRANSTORNOS DEL DESARROLLO DE LA FUNCION MOTRIZ | B53: ----------------------- | H53: Trastornos del desarrollo de la función motriz | AC53: =SUM(ENE:MAR!AC53:AF53) -> 0 | AG53: =SUM(ENE:MAR!AG53:AH53) -> 0 | AI53: =SUM(ENE:MAR!AI53:AK53) -> 0 | AL53: =SUM(ENE:MAR!AL53) -> 0 | AM53: =SUM(ENE:MAR!AM53) -> 0 | AN53: =SUM(ENE:MAR!AN53) -> 0 | AO53: =SUM(ENE:MAR!AO53) -> 0 | AP53: =SUM(ENE:MAR!AP53) -> 0 | AQ53: =SUM(ENE:MAR!AQ53) -> 0 | AR53: =SUM(ENE:MAR!AR53) -> 0 | AS53: =SUM(ENE:MAR!AS53) -> 0
A54: 0515007 ENFERMEDAD ARTICULAR DEGENERATIVA | B54: ----------------------- | H54: Enfermedad articular degenerativa | AC54: =SUM(ENE:MAR!AC54:AF54) -> 2 | AG54: =SUM(ENE:MAR!AG54:AH54) -> 0 | AI54: =SUM(ENE:MAR!AI54:AK54) -> 0 | AL54: =SUM(ENE:MAR!AL54) -> 0 | AM54: =SUM(ENE:MAR!AM54) -> 0 | AN54: =SUM(ENE:MAR!AN54) -> 0 | AO54: =SUM(ENE:MAR!AO54) -> 0 | AP54: =SUM(ENE:MAR!AP54) -> 0 | AQ54: =SUM(ENE:MAR!AQ54) -> 1 | AR54: =SUM(ENE:MAR!AR54) -> 0 | AS54: =SUM(ENE:MAR!AS54) -> 1
A55: 0515009 ENCEFALOPATIA INFANTIL | B55: ----------------------- | H55: Encefalopatía infantil | AC55: =SUM(ENE:MAR!AC55:AF55) -> 2 | AG55: =SUM(ENE:MAR!AG55:AH55) -> 0 | AI55: =SUM(ENE:MAR!AI55:AK55) -> 0 | AL55: =SUM(ENE:MAR!AL55) -> 0 | AM55: =SUM(ENE:MAR!AM55) -> 0 | AN55: =SUM(ENE:MAR!AN55) -> 2 | AO55: =SUM(ENE:MAR!AO55) -> 0 | AP55: =SUM(ENE:MAR!AP55) -> 0 | AQ55: =SUM(ENE:MAR!AQ55) -> 0 | AR55: =SUM(ENE:MAR!AR55) -> 0 | AS55: =SUM(ENE:MAR!AS55) -> 0
A56: 0515011 SÍNDROME DE DOWN | B56: ----------------------- | H56: Síndrome de Down | AC56: =SUM(ENE:MAR!AC56:AF56) -> 0 | AG56: =SUM(ENE:MAR!AG56:AH56) -> 0 | AI56: =SUM(ENE:MAR!AI56:AK56) -> 0 | AL56: =SUM(ENE:MAR!AL56) -> 0 | AM56: =SUM(ENE:MAR!AM56) -> 0 | AN56: =SUM(ENE:MAR!AN56) -> 0 | AO56: =SUM(ENE:MAR!AO56) -> 0 | AP56: =SUM(ENE:MAR!AP56) -> 0 | AQ56: =SUM(ENE:MAR!AQ56) -> 0 | AR56: =SUM(ENE:MAR!AR56) -> 0 | AS56: =SUM(ENE:MAR!AS56) -> 0
A57: PATOLOGIA DE LA COLUMNA VERTEBRAL Y OTROS TRANSTORNOS POSTURALES | B57: ----------------------- | H57: Cifosis y lordosis | AC57: =SUM(ENE:MAR!AC57:AF57) -> 1 | AG57: =SUM(ENE:MAR!AG57:AH57) -> 0 | AI57: =SUM(ENE:MAR!AI57:AK57) -> 0 | AL57: =SUM(ENE:MAR!AL57) -> 0 | AM57: =SUM(ENE:MAR!AM57) -> 0 | AN57: =SUM(ENE:MAR!AN57) -> 0 | AO57: =SUM(ENE:MAR!AO57) -> 0 | AP57: =SUM(ENE:MAR!AP57) -> 0 | AQ57: =SUM(ENE:MAR!AQ57) -> 0 | AR57: =SUM(ENE:MAR!AR57) -> 0 | AS57: =SUM(ENE:MAR!AS57) -> 1
H58: Espondilo artropatías | AC58: =SUM(ENE:MAR!AC58:AF58) -> 0 | AG58: =SUM(ENE:MAR!AG58:AH58) -> 0 | AI58: =SUM(ENE:MAR!AI58:AK58) -> 0 | AL58: =SUM(ENE:MAR!AL58) -> 0 | AM58: =SUM(ENE:MAR!AM58) -> 0 | AN58: =SUM(ENE:MAR!AN58) -> 0 | AO58: =SUM(ENE:MAR!AO58) -> 0 | AP58: =SUM(ENE:MAR!AP58) -> 0 | AQ58: =SUM(ENE:MAR!AQ58) -> 0 | AR58: =SUM(ENE:MAR!AR58) -> 0 | AS58: =SUM(ENE:MAR!AS58) -> 0
H59: Otros trastornos de los discos intervertebrales | AC59: =SUM(ENE:MAR!AC59:AF59) -> 0 | AG59: =SUM(ENE:MAR!AG59:AH59) -> 0 | AI59: =SUM(ENE:MAR!AI59:AK59) -> 0 | AL59: =SUM(ENE:MAR!AL59) -> 0 | AM59: =SUM(ENE:MAR!AM59) -> 0 | AN59: =SUM(ENE:MAR!AN59) -> 0 | AO59: =SUM(ENE:MAR!AO59) -> 0 | AP59: =SUM(ENE:MAR!AP59) -> 0 | AQ59: =SUM(ENE:MAR!AQ59) -> 0 | AR59: =SUM(ENE:MAR!AR59) -> 0 | AS59: =SUM(ENE:MAR!AS59) -> 0
H60: Cervicalgia, Dorsalgia, Lumbago | AC60: =SUM(ENE:MAR!AC60:AF60) -> 0 | AG60: =SUM(ENE:MAR!AG60:AH60) -> 0 | AI60: =SUM(ENE:MAR!AI60:AK60) -> 0 | AL60: =SUM(ENE:MAR!AL60) -> 0 | AM60: =SUM(ENE:MAR!AM60) -> 0 | AN60: =SUM(ENE:MAR!AN60) -> 0 | AO60: =SUM(ENE:MAR!AO60) -> 0 | AP60: =SUM(ENE:MAR!AP60) -> 0 | AQ60: =SUM(ENE:MAR!AQ60) -> 0 | AR60: =SUM(ENE:MAR!AR60) -> 0 | AS60: =SUM(ENE:MAR!AS60) -> 0
H61: Otras dorsopatías deformantes. | AC61: =SUM(ENE:MAR!AC61:AF61) -> 0 | AG61: =SUM(ENE:MAR!AG61:AH61) -> 0 | AI61: =SUM(ENE:MAR!AI61:AK61) -> 0 | AL61: =SUM(ENE:MAR!AL61) -> 0 | AM61: =SUM(ENE:MAR!AM61) -> 0 | AN61: =SUM(ENE:MAR!AN61) -> 0 | AO61: =SUM(ENE:MAR!AO61) -> 0 | AP61: =SUM(ENE:MAR!AP61) -> 0 | AQ61: =SUM(ENE:MAR!AQ61) -> 0 | AR61: =SUM(ENE:MAR!AR61) -> 0 | AS61: =SUM(ENE:MAR!AS61) -> 0
H62: Otros trastornos del sistema musculoesquelético y el tejido conectivo | AC62: =SUM(ENE:MAR!AC62:AF62) -> 0 | AG62: =SUM(ENE:MAR!AG62:AH62) -> 0 | AI62: =SUM(ENE:MAR!AI62:AK62) -> 0 | AL62: =SUM(ENE:MAR!AL62) -> 0 | AM62: =SUM(ENE:MAR!AM62) -> 0 | AN62: =SUM(ENE:MAR!AN62) -> 0 | AO62: =SUM(ENE:MAR!AO62) -> 0 | AP62: =SUM(ENE:MAR!AP62) -> 0 | AQ62: =SUM(ENE:MAR!AQ62) -> 0 | AR62: =SUM(ENE:MAR!AR62) -> 0 | AS62: =SUM(ENE:MAR!AS62) -> 0
H63: Otros trastornos articulares | AC63: =SUM(ENE:MAR!AC63:AF63) -> 0 | AG63: =SUM(ENE:MAR!AG63:AH63) -> 0 | AI63: =SUM(ENE:MAR!AI63:AK63) -> 0 | AL63: =SUM(ENE:MAR!AL63) -> 0 | AM63: =SUM(ENE:MAR!AM63) -> 0 | AN63: =SUM(ENE:MAR!AN63) -> 0 | AO63: =SUM(ENE:MAR!AO63) -> 0 | AP63: =SUM(ENE:MAR!AP63) -> 0 | AQ63: =SUM(ENE:MAR!AQ63) -> 0 | AR63: =SUM(ENE:MAR!AR63) -> 0 | AS63: =SUM(ENE:MAR!AS63) -> 0
H64: Defectos en la longitud de extremidades | AC64: =SUM(ENE:MAR!AC64:AF64) -> 0 | AG64: =SUM(ENE:MAR!AG64:AH64) -> 0 | AI64: =SUM(ENE:MAR!AI64:AK64) -> 0 | AL64: =SUM(ENE:MAR!AL64) -> 0 | AM64: =SUM(ENE:MAR!AM64) -> 0 | AN64: =SUM(ENE:MAR!AN64) -> 0 | AO64: =SUM(ENE:MAR!AO64) -> 0 | AP64: =SUM(ENE:MAR!AP64) -> 0 | AQ64: =SUM(ENE:MAR!AQ64) -> 0 | AR64: =SUM(ENE:MAR!AR64) -> 0 | AS64: =SUM(ENE:MAR!AS64) -> 0
A65: REHABILITACIÓN EN ENFERMEDAD CARDIOVASCULAR | B65: ----------------------- | H65: Rehabilitación en enfermedad cardiovascular | AC65: =SUM(ENE:MAR!AC65:AF65) -> 0 | AG65: =SUM(ENE:MAR!AG65:AH65) -> 0 | AI65: =SUM(ENE:MAR!AI65:AK65) -> 0 | AL65: =SUM(ENE:MAR!AL65) -> 0 | AM65: =SUM(ENE:MAR!AM65) -> 0 | AN65: =SUM(ENE:MAR!AN65) -> 0 | AO65: =SUM(ENE:MAR!AO65) -> 0 | AP65: =SUM(ENE:MAR!AP65) -> 0 | AQ65: =SUM(ENE:MAR!AQ65) -> 0 | AR65: =SUM(ENE:MAR!AR65) -> 0 | AS65: =SUM(ENE:MAR!AS65) -> 0
A66: REHABILITACIÓN EN ENFERMEDAD RESPIRATORIA | B66: ----------------------- | H66: Rehabilitación en enfermedad respiratoria | AC66: =SUM(ENE:MAR!AC66:AF66) -> 0 | AG66: =SUM(ENE:MAR!AG66:AH66) -> 0 | AI66: =SUM(ENE:MAR!AI66:AK66) -> 0 | AL66: =SUM(ENE:MAR!AL66) -> 0 | AM66: =SUM(ENE:MAR!AM66) -> 0 | AN66: =SUM(ENE:MAR!AN66) -> 0 | AO66: =SUM(ENE:MAR!AO66) -> 0 | AP66: =SUM(ENE:MAR!AP66) -> 0 | AQ66: =SUM(ENE:MAR!AQ66) -> 0 | AR66: =SUM(ENE:MAR!AR66) -> 0 | AS66: =SUM(ENE:MAR!AS66) -> 0
A67: REHABILITACIÓN EN ALTERACIONES DEL PISO PÉLVICO | B67: ----------------------- | H67: Vejiga neurogénica | AC67: =SUM(ENE:MAR!AC67:AF67) -> 0 | AG67: =SUM(ENE:MAR!AG67:AH67) -> 0 | AI67: =SUM(ENE:MAR!AI67:AK67) -> 0 | AL67: =SUM(ENE:MAR!AL67) -> 0 | AM67: =SUM(ENE:MAR!AM67) -> 0 | AN67: =SUM(ENE:MAR!AN67) -> 0 | AO67: =SUM(ENE:MAR!AO67) -> 0 | AP67: =SUM(ENE:MAR!AP67) -> 0 | AQ67: =SUM(ENE:MAR!AQ67) -> 0 | AR67: =SUM(ENE:MAR!AR67) -> 0 | AS67: =SUM(ENE:MAR!AS67) -> 0
H68: Incontinencia | AC68: =SUM(ENE:MAR!AC68:AF68) -> 0 | AG68: =SUM(ENE:MAR!AG68:AH68) -> 0 | AI68: =SUM(ENE:MAR!AI68:AK68) -> 0 | AL68: =SUM(ENE:MAR!AL68) -> 0 | AM68: =SUM(ENE:MAR!AM68) -> 0 | AN68: =SUM(ENE:MAR!AN68) -> 0 | AO68: =SUM(ENE:MAR!AO68) -> 0 | AP68: =SUM(ENE:MAR!AP68) -> 0 | AQ68: =SUM(ENE:MAR!AQ68) -> 0 | AR68: =SUM(ENE:MAR!AR68) -> 0 | AS68: =SUM(ENE:MAR!AS68) -> 0
H69: Prolapso | AC69: =SUM(ENE:MAR!AC69:AF69) -> 0 | AG69: =SUM(ENE:MAR!AG69:AH69) -> 0 | AI69: =SUM(ENE:MAR!AI69:AK69) -> 0 | AL69: =SUM(ENE:MAR!AL69) -> 0 | AM69: =SUM(ENE:MAR!AM69) -> 0 | AN69: =SUM(ENE:MAR!AN69) -> 0 | AO69: =SUM(ENE:MAR!AO69) -> 0 | AP69: =SUM(ENE:MAR!AP69) -> 0 | AQ69: =SUM(ENE:MAR!AQ69) -> 0 | AR69: =SUM(ENE:MAR!AR69) -> 0 | AS69: =SUM(ENE:MAR!AS69) -> 0
A70: ATENCIÓN DE REHABILITACIÓN EN PATOLOGÍA TRAUMATOLÓGICA Y REUMATOLÓGICA | B70: ----------------------- | H70: Traumatismo | AC70: =SUM(ENE:MAR!AC70:AF70) -> 0 | AG70: =SUM(ENE:MAR!AG70:AH70) -> 0 | AI70: =SUM(ENE:MAR!AI70:AK70) -> 0 | AL70: =SUM(ENE:MAR!AL70) -> 0 | AM70: =SUM(ENE:MAR!AM70) -> 0 | AN70: =SUM(ENE:MAR!AN70) -> 0 | AO70: =SUM(ENE:MAR!AO70) -> 0 | AP70: =SUM(ENE:MAR!AP70) -> 0 | AQ70: =SUM(ENE:MAR!AQ70) -> 0 | AR70: =SUM(ENE:MAR!AR70) -> 0 | AS70: =SUM(ENE:MAR!AS70) -> 0
H71: Enfermedades del tejido conectivo | AC71: =SUM(ENE:MAR!AC71:AF71) -> 0 | AG71: =SUM(ENE:MAR!AG71:AH71) -> 0 | AI71: =SUM(ENE:MAR!AI71:AK71) -> 0 | AL71: =SUM(ENE:MAR!AL71) -> 0 | AM71: =SUM(ENE:MAR!AM71) -> 0 | AN71: =SUM(ENE:MAR!AN71) -> 0 | AO71: =SUM(ENE:MAR!AO71) -> 0 | AP71: =SUM(ENE:MAR!AP71) -> 0 | AQ71: =SUM(ENE:MAR!AQ71) -> 0 | AR71: =SUM(ENE:MAR!AR71) -> 0 | AS71: =SUM(ENE:MAR!AS71) -> 0
H72: Patología articular excluida columna | AC72: =SUM(ENE:MAR!AC72:AF72) -> 0 | AG72: =SUM(ENE:MAR!AG72:AH72) -> 0 | AI72: =SUM(ENE:MAR!AI72:AK72) -> 0 | AL72: =SUM(ENE:MAR!AL72) -> 0 | AM72: =SUM(ENE:MAR!AM72) -> 0 | AN72: =SUM(ENE:MAR!AN72) -> 0 | AO72: =SUM(ENE:MAR!AO72) -> 0 | AP72: =SUM(ENE:MAR!AP72) -> 0 | AQ72: =SUM(ENE:MAR!AQ72) -> 0 | AR72: =SUM(ENE:MAR!AR72) -> 0 | AS72: =SUM(ENE:MAR!AS72) -> 0
H73: Lesiones Infecciosas | AC73: =SUM(ENE:MAR!AC73:AF73) -> 0 | AG73: =SUM(ENE:MAR!AG73:AH73) -> 0 | AI73: =SUM(ENE:MAR!AI73:AK73) -> 0 | AL73: =SUM(ENE:MAR!AL73) -> 0 | AM73: =SUM(ENE:MAR!AM73) -> 0 | AN73: =SUM(ENE:MAR!AN73) -> 0 | AO73: =SUM(ENE:MAR!AO73) -> 0 | AP73: =SUM(ENE:MAR!AP73) -> 0 | AQ73: =SUM(ENE:MAR!AQ73) -> 0 | AR73: =SUM(ENE:MAR!AR73) -> 0 | AS73: =SUM(ENE:MAR!AS73) -> 0
H74: Lesión biomecánica | AC74: =SUM(ENE:MAR!AC74:AF74) -> 0 | AG74: =SUM(ENE:MAR!AG74:AH74) -> 0 | AI74: =SUM(ENE:MAR!AI74:AK74) -> 0 | AL74: =SUM(ENE:MAR!AL74) -> 0 | AM74: =SUM(ENE:MAR!AM74) -> 0 | AN74: =SUM(ENE:MAR!AN74) -> 0 | AO74: =SUM(ENE:MAR!AO74) -> 0 | AP74: =SUM(ENE:MAR!AP74) -> 0 | AQ74: =SUM(ENE:MAR!AQ74) -> 0 | AR74: =SUM(ENE:MAR!AR74) -> 0 | AS74: =SUM(ENE:MAR!AS74) -> 0
A75: REHABILITACIÓN ONCOLÓGICA | B75: ----------------------- | H75: Linfedema + DX Neoplasia | AC75: =SUM(ENE:MAR!AC75:AF75) -> 0 | AG75: =SUM(ENE:MAR!AG75:AH75) -> 0 | AI75: =SUM(ENE:MAR!AI75:AK75) -> 0 | AL75: =SUM(ENE:MAR!AL75) -> 0 | AM75: =SUM(ENE:MAR!AM75) -> 0 | AN75: =SUM(ENE:MAR!AN75) -> 0 | AO75: =SUM(ENE:MAR!AO75) -> 0 | AP75: =SUM(ENE:MAR!AP75) -> 0 | AQ75: =SUM(ENE:MAR!AQ75) -> 0 | AR75: =SUM(ENE:MAR!AR75) -> 0 | AS75: =SUM(ENE:MAR!AS75) -> 0
H76: Sarcopenia + Dx Neoplasia | AC76: =SUM(ENE:MAR!AC76:AF76) -> 0 | AG76: =SUM(ENE:MAR!AG76:AH76) -> 0 | AI76: =SUM(ENE:MAR!AI76:AK76) -> 0 | AL76: =SUM(ENE:MAR!AL76) -> 0 | AM76: =SUM(ENE:MAR!AM76) -> 0 | AN76: =SUM(ENE:MAR!AN76) -> 0 | AO76: =SUM(ENE:MAR!AO76) -> 0 | AP76: =SUM(ENE:MAR!AP76) -> 0 | AQ76: =SUM(ENE:MAR!AQ76) -> 0 | AR76: =SUM(ENE:MAR!AR76) -> 0 | AS76: =SUM(ENE:MAR!AS76) -> 0
A77: REHABILITACIÓN EN DOLOR | B77: ----------------------- | H77: Rehabilitación en dolor | AC77: =SUM(ENE:MAR!AC77:AF77) -> 0 | AG77: =SUM(ENE:MAR!AG77:AH77) -> 0 | AI77: =SUM(ENE:MAR!AI77:AK77) -> 0 | AL77: =SUM(ENE:MAR!AL77) -> 0 | AM77: =SUM(ENE:MAR!AM77) -> 0 | AN77: =SUM(ENE:MAR!AN77) -> 0 | AO77: =SUM(ENE:MAR!AO77) -> 0 | AP77: =SUM(ENE:MAR!AP77) -> 0 | AQ77: =SUM(ENE:MAR!AQ77) -> 0 | AR77: =SUM(ENE:MAR!AR77) -> 0 | AS77: =SUM(ENE:MAR!AS77) -> 0
A78: REHABILITACIÓN EN PACIENTES QUEMADOS | B78: ----------------------- | H78: Rehabilitación en pacientes quemados | AC78: =SUM(ENE:MAR!AC78:AF78) -> 0 | AG78: =SUM(ENE:MAR!AG78:AH78) -> 0 | AI78: =SUM(ENE:MAR!AI78:AK78) -> 0 | AL78: =SUM(ENE:MAR!AL78) -> 0 | AM78: =SUM(ENE:MAR!AM78) -> 0 | AN78: =SUM(ENE:MAR!AN78) -> 0 | AO78: =SUM(ENE:MAR!AO78) -> 0 | AP78: =SUM(ENE:MAR!AP78) -> 0 | AQ78: =SUM(ENE:MAR!AQ78) -> 0 | AR78: =SUM(ENE:MAR!AR78) -> 0 | AS78: =SUM(ENE:MAR!AS78) -> 0
A80: Atención de Rehabilitación en Personas con Discapacidad de Tipo Sensorial (5005151)
A82: ATENCIONES | H82: Total | J82: 00a-11a | O82: 12a-17a | V82: 18a-29a | Y82: 30a-59a | AD82: 60a+
J83: M | M83: F | O83: M | R83: F | V83: M | W83: F | Y83: M | AA83: F | AD83: M | AH83: F
A84: HIPOACUSIA Y SORDERA | B84: Hipoacusia y/o sordera | H84: =SUM(ENE:MAR!H84:I84) -> 0 | J84: =SUM(ENE:MAR!J84:L84) -> 0 | M84: =SUM(ENE:MAR!M84:N84) -> 0 | O84: =SUM('I TRIM'!O84:Q84) -> 0 | R84: =SUM(ENE:MAR!R84:U84) -> 0 | V84: =SUM(ENE:MAR!V84) -> 0 | W84: =SUM(ENE:MAR!W84:X84) -> 0 | Y84: =SUM(ENE:MAR!Y84:Z84) -> 0 | AA84: =SUM(ENE:MAR!AA84:AC84) -> 0 | AD84: =SUM(ENE:MAR!AD84:AG84) -> 0 | AH84: =SUM(ENE:MAR!AH84:AI84) -> 0
A85: BAJA VISIÓN Y CEGUERA | B85: Baja visión y/o ceguera | H85: =SUM(ENE:MAR!H85:I85) -> 0 | J85: =SUM(ENE:MAR!J85:L85) -> 0 | M85: =SUM(ENE:MAR!M85:N85) -> 0 | O85: =SUM('I TRIM'!O85:Q85) -> 0 | R85: =SUM(ENE:MAR!R85:U85) -> 0 | V85: =SUM(ENE:MAR!V85) -> 0 | W85: =SUM(ENE:MAR!W85:X85) -> 0 | Y85: =SUM(ENE:MAR!Y85:Z85) -> 0 | AA85: =SUM(ENE:MAR!AA85:AC85) -> 0 | AD85: =SUM(ENE:MAR!AD85:AG85) -> 0 | AH85: =SUM(ENE:MAR!AH85:AI85) -> 0
A86: SORDOMUDEZ | B86: Sordomudez | H86: =SUM(ENE:MAR!H86:I86) -> 0 | J86: =SUM(ENE:MAR!J86:L86) -> 0 | M86: =SUM(ENE:MAR!M86:N86) -> 0 | O86: =SUM('I TRIM'!O86:Q86) -> 0 | R86: =SUM(ENE:MAR!R86:U86) -> 0 | V86: =SUM(ENE:MAR!V86) -> 0 | W86: =SUM(ENE:MAR!W86:X86) -> 0 | Y86: =SUM(ENE:MAR!Y86:Z86) -> 0 | AA86: =SUM(ENE:MAR!AA86:AC86) -> 0 | AD86: =SUM(ENE:MAR!AD86:AG86) -> 0 | AH86: =SUM(ENE:MAR!AH86:AI86) -> 0
A87: TRASTORNOS ESPECÍFICOS DEL DESARROLLO DEL HABLA Y LENGUAJE | B87: Transtornos específicos del desarrollo del habla y lenguaje | H87: =SUM(ENE:MAR!H87:I87) -> 1 | J87: =SUM(ENE:MAR!J87:L87) -> 0 | M87: =SUM(ENE:MAR!M87:N87) -> 0 | O87: =SUM('I TRIM'!O87:Q87) -> 0 | R87: =SUM(ENE:MAR!R87:U87) -> 0 | V87: =SUM(ENE:MAR!V87) -> 0 | W87: =SUM(ENE:MAR!W87:X87) -> 0 | Y87: =SUM(ENE:MAR!Y87:Z87) -> 0 | AA87: =SUM(ENE:MAR!AA87:AC87) -> 0 | AD87: =SUM(ENE:MAR!AD87:AG87) -> 0 | AH87: =SUM(ENE:MAR!AH87:AI87) -> 0
B88: Otros trastornos de la deglución | H88: =SUM(ENE:MAR!H88:I88) -> 0 | J88: =SUM(ENE:MAR!J88:L88) -> 0 | M88: =SUM(ENE:MAR!M88:N88) -> 0 | O88: =SUM('I TRIM'!O88:Q88) -> 0 | R88: =SUM(ENE:MAR!R88:U88) -> 0 | V88: =SUM(ENE:MAR!V88) -> 0 | W88: =SUM(ENE:MAR!W88:X88) -> 0 | Y88: =SUM(ENE:MAR!Y88:Z88) -> 0 | AA88: =SUM(ENE:MAR!AA88:AC88) -> 0 | AD88: =SUM(ENE:MAR!AD88:AG88) -> 0 | AH88: =SUM(ENE:MAR!AH88:AI88) -> 0
A89: DISARTRIA Y DISFAGIA | B89: Disartria | H89: =SUM(ENE:MAR!H89:I89) -> 0 | J89: =SUM(ENE:MAR!J89:L89) -> 0 | M89: =SUM(ENE:MAR!M89:N89) -> 0 | O89: =SUM('I TRIM'!O89:Q89) -> 0 | R89: =SUM(ENE:MAR!R89:U89) -> 0 | V89: =SUM(ENE:MAR!V89) -> 0 | W89: =SUM(ENE:MAR!W89:X89) -> 0 | Y89: =SUM(ENE:MAR!Y89:Z89) -> 0 | AA89: =SUM(ENE:MAR!AA89:AC89) -> 0 | AD89: =SUM(ENE:MAR!AD89:AG89) -> 0 | AH89: =SUM(ENE:MAR!AH89:AI89) -> 0
B90: Disfagia | H90: =SUM(ENE:MAR!H90:I90) -> 0 | J90: =SUM(ENE:MAR!J90:L90) -> 0 | M90: =SUM(ENE:MAR!M90:N90) -> 0 | O90: =SUM('I TRIM'!O90:Q90) -> 0 | R90: =SUM(ENE:MAR!R90:U90) -> 0 | V90: =SUM(ENE:MAR!V90) -> 0 | W90: =SUM(ENE:MAR!W90:X90) -> 0 | Y90: =SUM(ENE:MAR!Y90:Z90) -> 0 | AA90: =SUM(ENE:MAR!AA90:AC90) -> 0 | AD90: =SUM(ENE:MAR!AD90:AG90) -> 0 | AH90: =SUM(ENE:MAR!AH90:AI90) -> 0
A92: Atención de Rehabilitación en Personas con Discapacidad de Tipo Mental (5005151)
A94: ATENCIONES | C94: Total | D94: 00a-11a | I94: 12a-17a | N94: 18a-29a | U94: 30a-59a | Z94: 60a+
D95: M | G95: F | I95: M | L95: F | N95: M | Q95: F | U95: M | X95: F | Z95: M | AB95: F
A96: Trastornos de aprendizaje | C96: =SUM(ENE:MAR!C96) -> 1 | D96: =SUM(ENE:MAR!D96:F96) -> 0 | G96: =SUM(ENE:MAR!G96:H96) -> 0 | I96: =SUM(ENE:MAR!I96:K96) -> 1 | L96: =SUM(ENE:MAR!L96:M96) -> 0 | N96: =SUM(ENE:MAR!N96:P96) -> 0 | Q96: =SUM(ENE:MAR!Q96:T96) -> 0 | U96: =SUM(ENE:MAR!U96:W96) -> 0 | X96: =SUM(ENE:MAR!X96:Y96) -> 0 | Z96: =SUM(ENE:MAR!Z96:AA96) -> 0 | AB96: =SUM(ENE:MAR!AB96:AD96) -> 0
A97: Retraso mental: leve, moderado, severo | C97: =SUM(ENE:MAR!C97) -> 12 | D97: =SUM(ENE:MAR!D97:F97) -> 0 | G97: =SUM(ENE:MAR!G97:H97) -> 0 | I97: =SUM(ENE:MAR!I97:K97) -> 1 | L97: =SUM(ENE:MAR!L97:M97) -> 0 | N97: =SUM(ENE:MAR!N97:P97) -> 10 | Q97: =SUM(ENE:MAR!Q97:T97) -> 1 | U97: =SUM(ENE:MAR!U97:W97) -> 0 | X97: =SUM(ENE:MAR!X97:Y97) -> 0 | Z97: =SUM(ENE:MAR!Z97:AA97) -> 0 | AB97: =SUM(ENE:MAR!AB97:AD97) -> 0
A98: Trastornos del espectro autista | C98: =SUM(ENE:MAR!C98) -> 1 | D98: =SUM(ENE:MAR!D98:F98) -> 0 | G98: =SUM(ENE:MAR!G98:H98) -> 0 | I98: =SUM(ENE:MAR!I98:K98) -> 1 | L98: =SUM(ENE:MAR!L98:M98) -> 0 | N98: =SUM(ENE:MAR!N98:P98) -> 0 | Q98: =SUM(ENE:MAR!Q98:T98) -> 0 | U98: =SUM(ENE:MAR!U98:W98) -> 0 | X98: =SUM(ENE:MAR!X98:Y98) -> 0 | Z98: =SUM(ENE:MAR!Z98:AA98) -> 0 | AB98: =SUM(ENE:MAR!AB98:AD98) -> 0
A99: Otros trastornos de salud mental | C99: =SUM(ENE:MAR!C99) -> 1 | D99: =SUM(ENE:MAR!D99:F99) -> 0 | G99: =SUM(ENE:MAR!G99:H99) -> 0 | I99: =SUM(ENE:MAR!I99:K99) -> 0 | L99: =SUM(ENE:MAR!L99:M99) -> 0 | N99: =SUM(ENE:MAR!N99:P99) -> 1 | Q99: =SUM(ENE:MAR!Q99:T99) -> 0 | U99: =SUM(ENE:MAR!U99:W99) -> 0 | X99: =SUM(ENE:MAR!X99:Y99) -> 0 | Z99: =SUM(ENE:MAR!Z99:AA99) -> 0 | AB99: =SUM(ENE:MAR!AB99:AD99) -> 0
A101: PERSONAS CON DISCAPACIDAD CERTIFICADAS EN ESTABLECIMIENTOS DE SALUD (3000689)
A103: ATENCIONES | C103: Total | D103: 00a-11a | I103: 12a-17a | N103: 18a-29a | U103: 30a-59a | Z103: 60a+
D104: M | G104: F | I104: M | L104: F | N104: M | Q104: F | U104: M | X104: F | Z104: M | AB104: F
A105: Certificación de Discapacidad | C105: =SUM(ENE:MAR!C105) -> 0 | D105: =SUM(ENE:MAR!D105:F105) -> 0 | G105: =SUM(ENE:MAR!G105:H105) -> 0 | I105: =SUM(ENE:MAR!I105:K105) -> 0 | L105: =SUM(ENE:MAR!L105:M105) -> 0 | N105: =SUM(ENE:MAR!N105:P105) -> 0 | Q105: =SUM(ENE:MAR!Q105:T105) -> 0 | U105: =SUM(ENE:MAR!U105:W105) -> 0 | X105: =SUM(ENE:MAR!X105:Y105) -> 0 | Z105: =SUM(ENE:MAR!Z105:AA105) -> 0 | AB105: =SUM(ENE:MAR!AB105:AD105) -> 0
A106: Certificación de Incapacidad | C106: =SUM(ENE:MAR!C106) -> 0 | D106: =SUM(ENE:MAR!D106:F106) -> 0 | G106: =SUM(ENE:MAR!G106:H106) -> 0 | I106: =SUM(ENE:MAR!I106:K106) -> 0 | L106: =SUM(ENE:MAR!L106:M106) -> 0 | N106: =SUM(ENE:MAR!N106:P106) -> 0 | Q106: =SUM(ENE:MAR!Q106:T106) -> 0 | U106: =SUM(ENE:MAR!U106:W106) -> 0 | X106: =SUM(ENE:MAR!X106:Y106) -> 0 | Z106: =SUM(ENE:MAR!Z106:AA106) -> 0 | AB106: =SUM(ENE:MAR!AB106:AD106) -> 0
A108: PERSONAS CON DISCAPACIDAD RECIBEN SERVICIOS DE REHABILITACIÓN BASADA EN LA COMUNIDAD (3000690)
A110: ATENCIONES | C110: Total | D110: 00a-11a | I110: 12a-17a | N110: 18a-29a | U110: 30a-59a | Z110: 60a+
D111: M | G111: F | I111: M | L111: F | N111: M | Q111: F | U111: M | X111: F | Z111: M | AB111: F
A112: 1° Visita | C112: =SUM(ENE:MAR!C112) -> 0 | D112: =SUM(ENE:MAR!D112:F112) -> 0 | G112: =SUM(ENE:MAR!G112:H112) -> 0 | I112: =SUM(ENE:MAR!I112:K112) -> 0 | L112: =SUM(ENE:MAR!L112:M112) -> 0 | N112: =SUM(ENE:MAR!N112:P112) -> 0 | Q112: =SUM(ENE:MAR!Q112:T112) -> 0 | U112: =SUM(ENE:MAR!U112:W112) -> 0 | X112: =SUM(ENE:MAR!X112:Y112) -> 0 | Z112: =SUM(ENE:MAR!Z112:AA112) -> 0 | AB112: =SUM(ENE:MAR!AB112:AD112) -> 0
A113: 2° Visita | C113: =SUM(ENE:MAR!C113) -> 0 | D113: =SUM(ENE:MAR!D113:F113) -> 0 | G113: =SUM(ENE:MAR!G113:H113) -> 0 | I113: =SUM(ENE:MAR!I113:K113) -> 0 | L113: =SUM(ENE:MAR!L113:M113) -> 0 | N113: =SUM(ENE:MAR!N113:P113) -> 0 | Q113: =SUM(ENE:MAR!Q113:T113) -> 0 | U113: =SUM(ENE:MAR!U113:W113) -> 0 | X113: =SUM(ENE:MAR!X113:Y113) -> 0 | Z113: =SUM(ENE:MAR!Z113:AA113) -> 0 | AB113: =SUM(ENE:MAR!AB113:AD113) -> 0
A114: 3° Visita | C114: =SUM(ENE:MAR!C114) -> 0 | D114: =SUM(ENE:MAR!D114:F114) -> 0 | G114: =SUM(ENE:MAR!G114:H114) -> 0 | I114: =SUM(ENE:MAR!I114:K114) -> 0 | L114: =SUM(ENE:MAR!L114:M114) -> 0 | N114: =SUM(ENE:MAR!N114:P114) -> 0 | Q114: =SUM(ENE:MAR!Q114:T114) -> 0 | U114: =SUM(ENE:MAR!U114:W114) -> 0 | X114: =SUM(ENE:MAR!X114:Y114) -> 0 | Z114: =SUM(ENE:MAR!Z114:AA114) -> 0 | AB114: =SUM(ENE:MAR!AB114:AD114) -> 0
A116: Capacitación a agentes comunitarios en rehabilitación basada en la comunidad (5005155)
E118: 1° Taller / Sesión | K118: 2° Taller / Sesión
...

Sheet ABR
A3: REPORTE DE ACTIVIDADES DEL COMPONENTE DE DISCAPACIDAD
A5: Periodo: Abril - 2025
A6: Diresa/Red/M.Red/EE.SS: AREQUIPA/AREQUIPA CAYLLOMA/TIABAYA/TODOS LOS EE.SS
A8: PERSONAS CON DISCAPACIDAD RECIBEN ATENCION DE REHABILITACION EN ESTABLECIMIENTOS DE SALUD (3000688)
A10: Capacitación en medicina de rehabilitación integral (5004449)
B12: N° | C12: Capacitados
A13: Capacitación personal médido rehabilitador
A15: Atención de Rehabilitación en Personas con Discapacidad de Tipo Física (5005150)
A17: GRUPO | B17: ATENCIONES | AC17: Total | AG17: 00a-11a | AL17: 12a-17a | AN17: 18a-29a | AP17: 30a-59a | AR17: 60a+
AG18: M | AI18: F | AL18: M | AM18: F | AN18: M | AO18: F | AP18: M | AQ18: F | AR18: M | AS18: F
A19: 0515001 LESIONES MEDULARES | B19: Lesiones medulares | H19: Lesiones medulares con severidad leve
H20: Lesiones medulares con severidad moderada
H21: Lesiones medulares severas
H22: Lesiones medulares en personas rehabilitadas
H23: Lesiones medulares en personas con discapacidad
H24: Lesiones medulares con servicio de evaluación, calificación y certificación de la discapacidad
H25: Lesiones medulares con consulta ambulatoria para la evaluación y manejo de un usuario de salud nuevo nivel de atención I (Prescripción de la ayuda técnica o producto de apoyo)
H26: Lesiones medulares con consulta ambulatoria para la evaluación y manejo de un usuario de salud nuevo nivel de atención III (Prescripción de la ayuda técnica o producto de apoyo).
H27: Lesiones medulares con consulta ambulatoria para la evaluación y manejo de un usuario de salud nuevo nivel de atención II (Prescripción de la ayuda técnica o producto de apoyo).
H28: Lesiones medulares con revisión final para el uso de dispositivos ortóticos/protésicos usuario de salud establecido (Entrega de la ayuda técnica o producto de apoyo).
A29: 0515013 REHABILITACIÓN EN PACIENTES AMPUTADOS | B29: Paciente amputado: Amputados de miembro superior | H29: Paciente amputado: Amputados de miembro superior con severidad leve
H30: Paciente amputado: Amputados de miembro superir con severidad moderado
H31: Paciente amputado: Amputados de miembro superior severo
H32: Paciente amputado: Amputados de miembro superior rehabilitado
H33: Paciente amputado: Amputados de miembro superior discapacitado
H34: Paciente amputado: Amputados de miembro superior con servicio de evaluación, calificación y certificación de la discapacidad
H35: Paciente amputado: Amputados de miembro superior con consulta ambulatoria para la evaluación y manejo de un usuario de salud nuevo nivel de atención I (Prescripción de la ayuda técnica o producto de apoyo)
H36: Paciente amputado: Amputados de miembro superior con consulta ambulatoria para la evaluación y manejo de un usuario de salud nuevo nivel de atención II (Prescripción de la ayuda técnica o producto de apoyo).
H37: Paciente amputado: Amputados de miembro superior con consulta ambulatoria para la evaluación y manejo de un usuario de salud nuevo nivel de atención III (Prescripción de la ayuda técnica o producto de apoyo).
H38: Paciente amputado: Amputados de miembro superior con revisión final para el uso de dispositivos ortóticos/protésicos usuario de salud establecido (Entrega de la ayuda técnica o producto de apoyo
B39: Paciente amputado: Amputados de miembro inferior | H39: Paciente amputado: Amputados de miembro inferior con severidad leve
H40: Paciente amputado: Amputados de miembro inferior con severidad moderada
H41: Paciente amputado: Amputados de miembro inferior severo
H42: Paciente amputado: Amputados de miembro inferior rehabilitado
H43: Paciente amputado: Amputados de miembro inferior con discapacidad
H44: Paciente amputado: Amputados de miembro inferior con servicio de evaluación, calificación y certificación de la discapacidad
H45: Paciente amputado: Amputados de miembro inferior con consulta ambulatoria para la evaluación y manejo de un usuario de salud nuevo nivel de atención I (Prescripción de la ayuda técnica o producto de apoyo)
H46: Paciente amputado: Amputados de miembro inferior con consulta ambulatoria para la evaluación y manejo de un usuario de salud nuevo nivel de atención II (Prescripción de la ayuda técnica o producto de apoyo).
H47: Paciente amputado: Amputados de miembro inferior con consulta ambulatoria para la evaluación y manejo de un usuario de salud nuevo nivel de atención III (Prescripción de la ayuda técnica o producto de apoyo).
H48: Paciente amputado: Amputados de miembro inferior con revisión final para el uso de dispositivos ortóticos/protésicos usuario de salud establecido (Entrega de la ayuda técnica o producto de apoyo).
A49: PATOLOGÍA NEUROLOGICA | B49: ----------------------- | H49: Enfermedad de Parkinson
H50: Enfermedad cerebro vascular
H51: Enfermedad muscular y unión mioneural
H52: Lesiones de nervio periférico
A53: 0515006 TRANSTORNOS DEL DESARROLLO DE LA FUNCION MOTRIZ | B53: ----------------------- | H53: Trastornos del desarrollo de la función motriz
A54: 0515007 ENFERMEDAD ARTICULAR DEGENERATIVA | B54: ----------------------- | H54: Enfermedad articular degenerativa
A55: 0515009 ENCEFALOPATIA INFANTIL | B55: ----------------------- | H55: Encefalopatía infantil
A56: 0515011 SÍNDROME DE DOWN | B56: ----------------------- | H56: Síndrome de Down
A57: PATOLOGIA DE LA COLUMNA VERTEBRAL Y OTROS TRANSTORNOS POSTURALES | B57: ----------------------- | H57: Cifosis y lordosis
H58: Espondilo artropatías
H59: Otros trastornos de los discos intervertebrales
H60: Cervicalgia, Dorsalgia, Lumbago
H61: Otras dorsopatías deformantes.
H62: Otros trastornos del sistema musculoesquelético y el tejido conectivo
H63: Otros trastornos articulares
H64: Defectos en la longitud de extremidades
A65: REHABILITACIÓN EN ENFERMEDAD CARDIOVASCULAR | B65: ----------------------- | H65: Rehabilitación en enfermedad cardiovascular
A66: REHABILITACIÓN EN ENFERMEDAD RESPIRATORIA | B66: ----------------------- | H66: Rehabilitación en enfermedad respiratoria
A67: REHABILITACIÓN EN ALTERACIONES DEL PISO PÉLVICO | B67: ----------------------- | H67: Vejiga neurogénica
H68: Incontinencia
H69: Prolapso
A70: ATENCIÓN DE REHABILITACIÓN EN PATOLOGÍA TRAUMATOLÓGICA Y REUMATOLÓGICA | B70: ----------------------- | H70: Traumatismo
H71: Enfermedades del tejido conectivo
H72: Patología articular excluida columna
H73: Lesiones Infecciosas
H74: Lesión biomecánica
A75: REHABILITACIÓN ONCOLÓGICA | B75: ----------------------- | H75: Linfedema + DX Neoplasia
H76: Sarcopenia + Dx Neoplasia
A77: REHABILITACIÓN EN DOLOR | B77: ----------------------- | H77: Rehabilitación en dolor
A78: REHABILITACIÓN EN PACIENTES QUEMADOS | B78: ----------------------- | H78: Rehabilitación en pacientes quemados
A80: Atención de Rehabilitación en Personas con Discapacidad de Tipo Sensorial (5005151)
A82: ATENCIONES | H82: Total | J82: 00a-11a | O82: 12a-17a | V82: 18a-29a | Y82: 30a-59a | AD82: 60a+
J83: M | M83: F | O83: M | R83: F | V83: M | W83: F | Y83: M | AA83: F | AD83: M | AH83: F
A84: HIPOACUSIA Y SORDERA | B84: Hipoacusia y/o sordera
A85: BAJA VISIÓN Y CEGUERA | B85: Baja visión y/o ceguera
A86: SORDOMUDEZ | B86: Sordomudez
A87: TRASTORNOS ESPECÍFICOS DEL DESARROLLO DEL HABLA Y LENGUAJE | B87: Transtornos específicos del desarrollo del habla y lenguaje
B88: Otros trastornos de la deglución
A89: DISARTRIA Y DISFAGIA | B89: Disartria
B90: Disfagia
A92: Atención de Rehabilitación en Personas con Discapacidad de Tipo Mental (5005151)
A94: ATENCIONES | C94: Total | D94: 00a-11a | I94: 12a-17a | N94: 18a-29a | U94: 30a-59a | Z94: 60a+
D95: M | G95: F | I95: M | L95: F | N95: M | Q95: F | U95: M | X95: F | Z95: M | AB95: F
A96: Trastornos de aprendizaje
A97: Retraso mental: leve, moderado, severo
A98: Trastornos del espectro autista
A99: Otros trastornos de salud mental
A101: PERSONAS CON DISCAPACIDAD CERTIFICADAS EN ESTABLECIMIENTOS DE SALUD (3000689)
A103: ATENCIONES | C103: Total | D103: 00a-11a | I103: 12a-17a | N103: 18a-29a | U103: 30a-59a | Z103: 60a+
D104: M | G104: F | I104: M | L104: F | N104: M | Q104: F | U104: M | X104: F | Z104: M | AB104: F
A105: Certificación de Discapacidad
A106: Certificación de Incapacidad
A108: PERSONAS CON DISCAPACIDAD RECIBEN SERVICIOS DE REHABILITACIÓN BASADA EN LA COMUNIDAD (3000690)
A110: ATENCIONES | C110: Total | D110: 00a-11a | I110: 12a-17a | N110: 18a-29a | U110: 30a-59a | Z110: 60a+
D111: M | G111: F | I111: M | L111: F | N111: M | Q111: F | U111: M | X111: F | Z111: M | AB111: F
A112: 1° Visita
A113: 2° Visita
A114: 3° Visita
A116: Capacitación a agentes comunitarios en rehabilitación basada en la comunidad (5005155)
E118: 1° Taller / Sesión | K118: 2° Taller / Sesión
...

Sheet MAY
A3: REPORTE DE ACTIVIDADES DEL COMPONENTE DE DISCAPACIDAD
A5: Periodo: Mayo - 2025
A6: Diresa/Red/M.Red/EE.SS: AREQUIPA/AREQUIPA CAYLLOMA/TIABAYA/TODOS LOS EE.SS
A8: PERSONAS CON DISCAPACIDAD RECIBEN ATENCION DE REHABILITACION EN ESTABLECIMIENTOS DE SALUD (3000688)
A10: Capacitación en medicina de rehabilitación integral (5004449)
B12: N° | C12: Capacitados
A13: Capacitación personal médido rehabilitador
A15: Atención de Rehabilitación en Personas con Discapacidad de Tipo Física (5005150)
A17: GRUPO | B17: ATENCIONES | AC17: Total | AG17: 00a-11a | AL17: 12a-17a | AN17: 18a-29a | AP17: 30a-59a | AR17: 60a+
AG18: M | AI18: F | AL18: M | AM18: F | AN18: M | AO18: F | AP18: M | AQ18: F | AR18: M | AS18: F
A19: 0515001 LESIONES MEDULARES | B19: Lesiones medulares | H19: Lesiones medulares con severidad leve
H20: Lesiones medulares con severidad moderada
H21: Lesiones medulares severas
H22: Lesiones medulares en personas rehabilitadas
H23: Lesiones medulares en personas con discapacidad
H24: Lesiones medulares con servicio de evaluación, calificación y certificación de la discapacidad
H25: Lesiones medulares con consulta ambulatoria para la evaluación y manejo de un usuario de salud nuevo nivel de atención I (Prescripción de la ayuda técnica o producto de apoyo)
H26: Lesiones medulares con consulta ambulatoria para la evaluación y manejo de un usuario de salud nuevo nivel de atención III (Prescripción de la ayuda técnica o producto de apoyo).
H27: Lesiones medulares con consulta ambulatoria para la evaluación y manejo de un usuario de salud nuevo nivel de atención II (Prescripción de la ayuda técnica o producto de apoyo).
H28: Lesiones medulares con revisión final para el uso de dispositivos ortóticos/protésicos usuario de salud establecido (Entrega de la ayuda técnica o producto de apoyo).
A29: 0515013 REHABILITACIÓN EN PACIENTES AMPUTADOS | B29: Paciente amputado: Amputados de miembro superior | H29: Paciente amputado: Amputados de miembro superior con severidad leve
H30: Paciente amputado: Amputados de miembro superir con severidad moderado
H31: Paciente amputado: Amputados de miembro superior severo
H32: Paciente amputado: Amputados de miembro superior rehabilitado
H33: Paciente amputado: Amputados de miembro superior discapacitado
H34: Paciente amputado: Amputados de miembro superior con servicio de evaluación, calificación y certificación de la discapacidad
H35: Paciente amputado: Amputados de miembro superior con consulta ambulatoria para la evaluación y manejo de un usuario de salud nuevo nivel de atención I (Prescripción de la ayuda técnica o producto de apoyo)
H36: Paciente amputado: Amputados de miembro superior con consulta ambulatoria para la evaluación y manejo de un usuario de salud nuevo nivel de atención II (Prescripción de la ayuda técnica o producto de apoyo).
H37: Paciente amputado: Amputados de miembro superior con consulta ambulatoria para la evaluación y manejo de un usuario de salud nuevo nivel de atención III (Prescripción de la ayuda técnica o producto de apoyo).
H38: Paciente amputado: Amputados de miembro superior con revisión final para el uso de dispositivos ortóticos/protésicos usuario de salud establecido (Entrega de la ayuda técnica o producto de apoyo
B39: Paciente amputado: Amputados de miembro inferior | H39: Paciente amputado: Amputados de miembro inferior con severidad leve
H40: Paciente amputado: Amputados de miembro inferior con severidad moderada
H41: Paciente amputado: Amputados de miembro inferior severo
H42: Paciente amputado: Amputados de miembro inferior rehabilitado
H43: Paciente amputado: Amputados de miembro inferior con discapacidad
H44: Paciente amputado: Amputados de miembro inferior con servicio de evaluación, calificación y certificación de la discapacidad
H45: Paciente amputado: Amputados de miembro inferior con consulta ambulatoria para la evaluación y manejo de un usuario de salud nuevo nivel de atención I (Prescripción de la ayuda técnica o producto de apoyo)
H46: Paciente amputado: Amputados de miembro inferior con consulta ambulatoria para la evaluación y manejo de un usuario de salud nuevo nivel de atención II (Prescripción de la ayuda técnica o producto de apoyo).
H47: Paciente amputado: Amputados de miembro inferior con consulta ambulatoria para la evaluación y manejo de un usuario de salud nuevo nivel de atención III (Prescripción de la ayuda técnica o producto de apoyo).
H48: Paciente amputado: Amputados de miembro inferior con revisión final para el uso de dispositivos ortóticos/protésicos usuario de salud establecido (Entrega de la ayuda técnica o producto de apoyo).
A49: PATOLOGÍA NEUROLOGICA | B49: ----------------------- | H49: Enfermedad de Parkinson
H50: Enfermedad cerebro vascular
H51: Enfermedad muscular y unión mioneural
H52: Lesiones de nervio periférico
A53: 0515006 TRANSTORNOS DEL DESARROLLO DE LA FUNCION MOTRIZ | B53: ----------------------- | H53: Trastornos del desarrollo de la función motriz
A54: 0515007 ENFERMEDAD ARTICULAR DEGENERATIVA | B54: ----------------------- | H54: Enfermedad articular degenerativa
A55: 0515009 ENCEFALOPATIA INFANTIL | B55: ----------------------- | H55: Encefalopatía infantil
A56: 0515011 SÍNDROME DE DOWN | B56: ----------------------- | H56: Síndrome de Down
A57: PATOLOGIA DE LA COLUMNA VERTEBRAL Y OTROS TRANSTORNOS POSTURALES | B57: ----------------------- | H57: Cifosis y lordosis
H58: Espondilo artropatías
H59: Otros trastornos de los discos intervertebrales
H60: Cervicalgia, Dorsalgia, Lumbago
H61: Otras dorsopatías deformantes.
H62: Otros trastornos del sistema musculoesquelético y el tejido conectivo
H63: Otros trastornos articulares
H64: Defectos en la longitud de extremidades
A65: REHABILITACIÓN EN ENFERMEDAD CARDIOVASCULAR | B65: ----------------------- | H65: Rehabilitación en enfermedad cardiovascular
A66: REHABILITACIÓN EN ENFERMEDAD RESPIRATORIA | B66: ----------------------- | H66: Rehabilitación en enfermedad respiratoria
A67: REHABILITACIÓN EN ALTERACIONES DEL PISO PÉLVICO | B67: ----------------------- | H67: Vejiga neurogénica
H68: Incontinencia
H69: Prolapso
A70: ATENCIÓN DE REHABILITACIÓN EN PATOLOGÍA TRAUMATOLÓGICA Y REUMATOLÓGICA | B70: ----------------------- | H70: Traumatismo
H71: Enfermedades del tejido conectivo
H72: Patología articular excluida columna
H73: Lesiones Infecciosas
H74: Lesión biomecánica
A75: REHABILITACIÓN ONCOLÓGICA | B75: ----------------------- | H75: Linfedema + DX Neoplasia
H76: Sarcopenia + Dx Neoplasia
A77: REHABILITACIÓN EN DOLOR | B77: ----------------------- | H77: Rehabilitación en dolor
A78: REHABILITACIÓN EN PACIENTES QUEMADOS | B78: ----------------------- | H78: Rehabilitación en pacientes quemados
A80: Atención de Rehabilitación en Personas con Discapacidad de Tipo Sensorial (5005151)
A82: ATENCIONES | H82: Total | J82: 00a-11a | O82: 12a-17a | V82: 18a-29a | Y82: 30a-59a | AD82: 60a+
J83: M | M83: F | O83: M | R83: F | V83: M | W83: F | Y83: M | AA83: F | AD83: M | AH83: F
A84: HIPOACUSIA Y SORDERA | B84: Hipoacusia y/o sordera
A85: BAJA VISIÓN Y CEGUERA | B85: Baja visión y/o ceguera
A86: SORDOMUDEZ | B86: Sordomudez
A87: TRASTORNOS ESPECÍFICOS DEL DESARROLLO DEL HABLA Y LENGUAJE | B87: Transtornos específicos del desarrollo del habla y lenguaje
B88: Otros trastornos de la deglución
A89: DISARTRIA Y DISFAGIA | B89: Disartria
B90: Disfagia
A92: Atención de Rehabilitación en Personas con Discapacidad de Tipo Mental (5005151)
A94: ATENCIONES | C94: Total | D94: 00a-11a | I94: 12a-17a | N94: 18a-29a | U94: 30a-59a | Z94: 60a+
D95: M | G95: F | I95: M | L95: F | N95: M | Q95: F | U95: M | X95: F | Z95: M | AB95: F
A96: Trastornos de aprendizaje
A97: Retraso mental: leve, moderado, severo
A98: Trastornos del espectro autista
A99: Otros trastornos de salud mental
A101: PERSONAS CON DISCAPACIDAD CERTIFICADAS EN ESTABLECIMIENTOS DE SALUD (3000689)
A103: ATENCIONES | C103: Total | D103: 00a-11a | I103: 12a-17a | N103: 18a-29a | U103: 30a-59a | Z103: 60a+
D104: M | G104: F | I104: M | L104: F | N104: M | Q104: F | U104: M | X104: F | Z104: M | AB104: F
A105: Certificación de Discapacidad
A106: Certificación de Incapacidad
A108: PERSONAS CON DISCAPACIDAD RECIBEN SERVICIOS DE REHABILITACIÓN BASADA EN LA COMUNIDAD (3000690)
A110: ATENCIONES | C110: Total | D110: 00a-11a | I110: 12a-17a | N110: 18a-29a | U110: 30a-59a | Z110: 60a+
D111: M | G111: F | I111: M | L111: F | N111: M | Q111: F | U111: M | X111: F | Z111: M | AB111: F
A112: 1° Visita
A113: 2° Visita
A114: 3° Visita
A116: Capacitación a agentes comunitarios en rehabilitación basada en la comunidad (5005155)
E118: 1° Taller / Sesión | K118: 2° Taller / Sesión
...

Sheet JUN
A3: REPORTE DE ACTIVIDADES DEL COMPONENTE DE DISCAPACIDAD
A5: Periodo: Junio - 2025
A6: Diresa/Red/M.Red/EE.SS: AREQUIPA/AREQUIPA CAYLLOMA/TIABAYA/TODOS LOS EE.SS
A8: PERSONAS CON DISCAPACIDAD RECIBEN ATENCION DE REHABILITACION EN ESTABLECIMIENTOS DE SALUD (3000688)
A10: Capacitación en medicina de rehabilitación integral (5004449)
B12: N° | C12: Capacitados
A13: Capacitación personal médido rehabilitador | B13: =SUM(ENE:MAR!B13) -> 0 | C13: =SUM(ENE:MAR!C13:E13) -> 0
A15: Atención de Rehabilitación en Personas con Discapacidad de Tipo Física (5005150)
A17: GRUPO | B17: ATENCIONES | AC17: Total | AG17: 00a-11a | AL17: 12a-17a | AN17: 18a-29a | AP17: 30a-59a | AR17: 60a+
AG18: M | AI18: F | AL18: M | AM18: F | AN18: M | AO18: F | AP18: M | AQ18: F | AR18: M | AS18: F
A19: 0515001 LESIONES MEDULARES | B19: Lesiones medulares | H19: Lesiones medulares con severidad leve
H20: Lesiones medulares con severidad moderada
H21: Lesiones medulares severas
H22: Lesiones medulares en personas rehabilitadas
H23: Lesiones medulares en personas con discapacidad
H24: Lesiones medulares con servicio de evaluación, calificación y certificación de la discapacidad
H25: Lesiones medulares con consulta ambulatoria para la evaluación y manejo de un usuario de salud nuevo nivel de atención I (Prescripción de la ayuda técnica o producto de apoyo)
H26: Lesiones medulares con consulta ambulatoria para la evaluación y manejo de un usuario de salud nuevo nivel de atención III (Prescripción de la ayuda técnica o producto de apoyo).
H27: Lesiones medulares con consulta ambulatoria para la evaluación y manejo de un usuario de salud nuevo nivel de atención II (Prescripción de la ayuda técnica o producto de apoyo).
H28: Lesiones medulares con revisión final para el uso de dispositivos ortóticos/protésicos usuario de salud establecido (Entrega de la ayuda técnica o producto de apoyo).
A29: 0515013 REHABILITACIÓN EN PACIENTES AMPUTADOS | B29: Paciente amputado: Amputados de miembro superior | H29: Paciente amputado: Amputados de miembro superior con severidad leve
H30: Paciente amputado: Amputados de miembro superir con severidad moderado
H31: Paciente amputado: Amputados de miembro superior severo
H32: Paciente amputado: Amputados de miembro superior rehabilitado
H33: Paciente amputado: Amputados de miembro superior discapacitado
H34: Paciente amputado: Amputados de miembro superior con servicio de evaluación, calificación y certificación de la discapacidad
H35: Paciente amputado: Amputados de miembro superior con consulta ambulatoria para la evaluación y manejo de un usuario de salud nuevo nivel de atención I (Prescripción de la ayuda técnica o producto de apoyo)
H36: Paciente amputado: Amputados de miembro superior con consulta ambulatoria para la evaluación y manejo de un usuario de salud nuevo nivel de atención II (Prescripción de la ayuda técnica o producto de apoyo).
H37: Paciente amputado: Amputados de miembro superior con consulta ambulatoria para la evaluación y manejo de un usuario de salud nuevo nivel de atención III (Prescripción de la ayuda técnica o producto de apoyo).
H38: Paciente amputado: Amputados de miembro superior con revisión final para el uso de dispositivos ortóticos/protésicos usuario de salud establecido (Entrega de la ayuda técnica o producto de apoyo
B39: Paciente amputado: Amputados de miembro inferior | H39: Paciente amputado: Amputados de miembro inferior con severidad leve
H40: Paciente amputado: Amputados de miembro inferior con severidad moderada
H41: Paciente amputado: Amputados de miembro inferior severo
H42: Paciente amputado: Amputados de miembro inferior rehabilitado
H43: Paciente amputado: Amputados de miembro inferior con discapacidad
H44: Paciente amputado: Amputados de miembro inferior con servicio de evaluación, calificación y certificación de la discapacidad
H45: Paciente amputado: Amputados de miembro inferior con consulta ambulatoria para la evaluación y manejo de un usuario de salud nuevo nivel de atención I (Prescripción de la ayuda técnica o producto de apoyo)
H46: Paciente amputado: Amputados de miembro inferior con consulta ambulatoria para la evaluación y manejo de un usuario de salud nuevo nivel de atención II (Prescripción de la ayuda técnica o producto de apoyo).
H47: Paciente amputado: Amputados de miembro inferior con consulta ambulatoria para la evaluación y manejo de un usuario de salud nuevo nivel de atención III (Prescripción de la ayuda técnica o producto de apoyo).
H48: Paciente amputado: Amputados de miembro inferior con revisión final para el uso de dispositivos ortóticos/protésicos usuario de salud establecido (Entrega de la ayuda técnica o producto de apoyo).
A49: PATOLOGÍA NEUROLOGICA | B49: ----------------------- | H49: Enfermedad de Parkinson
H50: Enfermedad cerebro vascular
H51: Enfermedad muscular y unión mioneural
H52: Lesiones de nervio periférico
A53: 0515006 TRANSTORNOS DEL DESARROLLO DE LA FUNCION MOTRIZ | B53: ----------------------- | H53: Trastornos del desarrollo de la función motriz
A54: 0515007 ENFERMEDAD ARTICULAR DEGENERATIVA | B54: ----------------------- | H54: Enfermedad articular degenerativa
A55: 0515009 ENCEFALOPATIA INFANTIL | B55: ----------------------- | H55: Encefalopatía infantil
A56: 0515011 SÍNDROME DE DOWN | B56: ----------------------- | H56: Síndrome de Down
A57: PATOLOGIA DE LA COLUMNA VERTEBRAL Y OTROS TRANSTORNOS POSTURALES | B57: ----------------------- | H57: Cifosis y lordosis
H58: Espondilo artropatías
H59: Otros trastornos de los discos intervertebrales
H60: Cervicalgia, Dorsalgia, Lumbago
H61: Otras dorsopatías deformantes.
H62: Otros trastornos del sistema musculoesquelético y el tejido conectivo
H63: Otros trastornos articulares
H64: Defectos en la longitud de extremidades
A65: REHABILITACIÓN EN ENFERMEDAD CARDIOVASCULAR | B65: ----------------------- | H65: Rehabilitación en enfermedad cardiovascular
A66: REHABILITACIÓN EN ENFERMEDAD RESPIRATORIA | B66: ----------------------- | H66: Rehabilitación en enfermedad respiratoria
A67: REHABILITACIÓN EN ALTERACIONES DEL PISO PÉLVICO | B67: ----------------------- | H67: Vejiga neurogénica
H68: Incontinencia
H69: Prolapso
A70: ATENCIÓN DE REHABILITACIÓN EN PATOLOGÍA TRAUMATOLÓGICA Y REUMATOLÓGICA | B70: ----------------------- | H70: Traumatismo
H71: Enfermedades del tejido conectivo
H72: Patología articular excluida columna
H73: Lesiones Infecciosas
H74: Lesión biomecánica
A75: REHABILITACIÓN ONCOLÓGICA | B75: ----------------------- | H75: Linfedema + DX Neoplasia
H76: Sarcopenia + Dx Neoplasia
A77: REHABILITACIÓN EN DOLOR | B77: ----------------------- | H77: Rehabilitación en dolor
A78: REHABILITACIÓN EN PACIENTES QUEMADOS | B78: ----------------------- | H78: Rehabilitación en pacientes quemados
A80: Atención de Rehabilitación en Personas con Discapacidad de Tipo Sensorial (5005151)
A82: ATENCIONES | H82: Total | J82: 00a-11a | O82: 12a-17a | V82: 18a-29a | Y82: 30a-59a | AD82: 60a+
J83: M | M83: F | O83: M | R83: F | V83: M | W83: F | Y83: M | AA83: F | AD83: M | AH83: F
A84: HIPOACUSIA Y SORDERA | B84: Hipoacusia y/o sordera
A85: BAJA VISIÓN Y CEGUERA | B85: Baja visión y/o ceguera
A86: SORDOMUDEZ | B86: Sordomudez
A87: TRASTORNOS ESPECÍFICOS DEL DESARROLLO DEL HABLA Y LENGUAJE | B87: Transtornos específicos del desarrollo del habla y lenguaje
B88: Otros trastornos de la deglución
A89: DISARTRIA Y DISFAGIA | B89: Disartria
B90: Disfagia
A92: Atención de Rehabilitación en Personas con Discapacidad de Tipo Mental (5005151)
A94: ATENCIONES | C94: Total | D94: 00a-11a | I94: 12a-17a | N94: 18a-29a | U94: 30a-59a | Z94: 60a+
D95: M | G95: F | I95: M | L95: F | N95: M | Q95: F | U95: M | X95: F | Z95: M | AB95: F
A96: Trastornos de aprendizaje
A97: Retraso mental: leve, moderado, severo
A98: Trastornos del espectro autista
A99: Otros trastornos de salud mental
A101: PERSONAS CON DISCAPACIDAD CERTIFICADAS EN ESTABLECIMIENTOS DE SALUD (3000689)
A103: ATENCIONES | C103: Total | D103: 00a-11a | I103: 12a-17a | N103: 18a-29a | U103: 30a-59a | Z103: 60a+
D104: M | G104: F | I104: M | L104: F | N104: M | Q104: F | U104: M | X104: F | Z104: M | AB104: F
A105: Certificación de Discapacidad
A106: Certificación de Incapacidad
A108: PERSONAS CON DISCAPACIDAD RECIBEN SERVICIOS DE REHABILITACIÓN BASADA EN LA COMUNIDAD (3000690)
A110: ATENCIONES | C110: Total | D110: 00a-11a | I110: 12a-17a | N110: 18a-29a | U110: 30a-59a | Z110: 60a+
D111: M | G111: F | I111: M | L111: F | N111: M | Q111: F | U111: M | X111: F | Z111: M | AB111: F
A112: 1° Visita
A113: 2° Visita
A114: 3° Visita
A116: Capacitación a agentes comunitarios en rehabilitación basada en la comunidad (5005155)
E118: 1° Taller / Sesión | K118: 2° Taller / Sesión
...

Sheet II TRIM
A3: REPORTE DE ACTIVIDADES DEL COMPONENTE DE DISCAPACIDAD
A5: Periodo: Marzo - 2025
A6: Diresa/Red/M.Red/EE.SS: AREQUIPA/AREQUIPA CAYLLOMA/TIABAYA/TODOS LOS EE.SS
A8: PERSONAS CON DISCAPACIDAD RECIBEN ATENCION DE REHABILITACION EN ESTABLECIMIENTOS DE SALUD (3000688)
A10: Capacitación en medicina de rehabilitación integral (5004449)
B12: N° | C12: Capacitados
A13: Capacitación personal médido rehabilitador | B13: =SUM(ABR:JUN!B13) -> 0 | C13: =SUM(ABR:JUN!C13:E13) -> 0
A15: Atención de Rehabilitación en Personas con Discapacidad de Tipo Física (5005150)
A17: GRUPO | B17: ATENCIONES | AC17: Total | AG17: 00a-11a | AL17: 12a-17a | AN17: 18a-29a | AP17: 30a-59a | AR17: 60a+
AG18: M | AI18: F | AL18: M | AM18: F | AN18: M | AO18: F | AP18: M | AQ18: F | AR18: M | AS18: F
A19: 0515001 LESIONES MEDULARES | B19: Lesiones medulares | H19: Lesiones medulares con severidad leve | AC19: =SUM(ABR:JUN!AC19:AF19) -> 0 | AG19: =SUM(ABR:JUN!AG19:AH19) -> 0 | AI19: =SUM(ABR:JUN!AI19:AK19) -> 0 | AL19: =SUM(ABR:JUN!AL19) -> 0 | AM19: =SUM(ABR:JUN!AM19) -> 0 | AN19: =SUM(ABR:JUN!AN19) -> 0 | AO19: =SUM(ABR:JUN!AO19) -> 0 | AP19: =SUM(ABR:JUN!AP19) -> 0 | AQ19: =SUM(ABR:JUN!AQ19) -> 0 | AR19: =SUM(ABR:JUN!AR19) -> 0 | AS19: =SUM(ABR:JUN!AS19) -> 0
H20: Lesiones medulares con severidad moderada | AC20: =SUM(ABR:JUN!AC20:AF20) -> 0 | AG20: =SUM(ABR:JUN!AG20:AH20) -> 0 | AI20: =SUM(ABR:JUN!AI20:AK20) -> 0 | AL20: =SUM(ABR:JUN!AL20) -> 0 | AM20: =SUM(ABR:JUN!AM20) -> 0 | AN20: =SUM(ABR:JUN!AN20) -> 0 | AO20: =SUM(ABR:JUN!AO20) -> 0 | AP20: =SUM(ABR:JUN!AP20) -> 0 | AQ20: =SUM(ABR:JUN!AQ20) -> 0 | AR20: =SUM(ABR:JUN!AR20) -> 0 | AS20: =SUM(ABR:JUN!AS20) -> 0
H21: Lesiones medulares severas | AC21: =SUM(ABR:JUN!AC21:AF21) -> 0 | AG21: =SUM(ABR:JUN!AG21:AH21) -> 0 | AI21: =SUM(ABR:JUN!AI21:AK21) -> 0 | AL21: =SUM(ABR:JUN!AL21) -> 0 | AM21: =SUM(ABR:JUN!AM21) -> 0 | AN21: =SUM(ABR:JUN!AN21) -> 0 | AO21: =SUM(ABR:JUN!AO21) -> 0 | AP21: =SUM(ABR:JUN!AP21) -> 0 | AQ21: =SUM(ABR:JUN!AQ21) -> 0 | AR21: =SUM(ABR:JUN!AR21) -> 0 | AS21: =SUM(ABR:JUN!AS21) -> 0
H22: Lesiones medulares en personas rehabilitadas | AC22: =SUM(ABR:JUN!AC22:AF22) -> 0 | AG22: =SUM(ABR:JUN!AG22:AH22) -> 0 | AI22: =SUM(ABR:JUN!AI22:AK22) -> 0 | AL22: =SUM(ABR:JUN!AL22) -> 0 | AM22: =SUM(ABR:JUN!AM22) -> 0 | AN22: =SUM(ABR:JUN!AN22) -> 0 | AO22: =SUM(ABR:JUN!AO22) -> 0 | AP22: =SUM(ABR:JUN!AP22) -> 0 | AQ22: =SUM(ABR:JUN!AQ22) -> 0 | AR22: =SUM(ABR:JUN!AR22) -> 0 | AS22: =SUM(ABR:JUN!AS22) -> 0
H23: Lesiones medulares en personas con discapacidad | AC23: =SUM(ABR:JUN!AC23:AF23) -> 0 | AG23: =SUM(ABR:JUN!AG23:AH23) -> 0 | AI23: =SUM(ABR:JUN!AI23:AK23) -> 0 | AL23: =SUM(ABR:JUN!AL23) -> 0 | AM23: =SUM(ABR:JUN!AM23) -> 0 | AN23: =SUM(ABR:JUN!AN23) -> 0 | AO23: =SUM(ABR:JUN!AO23) -> 0 | AP23: =SUM(ABR:JUN!AP23) -> 0 | AQ23: =SUM(ABR:JUN!AQ23) -> 0 | AR23: =SUM(ABR:JUN!AR23) -> 0 | AS23: =SUM(ABR:JUN!AS23) -> 0
H24: Lesiones medulares con servicio de evaluación, calificación y certificación de la discapacidad | AC24: =SUM(ABR:JUN!AC24:AF24) -> 0 | AG24: =SUM(ABR:JUN!AG24:AH24) -> 0 | AI24: =SUM(ABR:JUN!AI24:AK24) -> 0 | AL24: =SUM(ABR:JUN!AL24) -> 0 | AM24: =SUM(ABR:JUN!AM24) -> 0 | AN24: =SUM(ABR:JUN!AN24) -> 0 | AO24: =SUM(ABR:JUN!AO24) -> 0 | AP24: =SUM(ABR:JUN!AP24) -> 0 | AQ24: =SUM(ABR:JUN!AQ24) -> 0 | AR24: =SUM(ABR:JUN!AR24) -> 0 | AS24: =SUM(ABR:JUN!AS24) -> 0
H25: Lesiones medulares con consulta ambulatoria para la evaluación y manejo de un usuario de salud nuevo nivel de atención I (Prescripción de la ayuda técnica o producto de apoyo) | AC25: =SUM(ABR:JUN!AC25:AF25) -> 0 | AG25: =SUM(ABR:JUN!AG25:AH25) -> 0 | AI25: =SUM(ABR:JUN!AI25:AK25) -> 0 | AL25: =SUM(ABR:JUN!AL25) -> 0 | AM25: =SUM(ABR:JUN!AM25) -> 0 | AN25: =SUM(ABR:JUN!AN25) -> 0 | AO25: =SUM(ABR:JUN!AO25) -> 0 | AP25: =SUM(ABR:JUN!AP25) -> 0 | AQ25: =SUM(ABR:JUN!AQ25) -> 0 | AR25: =SUM(ABR:JUN!AR25) -> 0 | AS25: =SUM(ABR:JUN!AS25) -> 0
H26: Lesiones medulares con consulta ambulatoria para la evaluación y manejo de un usuario de salud nuevo nivel de atención III (Prescripción de la ayuda técnica o producto de apoyo). | AC26: =SUM(ABR:JUN!AC26:AF26) -> 0 | AG26: =SUM(ABR:JUN!AG26:AH26) -> 0 | AI26: =SUM(ABR:JUN!AI26:AK26) -> 0 | AL26: =SUM(ABR:JUN!AL26) -> 0 | AM26: =SUM(ABR:JUN!AM26) -> 0 | AN26: =SUM(ABR:JUN!AN26) -> 0 | AO26: =SUM(ABR:JUN!AO26) -> 0 | AP26: =SUM(ABR:JUN!AP26) -> 0 | AQ26: =SUM(ABR:JUN!AQ26) -> 0 | AR26: =SUM(ABR:JUN!AR26) -> 0 | AS26: =SUM(ABR:JUN!AS26) -> 0
H27: Lesiones medulares con consulta ambulatoria para la evaluación y manejo de un usuario de salud nuevo nivel de atención II (Prescripción de la ayuda técnica o producto de apoyo). | AC27: =SUM(ABR:JUN!AC27:AF27) -> 0 | AG27: =SUM(ABR:JUN!AG27:AH27) -> 0 | AI27: =SUM(ABR:JUN!AI27:AK27) -> 0 | AL27: =SUM(ABR:JUN!AL27) -> 0 | AM27: =SUM(ABR:JUN!AM27) -> 0 | AN27: =SUM(ABR:JUN!AN27) -> 0 | AO27: =SUM(ABR:JUN!AO27) -> 0 | AP27: =SUM(ABR:JUN!AP27) -> 0 | AQ27: =SUM(ABR:JUN!AQ27) -> 0 | AR27: =SUM(ABR:JUN!AR27) -> 0 | AS27: =SUM(ABR:JUN!AS27) -> 0
H28: Lesiones medulares con revisión final para el uso de dispositivos ortóticos/protésicos usuario de salud establecido (Entrega de la ayuda técnica o producto de apoyo). | AC28: =SUM(ABR:JUN!AC28:AF28) -> 0 | AG28: =SUM(ABR:JUN!AG28:AH28) -> 0 | AI28: =SUM(ABR:JUN!AI28:AK28) -> 0 | AL28: =SUM(ABR:JUN!AL28) -> 0 | AM28: =SUM(ABR:JUN!AM28) -> 0 | AN28: =SUM(ABR:JUN!AN28) -> 0 | AO28: =SUM(ABR:JUN!AO28) -> 0 | AP28: =SUM(ABR:JUN!AP28) -> 0 | AQ28: =SUM(ABR:JUN!AQ28) -> 0 | AR28: =SUM(ABR:JUN!AR28) -> 0 | AS28: =SUM(ABR:JUN!AS28) -> 0
A29: 0515013 REHABILITACIÓN EN PACIENTES AMPUTADOS | B29: Paciente amputado: Amputados de miembro superior | H29: Paciente amputado: Amputados de miembro superior con severidad leve | AC29: =SUM(ABR:JUN!AC29:AF29) -> 0 | AG29: =SUM(ABR:JUN!AG29:AH29) -> 0 | AI29: =SUM(ABR:JUN!AI29:AK29) -> 0 | AL29: =SUM(ABR:JUN!AL29) -> 0 | AM29: =SUM(ABR:JUN!AM29) -> 0 | AN29: =SUM(ABR:JUN!AN29) -> 0 | AO29: =SUM(ABR:JUN!AO29) -> 0 | AP29: =SUM(ABR:JUN!AP29) -> 0 | AQ29: =SUM(ABR:JUN!AQ29) -> 0 | AR29: =SUM(ABR:JUN!AR29) -> 0 | AS29: =SUM(ABR:JUN!AS29) -> 0
H30: Paciente amputado: Amputados de miembro superir con severidad moderado | AC30: =SUM(ABR:JUN!AC30:AF30) -> 0 | AG30: =SUM(ABR:JUN!AG30:AH30) -> 0 | AI30: =SUM(ABR:JUN!AI30:AK30) -> 0 | AL30: =SUM(ABR:JUN!AL30) -> 0 | AM30: =SUM(ABR:JUN!AM30) -> 0 | AN30: =SUM(ABR:JUN!AN30) -> 0 | AO30: =SUM(ABR:JUN!AO30) -> 0 | AP30: =SUM(ABR:JUN!AP30) -> 0 | AQ30: =SUM(ABR:JUN!AQ30) -> 0 | AR30: =SUM(ABR:JUN!AR30) -> 0 | AS30: =SUM(ABR:JUN!AS30) -> 0
H31: Paciente amputado: Amputados de miembro superior severo | AC31: =SUM(ABR:JUN!AC31:AF31) -> 0 | AG31: =SUM(ABR:JUN!AG31:AH31) -> 0 | AI31: =SUM(ABR:JUN!AI31:AK31) -> 0 | AL31: =SUM(ABR:JUN!AL31) -> 0 | AM31: =SUM(ABR:JUN!AM31) -> 0 | AN31: =SUM(ABR:JUN!AN31) -> 0 | AO31: =SUM(ABR:JUN!AO31) -> 0 | AP31: =SUM(ABR:JUN!AP31) -> 0 | AQ31: =SUM(ABR:JUN!AQ31) -> 0 | AR31: =SUM(ABR:JUN!AR31) -> 0 | AS31: =SUM(ABR:JUN!AS31) -> 0
H32: Paciente amputado: Amputados de miembro superior rehabilitado | AC32: =SUM(ABR:JUN!AC32:AF32) -> 0 | AG32: =SUM(ABR:JUN!AG32:AH32) -> 0 | AI32: =SUM(ABR:JUN!AI32:AK32) -> 0 | AL32: =SUM(ABR:JUN!AL32) -> 0 | AM32: =SUM(ABR:JUN!AM32) -> 0 | AN32: =SUM(ABR:JUN!AN32) -> 0 | AO32: =SUM(ABR:JUN!AO32) -> 0 | AP32: =SUM(ABR:JUN!AP32) -> 0 | AQ32: =SUM(ABR:JUN!AQ32) -> 0 | AR32: =SUM(ABR:JUN!AR32) -> 0 | AS32: =SUM(ABR:JUN!AS32) -> 0
H33: Paciente amputado: Amputados de miembro superior discapacitado | AC33: =SUM(ABR:JUN!AC33:AF33) -> 0 | AG33: =SUM(ABR:JUN!AG33:AH33) -> 0 | AI33: =SUM(ABR:JUN!AI33:AK33) -> 0 | AL33: =SUM(ABR:JUN!AL33) -> 0 | AM33: =SUM(ABR:JUN!AM33) -> 0 | AN33: =SUM(ABR:JUN!AN33) -> 0 | AO33: =SUM(ABR:JUN!AO33) -> 0 | AP33: =SUM(ABR:JUN!AP33) -> 0 | AQ33: =SUM(ABR:JUN!AQ33) -> 0 | AR33: =SUM(ABR:JUN!AR33) -> 0 | AS33: =SUM(ABR:JUN!AS33) -> 0
H34: Paciente amputado: Amputados de miembro superior con servicio de evaluación, calificación y certificación de la discapacidad | AC34: =SUM(ABR:JUN!AC34:AF34) -> 0 | AG34: =SUM(ABR:JUN!AG34:AH34) -> 0 | AI34: =SUM(ABR:JUN!AI34:AK34) -> 0 | AL34: =SUM(ABR:JUN!AL34) -> 0 | AM34: =SUM(ABR:JUN!AM34) -> 0 | AN34: =SUM(ABR:JUN!AN34) -> 0 | AO34: =SUM(ABR:JUN!AO34) -> 0 | AP34: =SUM(ABR:JUN!AP34) -> 0 | AQ34: =SUM(ABR:JUN!AQ34) -> 0 | AR34: =SUM(ABR:JUN!AR34) -> 0 | AS34: =SUM(ABR:JUN!AS34) -> 0
H35: Paciente amputado: Amputados de miembro superior con consulta ambulatoria para la evaluación y manejo de un usuario de salud nuevo nivel de atención I (Prescripción de la ayuda técnica o producto de apoyo) | AC35: =SUM(ABR:JUN!AC35:AF35) -> 0 | AG35: =SUM(ABR:JUN!AG35:AH35) -> 0 | AI35: =SUM(ABR:JUN!AI35:AK35) -> 0 | AL35: =SUM(ABR:JUN!AL35) -> 0 | AM35: =SUM(ABR:JUN!AM35) -> 0 | AN35: =SUM(ABR:JUN!AN35) -> 0 | AO35: =SUM(ABR:JUN!AO35) -> 0 | AP35: =SUM(ABR:JUN!AP35) -> 0 | AQ35: =SUM(ABR:JUN!AQ35) -> 0 | AR35: =SUM(ABR:JUN!AR35) -> 0 | AS35: =SUM(ABR:JUN!AS35) -> 0
H36: Paciente amputado: Amputados de miembro superior con consulta ambulatoria para la evaluación y manejo de un usuario de salud nuevo nivel de atención II (Prescripción de la ayuda técnica o producto de apoyo). | AC36: =SUM(ABR:JUN!AC36:AF36) -> 0 | AG36: =SUM(ABR:JUN!AG36:AH36) -> 0 | AI36: =SUM(ABR:JUN!AI36:AK36) -> 0 | AL36: =SUM(ABR:JUN!AL36) -> 0 | AM36: =SUM(ABR:JUN!AM36) -> 0 | AN36: =SUM(ABR:JUN!AN36) -> 0 | AO36: =SUM(ABR:JUN!AO36) -> 0 | AP36: =SUM(ABR:JUN!AP36) -> 0 | AQ36: =SUM(ABR:JUN!AQ36) -> 0 | AR36: =SUM(ABR:JUN!AR36) -> 0 | AS36: =SUM(ABR:JUN!AS36) -> 0
H37: Paciente amputado: Amputados de miembro superior con consulta ambulatoria para la evaluación y manejo de un usuario de salud nuevo nivel de atención III (Prescripción de la ayuda técnica o producto de apoyo). | AC37: =SUM(ABR:JUN!AC37:AF37) -> 0 | AG37: =SUM(ABR:JUN!AG37:AH37) -> 0 | AI37: =SUM(ABR:JUN!AI37:AK37) -> 0 | AL37: =SUM(ABR:JUN!AL37) -> 0 | AM37: =SUM(ABR:JUN!AM37) -> 0 | AN37: =SUM(ABR:JUN!AN37) -> 0 | AO37: =SUM(ABR:JUN!AO37) -> 0 | AP37: =SUM(ABR:JUN!AP37) -> 0 | AQ37: =SUM(ABR:JUN!AQ37) -> 0 | AR37: =SUM(ABR:JUN!AR37) -> 0 | AS37: =SUM(ABR:JUN!AS37) -> 0
H38: Paciente amputado: Amputados de miembro superior con revisión final para el uso de dispositivos ortóticos/protésicos usuario de salud establecido (Entrega de la ayuda técnica o producto de apoyo | AC38: =SUM(ABR:JUN!AC38:AF38) -> 0 | AG38: =SUM(ABR:JUN!AG38:AH38) -> 0 | AI38: =SUM(ABR:JUN!AI38:AK38) -> 0 | AL38: =SUM(ABR:JUN!AL38) -> 0 | AM38: =SUM(ABR:JUN!AM38) -> 0 | AN38: =SUM(ABR:JUN!AN38) -> 0 | AO38: =SUM(ABR:JUN!AO38) -> 0 | AP38: =SUM(ABR:JUN!AP38) -> 0 | AQ38: =SUM(ABR:JUN!AQ38) -> 0 | AR38: =SUM(ABR:JUN!AR38) -> 0 | AS38: =SUM(ABR:JUN!AS38) -> 0
B39: Paciente amputado: Amputados de miembro inferior | H39: Paciente amputado: Amputados de miembro inferior con severidad leve | AC39: =SUM(ABR:JUN!AC39:AF39) -> 0 | AG39: =SUM(ABR:JUN!AG39:AH39) -> 0 | AI39: =SUM(ABR:JUN!AI39:AK39) -> 0 | AL39: =SUM(ABR:JUN!AL39) -> 0 | AM39: =SUM(ABR:JUN!AM39) -> 0 | AN39: =SUM(ABR:JUN!AN39) -> 0 | AO39: =SUM(ABR:JUN!AO39) -> 0 | AP39: =SUM(ABR:JUN!AP39) -> 0 | AQ39: =SUM(ABR:JUN!AQ39) -> 0 | AR39: =SUM(ABR:JUN!AR39) -> 0 | AS39: =SUM(ABR:JUN!AS39) -> 0
H40: Paciente amputado: Amputados de miembro inferior con severidad moderada | AC40: =SUM(ABR:JUN!AC40:AF40) -> 0 | AG40: =SUM(ABR:JUN!AG40:AH40) -> 0 | AI40: =SUM(ABR:JUN!AI40:AK40) -> 0 | AL40: =SUM(ABR:JUN!AL40) -> 0 | AM40: =SUM(ABR:JUN!AM40) -> 0 | AN40: =SUM(ABR:JUN!AN40) -> 0 | AO40: =SUM(ABR:JUN!AO40) -> 0 | AP40: =SUM(ABR:JUN!AP40) -> 0 | AQ40: =SUM(ABR:JUN!AQ40) -> 0 | AR40: =SUM(ABR:JUN!AR40) -> 0 | AS40: =SUM(ABR:JUN!AS40) -> 0
H41: Paciente amputado: Amputados de miembro inferior severo | AC41: =SUM(ABR:JUN!AC41:AF41) -> 0 | AG41: =SUM(ABR:JUN!AG41:AH41) -> 0 | AI41: =SUM(ABR:JUN!AI41:AK41) -> 0 | AL41: =SUM(ABR:JUN!AL41) -> 0 | AM41: =SUM(ABR:JUN!AM41) -> 0 | AN41: =SUM(ABR:JUN!AN41) -> 0 | AO41: =SUM(ABR:JUN!AO41) -> 0 | AP41: =SUM(ABR:JUN!AP41) -> 0 | AQ41: =SUM(ABR:JUN!AQ41) -> 0 | AR41: =SUM(ABR:JUN!AR41) -> 0 | AS41: =SUM(ABR:JUN!AS41) -> 0
H42: Paciente amputado: Amputados de miembro inferior rehabilitado | AC42: =SUM(ABR:JUN!AC42:AF42) -> 0 | AG42: =SUM(ABR:JUN!AG42:AH42) -> 0 | AI42: =SUM(ABR:JUN!AI42:AK42) -> 0 | AL42: =SUM(ABR:JUN!AL42) -> 0 | AM42: =SUM(ABR:JUN!AM42) -> 0 | AN42: =SUM(ABR:JUN!AN42) -> 0 | AO42: =SUM(ABR:JUN!AO42) -> 0 | AP42: =SUM(ABR:JUN!AP42) -> 0 | AQ42: =SUM(ABR:JUN!AQ42) -> 0 | AR42: =SUM(ABR:JUN!AR42) -> 0 | AS42: =SUM(ABR:JUN!AS42) -> 0
H43: Paciente amputado: Amputados de miembro inferior con discapacidad | AC43: =SUM(ABR:JUN!AC43:AF43) -> 0 | AG43: =SUM(ABR:JUN!AG43:AH43) -> 0 | AI43: =SUM(ABR:JUN!AI43:AK43) -> 0 | AL43: =SUM(ABR:JUN!AL43) -> 0 | AM43: =SUM(ABR:JUN!AM43) -> 0 | AN43: =SUM(ABR:JUN!AN43) -> 0 | AO43: =SUM(ABR:JUN!AO43) -> 0 | AP43: =SUM(ABR:JUN!AP43) -> 0 | AQ43: =SUM(ABR:JUN!AQ43) -> 0 | AR43: =SUM(ABR:JUN!AR43) -> 0 | AS43: =SUM(ABR:JUN!AS43) -> 0
H44: Paciente amputado: Amputados de miembro inferior con servicio de evaluación, calificación y certificación de la discapacidad | AC44: =SUM(ABR:JUN!AC44:AF44) -> 0 | AG44: =SUM(ABR:JUN!AG44:AH44) -> 0 | AI44: =SUM(ABR:JUN!AI44:AK44) -> 0 | AL44: =SUM(ABR:JUN!AL44) -> 0 | AM44: =SUM(ABR:JUN!AM44) -> 0 | AN44: =SUM(ABR:JUN!AN44) -> 0 | AO44: =SUM(ABR:JUN!AO44) -> 0 | AP44: =SUM(ABR:JUN!AP44) -> 0 | AQ44: =SUM(ABR:JUN!AQ44) -> 0 | AR44: =SUM(ABR:JUN!AR44) -> 0 | AS44: =SUM(ABR:JUN!AS44) -> 0
H45: Paciente amputado: Amputados de miembro inferior con consulta ambulatoria para la evaluación y manejo de un usuario de salud nuevo nivel de atención I (Prescripción de la ayuda técnica o producto de apoyo) | AC45: =SUM(ABR:JUN!AC45:AF45) -> 0 | AG45: =SUM(ABR:JUN!AG45:AH45) -> 0 | AI45: =SUM(ABR:JUN!AI45:AK45) -> 0 | AL45: =SUM(ABR:JUN!AL45) -> 0 | AM45: =SUM(ABR:JUN!AM45) -> 0 | AN45: =SUM(ABR:JUN!AN45) -> 0 | AO45: =SUM(ABR:JUN!AO45) -> 0 | AP45: =SUM(ABR:JUN!AP45) -> 0 | AQ45: =SUM(ABR:JUN!AQ45) -> 0 | AR45: =SUM(ABR:JUN!AR45) -> 0 | AS45: =SUM(ABR:JUN!AS45) -> 0
H46: Paciente amputado: Amputados de miembro inferior con consulta ambulatoria para la evaluación y manejo de un usuario de salud nuevo nivel de atención II (Prescripción de la ayuda técnica o producto de apoyo). | AC46: =SUM(ABR:JUN!AC46:AF46) -> 0 | AG46: =SUM(ABR:JUN!AG46:AH46) -> 0 | AI46: =SUM(ABR:JUN!AI46:AK46) -> 0 | AL46: =SUM(ABR:JUN!AL46) -> 0 | AM46: =SUM(ABR:JUN!AM46) -> 0 | AN46: =SUM(ABR:JUN!AN46) -> 0 | AO46: =SUM(ABR:JUN!AO46) -> 0 | AP46: =SUM(ABR:JUN!AP46) -> 0 | AQ46: =SUM(ABR:JUN!AQ46) -> 0 | AR46: =SUM(ABR:JUN!AR46) -> 0 | AS46: =SUM(ABR:JUN!AS46) -> 0
H47: Paciente amputado: Amputados de miembro inferior con consulta ambulatoria para la evaluación y manejo de un usuario de salud nuevo nivel de atención III (Prescripción de la ayuda técnica o producto de apoyo). | AC47: =SUM(ABR:JUN!AC47:AF47) -> 0 | AG47: =SUM(ABR:JUN!AG47:AH47) -> 0 | AI47: =SUM(ABR:JUN!AI47:AK47) -> 0 | AL47: =SUM(ABR:JUN!AL47) -> 0 | AM47: =SUM(ABR:JUN!AM47) -> 0 | AN47: =SUM(ABR:JUN!AN47) -> 0 | AO47: =SUM(ABR:JUN!AO47) -> 0 | AP47: =SUM(ABR:JUN!AP47) -> 0 | AQ47: =SUM(ABR:JUN!AQ47) -> 0 | AR47: =SUM(ABR:JUN!AR47) -> 0 | AS47: =SUM(ABR:JUN!AS47) -> 0
H48: Paciente amputado: Amputados de miembro inferior con revisión final para el uso de dispositivos ortóticos/protésicos usuario de salud establecido (Entrega de la ayuda técnica o producto de apoyo). | AC48: =SUM(ABR:JUN!AC48:AF48) -> 0 | AG48: =SUM(ABR:JUN!AG48:AH48) -> 0 | AI48: =SUM(ABR:JUN!AI48:AK48) -> 0 | AL48: =SUM(ABR:JUN!AL48) -> 0 | AM48: =SUM(ABR:JUN!AM48) -> 0 | AN48: =SUM(ABR:JUN!AN48) -> 0 | AO48: =SUM(ABR:JUN!AO48) -> 0 | AP48: =SUM(ABR:JUN!AP48) -> 0 | AQ48: =SUM(ABR:JUN!AQ48) -> 0 | AR48: =SUM(ABR:JUN!AR48) -> 0 | AS48: =SUM(ABR:JUN!AS48) -> 0
A49: PATOLOGÍA NEUROLOGICA | B49: ----------------------- | H49: Enfermedad de Parkinson | AC49: =SUM(ABR:JUN!AC49:AF49) -> 0 | AG49: =SUM(ABR:JUN!AG49:AH49) -> 0 | AI49: =SUM(ABR:JUN!AI49:AK49) -> 0 | AL49: =SUM(ABR:JUN!AL49) -> 0 | AM49: =SUM(ABR:JUN!AM49) -> 0 | AN49: =SUM(ABR:JUN!AN49) -> 0 | AO49: =SUM(ABR:JUN!AO49) -> 0 | AP49: =SUM(ABR:JUN!AP49) -> 0 | AQ49: =SUM(ABR:JUN!AQ49) -> 0 | AR49: =SUM(ABR:JUN!AR49) -> 0 | AS49: =SUM(ABR:JUN!AS49) -> 0
H50: Enfermedad cerebro vascular | AC50: =SUM(ABR:JUN!AC50:AF50) -> 0 | AG50: =SUM(ABR:JUN!AG50:AH50) -> 0 | AI50: =SUM(ABR:JUN!AI50:AK50) -> 0 | AL50: =SUM(ABR:JUN!AL50) -> 0 | AM50: =SUM(ABR:JUN!AM50) -> 0 | AN50: =SUM(ABR:JUN!AN50) -> 0 | AO50: =SUM(ABR:JUN!AO50) -> 0 | AP50: =SUM(ABR:JUN!AP50) -> 0 | AQ50: =SUM(ABR:JUN!AQ50) -> 0 | AR50: =SUM(ABR:JUN!AR50) -> 0 | AS50: =SUM(ABR:JUN!AS50) -> 0
H51: Enfermedad muscular y unión mioneural | AC51: =SUM(ABR:JUN!AC51:AF51) -> 0 | AG51: =SUM(ABR:JUN!AG51:AH51) -> 0 | AI51: =SUM(ABR:JUN!AI51:AK51) -> 0 | AL51: =SUM(ABR:JUN!AL51) -> 0 | AM51: =SUM(ABR:JUN!AM51) -> 0 | AN51: =SUM(ABR:JUN!AN51) -> 0 | AO51: =SUM(ABR:JUN!AO51) -> 0 | AP51: =SUM(ABR:JUN!AP51) -> 0 | AQ51: =SUM(ABR:JUN!AQ51) -> 0 | AR51: =SUM(ABR:JUN!AR51) -> 0 | AS51: =SUM(ABR:JUN!AS51) -> 0
H52: Lesiones de nervio periférico | AC52: =SUM(ABR:JUN!AC52:AF52) -> 0 | AG52: =SUM(ABR:JUN!AG52:AH52) -> 0 | AI52: =SUM(ABR:JUN!AI52:AK52) -> 0 | AL52: =SUM(ABR:JUN!AL52) -> 0 | AM52: =SUM(ABR:JUN!AM52) -> 0 | AN52: =SUM(ABR:JUN!AN52) -> 0 | AO52: =SUM(ABR:JUN!AO52) -> 0 | AP52: =SUM(ABR:JUN!AP52) -> 0 | AQ52: =SUM(ABR:JUN!AQ52) -> 0 | AR52: =SUM(ABR:JUN!AR52) -> 0 | AS52: =SUM(ABR:JUN!AS52) -> 0
A53: 0515006 TRANSTORNOS DEL DESARROLLO DE LA FUNCION MOTRIZ | B53: ----------------------- | H53: Trastornos del desarrollo de la función motriz | AC53: =SUM(ABR:JUN!AC53:AF53) -> 0 | AG53: =SUM(ABR:JUN!AG53:AH53) -> 0 | AI53: =SUM(ABR:JUN!AI53:AK53) -> 0 | AL53: =SUM(ABR:JUN!AL53) -> 0 | AM53: =SUM(ABR:JUN!AM53) -> 0 | AN53: =SUM(ABR:JUN!AN53) -> 0 | AO53: =SUM(ABR:JUN!AO53) -> 0 | AP53: =SUM(ABR:JUN!AP53) -> 0 | AQ53: =SUM(ABR:JUN!AQ53) -> 0 | AR53: =SUM(ABR:JUN!AR53) -> 0 | AS53: =SUM(ABR:JUN!AS53) -> 0
A54: 0515007 ENFERMEDAD ARTICULAR DEGENERATIVA | B54: ----------------------- | H54: Enfermedad articular degenerativa | AC54: =SUM(ABR:JUN!AC54:AF54) -> 0 | AG54: =SUM(ABR:JUN!AG54:AH54) -> 0 | AI54: =SUM(ABR:JUN!AI54:AK54) -> 0 | AL54: =SUM(ABR:JUN!AL54) -> 0 | AM54: =SUM(ABR:JUN!AM54) -> 0 | AN54: =SUM(ABR:JUN!AN54) -> 0 | AO54: =SUM(ABR:JUN!AO54) -> 0 | AP54: =SUM(ABR:JUN!AP54) -> 0 | AQ54: =SUM(ABR:JUN!AQ54) -> 0 | AR54: =SUM(ABR:JUN!AR54) -> 0 | AS54: =SUM(ABR:JUN!AS54) -> 0
A55: 0515009 ENCEFALOPATIA INFANTIL | B55: ----------------------- | H55: Encefalopatía infantil | AC55: =SUM(ABR:JUN!AC55:AF55) -> 0 | AG55: =SUM(ABR:JUN!AG55:AH55) -> 0 | AI55: =SUM(ABR:JUN!AI55:AK55) -> 0 | AL55: =SUM(ABR:JUN!AL55) -> 0 | AM55: =SUM(ABR:JUN!AM55) -> 0 | AN55: =SUM(ABR:JUN!AN55) -> 0 | AO55: =SUM(ABR:JUN!AO55) -> 0 | AP55: =SUM(ABR:JUN!AP55) -> 0 | AQ55: =SUM(ABR:JUN!AQ55) -> 0 | AR55: =SUM(ABR:JUN!AR55) -> 0 | AS55: =SUM(ABR:JUN!AS55) -> 0
A56: 0515011 SÍNDROME DE DOWN | B56: ----------------------- | H56: Síndrome de Down | AC56: =SUM(ABR:JUN!AC56:AF56) -> 0 | AG56: =SUM(ABR:JUN!AG56:AH56) -> 0 | AI56: =SUM(ABR:JUN!AI56:AK56) -> 0 | AL56: =SUM(ABR:JUN!AL56) -> 0 | AM56: =SUM(ABR:JUN!AM56) -> 0 | AN56: =SUM(ABR:JUN!AN56) -> 0 | AO56: =SUM(ABR:JUN!AO56) -> 0 | AP56: =SUM(ABR:JUN!AP56) -> 0 | AQ56: =SUM(ABR:JUN!AQ56) -> 0 | AR56: =SUM(ABR:JUN!AR56) -> 0 | AS56: =SUM(ABR:JUN!AS56) -> 0
A57: PATOLOGIA DE LA COLUMNA VERTEBRAL Y OTROS TRANSTORNOS POSTURALES | B57: ----------------------- | H57: Cifosis y lordosis | AC57: =SUM(ABR:JUN!AC57:AF57) -> 0 | AG57: =SUM(ABR:JUN!AG57:AH57) -> 0 | AI57: =SUM(ABR:JUN!AI57:AK57) -> 0 | AL57: =SUM(ABR:JUN!AL57) -> 0 | AM57: =SUM(ABR:JUN!AM57) -> 0 | AN57: =SUM(ABR:JUN!AN57) -> 0 | AO57: =SUM(ABR:JUN!AO57) -> 0 | AP57: =SUM(ABR:JUN!AP57) -> 0 | AQ57: =SUM(ABR:JUN!AQ57) -> 0 | AR57: =SUM(ABR:JUN!AR57) -> 0 | AS57: =SUM(ABR:JUN!AS57) -> 0
H58: Espondilo artropatías | AC58: =SUM(ABR:JUN!AC58:AF58) -> 0 | AG58: =SUM(ABR:JUN!AG58:AH58) -> 0 | AI58: =SUM(ABR:JUN!AI58:AK58) -> 0 | AL58: =SUM(ABR:JUN!AL58) -> 0 | AM58: =SUM(ABR:JUN!AM58) -> 0 | AN58: =SUM(ABR:JUN!AN58) -> 0 | AO58: =SUM(ABR:JUN!AO58) -> 0 | AP58: =SUM(ABR:JUN!AP58) -> 0 | AQ58: =SUM(ABR:JUN!AQ58) -> 0 | AR58: =SUM(ABR:JUN!AR58) -> 0 | AS58: =SUM(ABR:JUN!AS58) -> 0
H59: Otros trastornos de los discos intervertebrales | AC59: =SUM(ABR:JUN!AC59:AF59) -> 0 | AG59: =SUM(ABR:JUN!AG59:AH59) -> 0 | AI59: =SUM(ABR:JUN!AI59:AK59) -> 0 | AL59: =SUM(ABR:JUN!AL59) -> 0 | AM59: =SUM(ABR:JUN!AM59) -> 0 | AN59: =SUM(ABR:JUN!AN59) -> 0 | AO59: =SUM(ABR:JUN!AO59) -> 0 | AP59: =SUM(ABR:JUN!AP59) -> 0 | AQ59: =SUM(ABR:JUN!AQ59) -> 0 | AR59: =SUM(ABR:JUN!AR59) -> 0 | AS59: =SUM(ABR:JUN!AS59) -> 0
H60: Cervicalgia, Dorsalgia, Lumbago | AC60: =SUM(ABR:JUN!AC60:AF60) -> 0 | AG60: =SUM(ABR:JUN!AG60:AH60) -> 0 | AI60: =SUM(ABR:JUN!AI60:AK60) -> 0 | AL60: =SUM(ABR:JUN!AL60) -> 0 | AM60: =SUM(ABR:JUN!AM60) -> 0 | AN60: =SUM(ABR:JUN!AN60) -> 0 | AO60: =SUM(ABR:JUN!AO60) -> 0 | AP60: =SUM(ABR:JUN!AP60) -> 0 | AQ60: =SUM(ABR:JUN!AQ60) -> 0 | AR60: =SUM(ABR:JUN!AR60) -> 0 | AS60: =SUM(ABR:JUN!AS60) -> 0
H61: Otras dorsopatías deformantes. | AC61: =SUM(ABR:JUN!AC61:AF61) -> 0 | AG61: =SUM(ABR:JUN!AG61:AH61) -> 0 | AI61: =SUM(ABR:JUN!AI61:AK61) -> 0 | AL61: =SUM(ABR:JUN!AL61) -> 0 | AM61: =SUM(ABR:JUN!AM61) -> 0 | AN61: =SUM(ABR:JUN!AN61) -> 0 | AO61: =SUM(ABR:JUN!AO61) -> 0 | AP61: =SUM(ABR:JUN!AP61) -> 0 | AQ61: =SUM(ABR:JUN!AQ61) -> 0 | AR61: =SUM(ABR:JUN!AR61) -> 0 | AS61: =SUM(ABR:JUN!AS61) -> 0
H62: Otros trastornos del sistema musculoesquelético y el tejido conectivo | AC62: =SUM(ABR:JUN!AC62:AF62) -> 0 | AG62: =SUM(ABR:JUN!AG62:AH62) -> 0 | AI62: =SUM(ABR:JUN!AI62:AK62) -> 0 | AL62: =SUM(ABR:JUN!AL62) -> 0 | AM62: =SUM(ABR:JUN!AM62) -> 0 | AN62: =SUM(ABR:JUN!AN62) -> 0 | AO62: =SUM(ABR:JUN!AO62) -> 0 | AP62: =SUM(ABR:JUN!AP62) -> 0 | AQ62: =SUM(ABR:JUN!AQ62) -> 0 | AR62: =SUM(ABR:JUN!AR62) -> 0 | AS62: =SUM(ABR:JUN!AS62) -> 0
H63: Otros trastornos articulares | AC63: =SUM(ABR:JUN!AC63:AF63) -> 0 | AG63: =SUM(ABR:JUN!AG63:AH63) -> 0 | AI63: =SUM(ABR:JUN!AI63:AK63) -> 0 | AL63: =SUM(ABR:JUN!AL63) -> 0 | AM63: =SUM(ABR:JUN!AM63) -> 0 | AN63: =SUM(ABR:JUN!AN63) -> 0 | AO63: =SUM(ABR:JUN!AO63) -> 0 | AP63: =SUM(ABR:JUN!AP63) -> 0 | AQ63: =SUM(ABR:JUN!AQ63) -> 0 | AR63: =SUM(ABR:JUN!AR63) -> 0 | AS63: =SUM(ABR:JUN!AS63) -> 0
H64: Defectos en la longitud de extremidades | AC64: =SUM(ABR:JUN!AC64:AF64) -> 0 | AG64: =SUM(ABR:JUN!AG64:AH64) -> 0 | AI64: =SUM(ABR:JUN!AI64:AK64) -> 0 | AL64: =SUM(ABR:JUN!AL64) -> 0 | AM64: =SUM(ABR:JUN!AM64) -> 0 | AN64: =SUM(ABR:JUN!AN64) -> 0 | AO64: =SUM(ABR:JUN!AO64) -> 0 | AP64: =SUM(ABR:JUN!AP64) -> 0 | AQ64: =SUM(ABR:JUN!AQ64) -> 0 | AR64: =SUM(ABR:JUN!AR64) -> 0 | AS64: =SUM(ABR:JUN!AS64) -> 0
A65: REHABILITACIÓN EN ENFERMEDAD CARDIOVASCULAR | B65: ----------------------- | H65: Rehabilitación en enfermedad cardiovascular | AC65: =SUM(ABR:JUN!AC65:AF65) -> 0 | AG65: =SUM(ABR:JUN!AG65:AH65) -> 0 | AI65: =SUM(ABR:JUN!AI65:AK65) -> 0 | AL65: =SUM(ABR:JUN!AL65) -> 0 | AM65: =SUM(ABR:JUN!AM65) -> 0 | AN65: =SUM(ABR:JUN!AN65) -> 0 | AO65: =SUM(ABR:JUN!AO65) -> 0 | AP65: =SUM(ABR:JUN!AP65) -> 0 | AQ65: =SUM(ABR:JUN!AQ65) -> 0 | AR65: =SUM(ABR:JUN!AR65) -> 0 | AS65: =SUM(ABR:JUN!AS65) -> 0
A66: REHABILITACIÓN EN ENFERMEDAD RESPIRATORIA | B66: ----------------------- | H66: Rehabilitación en enfermedad respiratoria | AC66: =SUM(ABR:JUN!AC66:AF66) -> 0 | AG66: =SUM(ABR:JUN!AG66:AH66) -> 0 | AI66: =SUM(ABR:JUN!AI66:AK66) -> 0 | AL66: =SUM(ABR:JUN!AL66) -> 0 | AM66: =SUM(ABR:JUN!AM66) -> 0 | AN66: =SUM(ABR:JUN!AN66) -> 0 | AO66: =SUM(ABR:JUN!AO66) -> 0 | AP66: =SUM(ABR:JUN!AP66) -> 0 | AQ66: =SUM(ABR:JUN!AQ66) -> 0 | AR66: =SUM(ABR:JUN!AR66) -> 0 | AS66: =SUM(ABR:JUN!AS66) -> 0
A67: REHABILITACIÓN EN ALTERACIONES DEL PISO PÉLVICO | B67: ----------------------- | H67: Vejiga neurogénica | AC67: =SUM(ABR:JUN!AC67:AF67) -> 0 | AG67: =SUM(ABR:JUN!AG67:AH67) -> 0 | AI67: =SUM(ABR:JUN!AI67:AK67) -> 0 | AL67: =SUM(ABR:JUN!AL67) -> 0 | AM67: =SUM(ABR:JUN!AM67) -> 0 | AN67: =SUM(ABR:JUN!AN67) -> 0 | AO67: =SUM(ABR:JUN!AO67) -> 0 | AP67: =SUM(ABR:JUN!AP67) -> 0 | AQ67: =SUM(ABR:JUN!AQ67) -> 0 | AR67: =SUM(ABR:JUN!AR67) -> 0 | AS67: =SUM(ABR:JUN!AS67) -> 0
H68: Incontinencia | AC68: =SUM(ABR:JUN!AC68:AF68) -> 0 | AG68: =SUM(ABR:JUN!AG68:AH68) -> 0 | AI68: =SUM(ABR:JUN!AI68:AK68) -> 0 | AL68: =SUM(ABR:JUN!AL68) -> 0 | AM68: =SUM(ABR:JUN!AM68) -> 0 | AN68: =SUM(ABR:JUN!AN68) -> 0 | AO68: =SUM(ABR:JUN!AO68) -> 0 | AP68: =SUM(ABR:JUN!AP68) -> 0 | AQ68: =SUM(ABR:JUN!AQ68) -> 0 | AR68: =SUM(ABR:JUN!AR68) -> 0 | AS68: =SUM(ABR:JUN!AS68) -> 0
H69: Prolapso | AC69: =SUM(ABR:JUN!AC69:AF69) -> 0 | AG69: =SUM(ABR:JUN!AG69:AH69) -> 0 | AI69: =SUM(ABR:JUN!AI69:AK69) -> 0 | AL69: =SUM(ABR:JUN!AL69) -> 0 | AM69: =SUM(ABR:JUN!AM69) -> 0 | AN69: =SUM(ABR:JUN!AN69) -> 0 | AO69: =SUM(ABR:JUN!AO69) -> 0 | AP69: =SUM(ABR:JUN!AP69) -> 0 | AQ69: =SUM(ABR:JUN!AQ69) -> 0 | AR69: =SUM(ABR:JUN!AR69) -> 0 | AS69: =SUM(ABR:JUN!AS69) -> 0
A70: ATENCIÓN DE REHABILITACIÓN EN PATOLOGÍA TRAUMATOLÓGICA Y REUMATOLÓGICA | B70: ----------------------- | H70: Traumatismo | AC70: =SUM(ABR:JUN!AC70:AF70) -> 0 | AG70: =SUM(ABR:JUN!AG70:AH70) -> 0 | AI70: =SUM(ABR:JUN!AI70:AK70) -> 0 | AL70: =SUM(ABR:JUN!AL70) -> 0 | AM70: =SUM(ABR:JUN!AM70) -> 0 | AN70: =SUM(ABR:JUN!AN70) -> 0 | AO70: =SUM(ABR:JUN!AO70) -> 0 | AP70: =SUM(ABR:JUN!AP70) -> 0 | AQ70: =SUM(ABR:JUN!AQ70) -> 0 | AR70: =SUM(ABR:JUN!AR70) -> 0 | AS70: =SUM(ABR:JUN!AS70) -> 0
H71: Enfermedades del tejido conectivo | AC71: =SUM(ABR:JUN!AC71:AF71) -> 0 | AG71: =SUM(ABR:JUN!AG71:AH71) -> 0 | AI71: =SUM(ABR:JUN!AI71:AK71) -> 0 | AL71: =SUM(ABR:JUN!AL71) -> 0 | AM71: =SUM(ABR:JUN!AM71) -> 0 | AN71: =SUM(ABR:JUN!AN71) -> 0 | AO71: =SUM(ABR:JUN!AO71) -> 0 | AP71: =SUM(ABR:JUN!AP71) -> 0 | AQ71: =SUM(ABR:JUN!AQ71) -> 0 | AR71: =SUM(ABR:JUN!AR71) -> 0 | AS71: =SUM(ABR:JUN!AS71) -> 0
H72: Patología articular excluida columna | AC72: =SUM(ABR:JUN!AC72:AF72) -> 0 | AG72: =SUM(ABR:JUN!AG72:AH72) -> 0 | AI72: =SUM(ABR:JUN!AI72:AK72) -> 0 | AL72: =SUM(ABR:JUN!AL72) -> 0 | AM72: =SUM(ABR:JUN!AM72) -> 0 | AN72: =SUM(ABR:JUN!AN72) -> 0 | AO72: =SUM(ABR:JUN!AO72) -> 0 | AP72: =SUM(ABR:JUN!AP72) -> 0 | AQ72: =SUM(ABR:JUN!AQ72) -> 0 | AR72: =SUM(ABR:JUN!AR72) -> 0 | AS72: =SUM(ABR:JUN!AS72) -> 0
H73: Lesiones Infecciosas | AC73: =SUM(ABR:JUN!AC73:AF73) -> 0 | AG73: =SUM(ABR:JUN!AG73:AH73) -> 0 | AI73: =SUM(ABR:JUN!AI73:AK73) -> 0 | AL73: =SUM(ABR:JUN!AL73) -> 0 | AM73: =SUM(ABR:JUN!AM73) -> 0 | AN73: =SUM(ABR:JUN!AN73) -> 0 | AO73: =SUM(ABR:JUN!AO73) -> 0 | AP73: =SUM(ABR:JUN!AP73) -> 0 | AQ73: =SUM(ABR:JUN!AQ73) -> 0 | AR73: =SUM(ABR:JUN!AR73) -> 0 | AS73: =SUM(ABR:JUN!AS73) -> 0
H74: Lesión biomecánica | AC74: =SUM(ABR:JUN!AC74:AF74) -> 0 | AG74: =SUM(ABR:JUN!AG74:AH74) -> 0 | AI74: =SUM(ABR:JUN!AI74:AK74) -> 0 | AL74: =SUM(ABR:JUN!AL74) -> 0 | AM74: =SUM(ABR:JUN!AM74) -> 0 | AN74: =SUM(ABR:JUN!AN74) -> 0 | AO74: =SUM(ABR:JUN!AO74) -> 0 | AP74: =SUM(ABR:JUN!AP74) -> 0 | AQ74: =SUM(ABR:JUN!AQ74) -> 0 | AR74: =SUM(ABR:JUN!AR74) -> 0 | AS74: =SUM(ABR:JUN!AS74) -> 0
A75: REHABILITACIÓN ONCOLÓGICA | B75: ----------------------- | H75: Linfedema + DX Neoplasia | AC75: =SUM(ABR:JUN!AC75:AF75) -> 0 | AG75: =SUM(ABR:JUN!AG75:AH75) -> 0 | AI75: =SUM(ABR:JUN!AI75:AK75) -> 0 | AL75: =SUM(ABR:JUN!AL75) -> 0 | AM75: =SUM(ABR:JUN!AM75) -> 0 | AN75: =SUM(ABR:JUN!AN75) -> 0 | AO75: =SUM(ABR:JUN!AO75) -> 0 | AP75: =SUM(ABR:JUN!AP75) -> 0 | AQ75: =SUM(ABR:JUN!AQ75) -> 0 | AR75: =SUM(ABR:JUN!AR75) -> 0 | AS75: =SUM(ABR:JUN!AS75) -> 0
H76: Sarcopenia + Dx Neoplasia | AC76: =SUM(ABR:JUN!AC76:AF76) -> 0 | AG76: =SUM(ABR:JUN!AG76:AH76) -> 0 | AI76: =SUM(ABR:JUN!AI76:AK76) -> 0 | AL76: =SUM(ABR:JUN!AL76) -> 0 | AM76: =SUM(ABR:JUN!AM76) -> 0 | AN76: =SUM(ABR:JUN!AN76) -> 0 | AO76: =SUM(ABR:JUN!AO76) -> 0 | AP76: =SUM(ABR:JUN!AP76) -> 0 | AQ76: =SUM(ABR:JUN!AQ76) -> 0 | AR76: =SUM(ABR:JUN!AR76) -> 0 | AS76: =SUM(ABR:JUN!AS76) -> 0
A77: REHABILITACIÓN EN DOLOR | B77: ----------------------- | H77: Rehabilitación en dolor | AC77: =SUM(ABR:JUN!AC77:AF77) -> 0 | AG77: =SUM(ABR:JUN!AG77:AH77) -> 0 | AI77: =SUM(ABR:JUN!AI77:AK77) -> 0 | AL77: =SUM(ABR:JUN!AL77) -> 0 | AM77: =SUM(ABR:JUN!AM77) -> 0 | AN77: =SUM(ABR:JUN!AN77) -> 0 | AO77: =SUM(ABR:JUN!AO77) -> 0 | AP77: =SUM(ABR:JUN!AP77) -> 0 | AQ77: =SUM(ABR:JUN!AQ77) -> 0 | AR77: =SUM(ABR:JUN!AR77) -> 0 | AS77: =SUM(ABR:JUN!AS77) -> 0
A78: REHABILITACIÓN EN PACIENTES QUEMADOS | B78: ----------------------- | H78: Rehabilitación en pacientes quemados | AC78: =SUM(ABR:JUN!AC78:AF78) -> 0 | AG78: =SUM(ABR:JUN!AG78:AH78) -> 0 | AI78: =SUM(ABR:JUN!AI78:AK78) -> 0 | AL78: =SUM(ABR:JUN!AL78) -> 0 | AM78: =SUM(ABR:JUN!AM78) -> 0 | AN78: =SUM(ABR:JUN!AN78) -> 0 | AO78: =SUM(ABR:JUN!AO78) -> 0 | AP78: =SUM(ABR:JUN!AP78) -> 0 | AQ78: =SUM(ABR:JUN!AQ78) -> 0 | AR78: =SUM(ABR:JUN!AR78) -> 0 | AS78: =SUM(ABR:JUN!AS78) -> 0
A80: Atención de Rehabilitación en Personas con Discapacidad de Tipo Sensorial (5005151)
A82: ATENCIONES | H82: Total | J82: 00a-11a | O82: 12a-17a | V82: 18a-29a | Y82: 30a-59a | AD82: 60a+
J83: M | M83: F | O83: M | R83: F | V83: M | W83: F | Y83: M | AA83: F | AD83: M | AH83: F
A84: HIPOACUSIA Y SORDERA | B84: Hipoacusia y/o sordera | H84: =SUM(ABR:JUN!H84:I84) -> 0 | J84: =SUM(ABR:JUN!J84:L84) -> 0 | M84: =SUM(ABR:JUN!M84:N84) -> 0 | O84: =SUM('I TRIM'!O84:Q84) -> 0 | R84: =SUM(ABR:JUN!R84:U84) -> 0 | V84: =SUM(ABR:JUN!V84) -> 0 | W84: =SUM(ABR:JUN!W84:X84) -> 0 | Y84: =SUM(ABR:JUN!Y84:Z84) -> 0 | AA84: =SUM(ABR:JUN!AA84:AC84) -> 0 | AD84: =SUM(ABR:JUN!AD84:AG84) -> 0 | AH84: =SUM(ABR:JUN!AH84:AI84) -> 0
A85: BAJA VISIÓN Y CEGUERA | B85: Baja visión y/o ceguera | H85: =SUM(ABR:JUN!H85:I85) -> 0 | J85: =SUM(ABR:JUN!J85:L85) -> 0 | M85: =SUM(ABR:JUN!M85:N85) -> 0 | O85: =SUM('I TRIM'!O85:Q85) -> 0 | R85: =SUM(ABR:JUN!R85:U85) -> 0 | V85: =SUM(ABR:JUN!V85) -> 0 | W85: =SUM(ABR:JUN!W85:X85) -> 0 | Y85: =SUM(ABR:JUN!Y85:Z85) -> 0 | AA85: =SUM(ABR:JUN!AA85:AC85) -> 0 | AD85: =SUM(ABR:JUN!AD85:AG85) -> 0 | AH85: =SUM(ABR:JUN!AH85:AI85) -> 0
A86: SORDOMUDEZ | B86: Sordomudez | H86: =SUM(ABR:JUN!H86:I86) -> 0 | J86: =SUM(ABR:JUN!J86:L86) -> 0 | M86: =SUM(ABR:JUN!M86:N86) -> 0 | O86: =SUM('I TRIM'!O86:Q86) -> 0 | R86: =SUM(ABR:JUN!R86:U86) -> 0 | V86: =SUM(ABR:JUN!V86) -> 0 | W86: =SUM(ABR:JUN!W86:X86) -> 0 | Y86: =SUM(ABR:JUN!Y86:Z86) -> 0 | AA86: =SUM(ABR:JUN!AA86:AC86) -> 0 | AD86: =SUM(ABR:JUN!AD86:AG86) -> 0 | AH86: =SUM(ABR:JUN!AH86:AI86) -> 0
A87: TRASTORNOS ESPECÍFICOS DEL DESARROLLO DEL HABLA Y LENGUAJE | B87: Transtornos específicos del desarrollo del habla y lenguaje | H87: =SUM(ABR:JUN!H87:I87) -> 0 | J87: =SUM(ABR:JUN!J87:L87) -> 0 | M87: =SUM(ABR:JUN!M87:N87) -> 0 | O87: =SUM('I TRIM'!O87:Q87) -> 0 | R87: =SUM(ABR:JUN!R87:U87) -> 0 | V87: =SUM(ABR:JUN!V87) -> 0 | W87: =SUM(ABR:JUN!W87:X87) -> 0 | Y87: =SUM(ABR:JUN!Y87:Z87) -> 0 | AA87: =SUM(ABR:JUN!AA87:AC87) -> 0 | AD87: =SUM(ABR:JUN!AD87:AG87) -> 0 | AH87: =SUM(ABR:JUN!AH87:AI87) -> 0
B88: Otros trastornos de la deglución | H88: =SUM(ABR:JUN!H88:I88) -> 0 | J88: =SUM(ABR:JUN!J88:L88) -> 0 | M88: =SUM(ABR:JUN!M88:N88) -> 0 | O88: =SUM('I TRIM'!O88:Q88) -> 0 | R88: =SUM(ABR:JUN!R88:U88) -> 0 | V88: =SUM(ABR:JUN!V88) -> 0 | W88: =SUM(ABR:JUN!W88:X88) -> 0 | Y88: =SUM(ABR:JUN!Y88:Z88) -> 0 | AA88: =SUM(ABR:JUN!AA88:AC88) -> 0 | AD88: =SUM(ABR:JUN!AD88:AG88) -> 0 | AH88: =SUM(ABR:JUN!AH88:AI88) -> 0
A89: DISARTRIA Y DISFAGIA | B89: Disartria | H89: =SUM(ABR:JUN!H89:I89) -> 0 | J89: =SUM(ABR:JUN!J89:L89) -> 0 | M89: =SUM(ABR:JUN!M89:N89) -> 0 | O89: =SUM('I TRIM'!O89:Q89) -> 0 | R89: =SUM(ABR:JUN!R89:U89) -> 0 | V89: =SUM(ABR:JUN!V89) -> 0 | W89: =SUM(ABR:JUN!W89:X89) -> 0 | Y89: =SUM(ABR:JUN!Y89:Z89) -> 0 | AA89: =SUM(ABR:JUN!AA89:AC89) -> 0 | AD89: =SUM(ABR:JUN!AD89:AG89) -> 0 | AH89: =SUM(ABR:JUN!AH89:AI89) -> 0
B90: Disfagia | H90: =SUM(ABR:JUN!H90:I90) -> 0 | J90: =SUM(ABR:JUN!J90:L90) -> 0 | M90: =SUM(ABR:JUN!M90:N90) -> 0 | O90: =SUM('I TRIM'!O90:Q90) -> 0 | R90: =SUM(ABR:JUN!R90:U90) -> 0 | V90: =SUM(ABR:JUN!V90) -> 0 | W90: =SUM(ABR:JUN!W90:X90) -> 0 | Y90: =SUM(ABR:JUN!Y90:Z90) -> 0 | AA90: =SUM(ABR:JUN!AA90:AC90) -> 0 | AD90: =SUM(ABR:JUN!AD90:AG90) -> 0 | AH90: =SUM(ABR:JUN!AH90:AI90) -> 0
A92: Atención de Rehabilitación en Personas con Discapacidad de Tipo Mental (5005151)
A94: ATENCIONES | C94: Total | D94: 00a-11a | I94: 12a-17a | N94: 18a-29a | U94: 30a-59a | Z94: 60a+
D95: M | G95: F | I95: M | L95: F | N95: M | Q95: F | U95: M | X95: F | Z95: M | AB95: F
A96: Trastornos de aprendizaje | C96: =SUM(ABR:JUN!C96) -> 0 | D96: =SUM(ABR:JUN!D96:F96) -> 0 | G96: =SUM(ABR:JUN!G96:H96) -> 0 | I96: =SUM(ABR:JUN!I96:K96) -> 0 | L96: =SUM(ABR:JUN!L96:M96) -> 0 | N96: =SUM(ABR:JUN!N96:P96) -> 0 | Q96: =SUM(ABR:JUN!Q96:T96) -> 0 | U96: =SUM(ABR:JUN!U96:W96) -> 0 | X96: =SUM(ABR:JUN!X96:Y96) -> 0 | Z96: =SUM(ABR:JUN!Z96:AA96) -> 0 | AB96: =SUM(ABR:JUN!AB96:AD96) -> 0
A97: Retraso mental: leve, moderado, severo | C97: =SUM(ABR:JUN!C97) -> 0 | D97: =SUM(ABR:JUN!D97:F97) -> 0 | G97: =SUM(ABR:JUN!G97:H97) -> 0 | I97: =SUM(ABR:JUN!I97:K97) -> 0 | L97: =SUM(ABR:JUN!L97:M97) -> 0 | N97: =SUM(ABR:JUN!N97:P97) -> 0 | Q97: =SUM(ABR:JUN!Q97:T97) -> 0 | U97: =SUM(ABR:JUN!U97:W97) -> 0 | X97: =SUM(ABR:JUN!X97:Y97) -> 0 | Z97: =SUM(ABR:JUN!Z97:AA97) -> 0 | AB97: =SUM(ABR:JUN!AB97:AD97) -> 0
A98: Trastornos del espectro autista | C98: =SUM(ABR:JUN!C98) -> 0 | D98: =SUM(ABR:JUN!D98:F98) -> 0 | G98: =SUM(ABR:JUN!G98:H98) -> 0 | I98: =SUM(ABR:JUN!I98:K98) -> 0 | L98: =SUM(ABR:JUN!L98:M98) -> 0 | N98: =SUM(ABR:JUN!N98:P98) -> 0 | Q98: =SUM(ABR:JUN!Q98:T98) -> 0 | U98: =SUM(ABR:JUN!U98:W98) -> 0 | X98: =SUM(ABR:JUN!X98:Y98) -> 0 | Z98: =SUM(ABR:JUN!Z98:AA98) -> 0 | AB98: =SUM(ABR:JUN!AB98:AD98) -> 0
A99: Otros trastornos de salud mental | C99: =SUM(ABR:JUN!C99) -> 0 | D99: =SUM(ABR:JUN!D99:F99) -> 0 | G99: =SUM(ABR:JUN!G99:H99) -> 0 | I99: =SUM(ABR:JUN!I99:K99) -> 0 | L99: =SUM(ABR:JUN!L99:M99) -> 0 | N99: =SUM(ABR:JUN!N99:P99) -> 0 | Q99: =SUM(ABR:JUN!Q99:T99) -> 0 | U99: =SUM(ABR:JUN!U99:W99) -> 0 | X99: =SUM(ABR:JUN!X99:Y99) -> 0 | Z99: =SUM(ABR:JUN!Z99:AA99) -> 0 | AB99: =SUM(ABR:JUN!AB99:AD99) -> 0
A101: PERSONAS CON DISCAPACIDAD CERTIFICADAS EN ESTABLECIMIENTOS DE SALUD (3000689)
A103: ATENCIONES | C103: Total | D103: 00a-11a | I103: 12a-17a | N103: 18a-29a | U103: 30a-59a | Z103: 60a+
D104: M | G104: F | I104: M | L104: F | N104: M | Q104: F | U104: M | X104: F | Z104: M | AB104: F
A105: Certificación de Discapacidad | C105: =SUM(ABR:JUN!C105) -> 0 | D105: =SUM(ABR:JUN!D105:F105) -> 0 | G105: =SUM(ABR:JUN!G105:H105) -> 0 | I105: =SUM(ABR:JUN!I105:K105) -> 0 | L105: =SUM(ABR:JUN!L105:M105) -> 0 | N105: =SUM(ABR:JUN!N105:P105) -> 0 | Q105: =SUM(ABR:JUN!Q105:T105) -> 0 | U105: =SUM(ABR:JUN!U105:W105) -> 0 | X105: =SUM(ABR:JUN!X105:Y105) -> 0 | Z105: =SUM(ABR:JUN!Z105:AA105) -> 0 | AB105: =SUM(ABR:JUN!AB105:AD105) -> 0
A106: Certificación de Incapacidad | C106: =SUM(ABR:JUN!C106) -> 0 | D106: =SUM(ABR:JUN!D106:F106) -> 0 | G106: =SUM(ABR:JUN!G106:H106) -> 0 | I106: =SUM(ABR:JUN!I106:K106) -> 0 | L106: =SUM(ABR:JUN!L106:M106) -> 0 | N106: =SUM(ABR:JUN!N106:P106) -> 0 | Q106: =SUM(ABR:JUN!Q106:T106) -> 0 | U106: =SUM(ABR:JUN!U106:W106) -> 0 | X106: =SUM(ABR:JUN!X106:Y106) -> 0 | Z106: =SUM(ABR:JUN!Z106:AA106) -> 0 | AB106: =SUM(ABR:JUN!AB106:AD106) -> 0
A108: PERSONAS CON DISCAPACIDAD RECIBEN SERVICIOS DE REHABILITACIÓN BASADA EN LA COMUNIDAD (3000690)
A110: ATENCIONES | C110: Total | D110: 00a-11a | I110: 12a-17a | N110: 18a-29a | U110: 30a-59a | Z110: 60a+
D111: M | G111: F | I111: M | L111: F | N111: M | Q111: F | U111: M | X111: F | Z111: M | AB111: F
A112: 1° Visita | C112: =SUM(ABR:JUN!C112) -> 0 | D112: =SUM(ABR:JUN!D112:F112) -> 0 | G112: =SUM(ABR:JUN!G112:H112) -> 0 | I112: =SUM(ABR:JUN!I112:K112) -> 0 | L112: =SUM(ABR:JUN!L112:M112) -> 0 | N112: =SUM(ABR:JUN!N112:P112) -> 0 | Q112: =SUM(ABR:JUN!Q112:T112) -> 0 | U112: =SUM(ABR:JUN!U112:W112) -> 0 | X112: =SUM(ABR:JUN!X112:Y112) -> 0 | Z112: =SUM(ABR:JUN!Z112:AA112) -> 0 | AB112: =SUM(ABR:JUN!AB112:AD112) -> 0
A113: 2° Visita | C113: =SUM(ABR:JUN!C113) -> 0 | D113: =SUM(ABR:JUN!D113:F113) -> 0 | G113: =SUM(ABR:JUN!G113:H113) -> 0 | I113: =SUM(ABR:JUN!I113:K113) -> 0 | L113: =SUM(ABR:JUN!L113:M113) -> 0 | N113: =SUM(ABR:JUN!N113:P113) -> 0 | Q113: =SUM(ABR:JUN!Q113:T113) -> 0 | U113: =SUM(ABR:JUN!U113:W113) -> 0 | X113: =SUM(ABR:JUN!X113:Y113) -> 0 | Z113: =SUM(ABR:JUN!Z113:AA113) -> 0 | AB113: =SUM(ABR:JUN!AB113:AD113) -> 0
A114: 3° Visita | C114: =SUM(ABR:JUN!C114) -> 0 | D114: =SUM(ABR:JUN!D114:F114) -> 0 | G114: =SUM(ABR:JUN!G114:H114) -> 0 | I114: =SUM(ABR:JUN!I114:K114) -> 0 | L114: =SUM(ABR:JUN!L114:M114) -> 0 | N114: =SUM(ABR:JUN!N114:P114) -> 0 | Q114: =SUM(ABR:JUN!Q114:T114) -> 0 | U114: =SUM(ABR:JUN!U114:W114) -> 0 | X114: =SUM(ABR:JUN!X114:Y114) -> 0 | Z114: =SUM(ABR:JUN!Z114:AA114) -> 0 | AB114: =SUM(ABR:JUN!AB114:AD114) -> 0
A116: Capacitación a agentes comunitarios en rehabilitación basada en la comunidad (5005155)
E118: 1° Taller / Sesión | K118: 2° Taller / Sesión
...

Sheet I SEM
A3: REPORTE DE ACTIVIDADES DEL COMPONENTE DE DISCAPACIDAD
A5: Periodo: Marzo - 2025
A6: Diresa/Red/M.Red/EE.SS: AREQUIPA/AREQUIPA CAYLLOMA/TIABAYA/TODOS LOS EE.SS
A8: PERSONAS CON DISCAPACIDAD RECIBEN ATENCION DE REHABILITACION EN ESTABLECIMIENTOS DE SALUD (3000688)
A10: Capacitación en medicina de rehabilitación integral (5004449)
B12: N° | C12: Capacitados
A13: Capacitación personal médido rehabilitador | B13: =SUM('I TRIM'!B13+'II TRIM'!B13) -> 0 | C13: =SUM(ABR:JUN!C13:E13) -> 0
A15: Atención de Rehabilitación en Personas con Discapacidad de Tipo Física (5005150)
A17: GRUPO | B17: ATENCIONES | AC17: Total | AG17: 00a-11a | AL17: 12a-17a | AN17: 18a-29a | AP17: 30a-59a | AR17: 60a+
AG18: M | AI18: F | AL18: M | AM18: F | AN18: M | AO18: F | AP18: M | AQ18: F | AR18: M | AS18: F
A19: 0515001 LESIONES MEDULARES | B19: Lesiones medulares | H19: Lesiones medulares con severidad leve | AC19: =SUM(ABR:JUN!AC19:AF19) -> 0 | AG19: =SUM(ABR:JUN!AG19:AH19) -> 0 | AI19: =SUM(ABR:JUN!AI19:AK19) -> 0 | AL19: =SUM(ABR:JUN!AL19) -> 0 | AM19: =SUM(ABR:JUN!AM19) -> 0 | AN19: =SUM(ABR:JUN!AN19) -> 0 | AO19: =SUM(ABR:JUN!AO19) -> 0 | AP19: =SUM(ABR:JUN!AP19) -> 0 | AQ19: =SUM(ABR:JUN!AQ19) -> 0 | AR19: =SUM(ABR:JUN!AR19) -> 0 | AS19: =SUM(ABR:JUN!AS19) -> 0
H20: Lesiones medulares con severidad moderada | AC20: =SUM(ABR:JUN!AC20:AF20) -> 0 | AG20: =SUM(ABR:JUN!AG20:AH20) -> 0 | AI20: =SUM(ABR:JUN!AI20:AK20) -> 0 | AL20: =SUM(ABR:JUN!AL20) -> 0 | AM20: =SUM(ABR:JUN!AM20) -> 0 | AN20: =SUM(ABR:JUN!AN20) -> 0 | AO20: =SUM(ABR:JUN!AO20) -> 0 | AP20: =SUM(ABR:JUN!AP20) -> 0 | AQ20: =SUM(ABR:JUN!AQ20) -> 0 | AR20: =SUM(ABR:JUN!AR20) -> 0 | AS20: =SUM(ABR:JUN!AS20) -> 0
H21: Lesiones medulares severas | AC21: =SUM(ABR:JUN!AC21:AF21) -> 0 | AG21: =SUM(ABR:JUN!AG21:AH21) -> 0 | AI21: =SUM(ABR:JUN!AI21:AK21) -> 0 | AL21: =SUM(ABR:JUN!AL21) -> 0 | AM21: =SUM(ABR:JUN!AM21) -> 0 | AN21: =SUM(ABR:JUN!AN21) -> 0 | AO21: =SUM(ABR:JUN!AO21) -> 0 | AP21: =SUM(ABR:JUN!AP21) -> 0 | AQ21: =SUM(ABR:JUN!AQ21) -> 0 | AR21: =SUM(ABR:JUN!AR21) -> 0 | AS21: =SUM(ABR:JUN!AS21) -> 0
H22: Lesiones medulares en personas rehabilitadas | AC22: =SUM(ABR:JUN!AC22:AF22) -> 0 | AG22: =SUM(ABR:JUN!AG22:AH22) -> 0 | AI22: =SUM(ABR:JUN!AI22:AK22) -> 0 | AL22: =SUM(ABR:JUN!AL22) -> 0 | AM22: =SUM(ABR:JUN!AM22) -> 0 | AN22: =SUM(ABR:JUN!AN22) -> 0 | AO22: =SUM(ABR:JUN!AO22) -> 0 | AP22: =SUM(ABR:JUN!AP22) -> 0 | AQ22: =SUM(ABR:JUN!AQ22) -> 0 | AR22: =SUM(ABR:JUN!AR22) -> 0 | AS22: =SUM(ABR:JUN!AS22) -> 0
H23: Lesiones medulares en personas con discapacidad | AC23: =SUM(ABR:JUN!AC23:AF23) -> 0 | AG23: =SUM(ABR:JUN!AG23:AH23) -> 0 | AI23: =SUM(ABR:JUN!AI23:AK23) -> 0 | AL23: =SUM(ABR:JUN!AL23) -> 0 | AM23: =SUM(ABR:JUN!AM23) -> 0 | AN23: =SUM(ABR:JUN!AN23) -> 0 | AO23: =SUM(ABR:JUN!AO23) -> 0 | AP23: =SUM(ABR:JUN!AP23) -> 0 | AQ23: =SUM(ABR:JUN!AQ23) -> 0 | AR23: =SUM(ABR:JUN!AR23) -> 0 | AS23: =SUM(ABR:JUN!AS23) -> 0
H24: Lesiones medulares con servicio de evaluación, calificación y certificación de la discapacidad | AC24: =SUM(ABR:JUN!AC24:AF24) -> 0 | AG24: =SUM(ABR:JUN!AG24:AH24) -> 0 | AI24: =SUM(ABR:JUN!AI24:AK24) -> 0 | AL24: =SUM(ABR:JUN!AL24) -> 0 | AM24: =SUM(ABR:JUN!AM24) -> 0 | AN24: =SUM(ABR:JUN!AN24) -> 0 | AO24: =SUM(ABR:JUN!AO24) -> 0 | AP24: =SUM(ABR:JUN!AP24) -> 0 | AQ24: =SUM(ABR:JUN!AQ24) -> 0 | AR24: =SUM(ABR:JUN!AR24) -> 0 | AS24: =SUM(ABR:JUN!AS24) -> 0
H25: Lesiones medulares con consulta ambulatoria para la evaluación y manejo de un usuario de salud nuevo nivel de atención I (Prescripción de la ayuda técnica o producto de apoyo) | AC25: =SUM(ABR:JUN!AC25:AF25) -> 0 | AG25: =SUM(ABR:JUN!AG25:AH25) -> 0 | AI25: =SUM(ABR:JUN!AI25:AK25) -> 0 | AL25: =SUM(ABR:JUN!AL25) -> 0 | AM25: =SUM(ABR:JUN!AM25) -> 0 | AN25: =SUM(ABR:JUN!AN25) -> 0 | AO25: =SUM(ABR:JUN!AO25) -> 0 | AP25: =SUM(ABR:JUN!AP25) -> 0 | AQ25: =SUM(ABR:JUN!AQ25) -> 0 | AR25: =SUM(ABR:JUN!AR25) -> 0 | AS25: =SUM(ABR:JUN!AS25) -> 0
H26: Lesiones medulares con consulta ambulatoria para la evaluación y manejo de un usuario de salud nuevo nivel de atención III (Prescripción de la ayuda técnica o producto de apoyo). | AC26: =SUM(ABR:JUN!AC26:AF26) -> 0 | AG26: =SUM(ABR:JUN!AG26:AH26) -> 0 | AI26: =SUM(ABR:JUN!AI26:AK26) -> 0 | AL26: =SUM(ABR:JUN!AL26) -> 0 | AM26: =SUM(ABR:JUN!AM26) -> 0 | AN26: =SUM(ABR:JUN!AN26) -> 0 | AO26: =SUM(ABR:JUN!AO26) -> 0 | AP26: =SUM(ABR:JUN!AP26) -> 0 | AQ26: =SUM(ABR:JUN!AQ26) -> 0 | AR26: =SUM(ABR:JUN!AR26) -> 0 | AS26: =SUM(ABR:JUN!AS26) -> 0
H27: Lesiones medulares con consulta ambulatoria para la evaluación y manejo de un usuario de salud nuevo nivel de atención II (Prescripción de la ayuda técnica o producto de apoyo). | AC27: =SUM(ABR:JUN!AC27:AF27) -> 0 | AG27: =SUM(ABR:JUN!AG27:AH27) -> 0 | AI27: =SUM(ABR:JUN!AI27:AK27) -> 0 | AL27: =SUM(ABR:JUN!AL27) -> 0 | AM27: =SUM(ABR:JUN!AM27) -> 0 | AN27: =SUM(ABR:JUN!AN27) -> 0 | AO27: =SUM(ABR:JUN!AO27) -> 0 | AP27: =SUM(ABR:JUN!AP27) -> 0 | AQ27: =SUM(ABR:JUN!AQ27) -> 0 | AR27: =SUM(ABR:JUN!AR27) -> 0 | AS27: =SUM(ABR:JUN!AS27) -> 0
H28: Lesiones medulares con revisión final para el uso de dispositivos ortóticos/protésicos usuario de salud establecido (Entrega de la ayuda técnica o producto de apoyo). | AC28: =SUM(ABR:JUN!AC28:AF28) -> 0 | AG28: =SUM(ABR:JUN!AG28:AH28) -> 0 | AI28: =SUM(ABR:JUN!AI28:AK28) -> 0 | AL28: =SUM(ABR:JUN!AL28) -> 0 | AM28: =SUM(ABR:JUN!AM28) -> 0 | AN28: =SUM(ABR:JUN!AN28) -> 0 | AO28: =SUM(ABR:JUN!AO28) -> 0 | AP28: =SUM(ABR:JUN!AP28) -> 0 | AQ28: =SUM(ABR:JUN!AQ28) -> 0 | AR28: =SUM(ABR:JUN!AR28) -> 0 | AS28: =SUM(ABR:JUN!AS28) -> 0
A29: 0515013 REHABILITACIÓN EN PACIENTES AMPUTADOS | B29: Paciente amputado: Amputados de miembro superior | H29: Paciente amputado: Amputados de miembro superior con severidad leve | AC29: =SUM(ABR:JUN!AC29:AF29) -> 0 | AG29: =SUM(ABR:JUN!AG29:AH29) -> 0 | AI29: =SUM(ABR:JUN!AI29:AK29) -> 0 | AL29: =SUM(ABR:JUN!AL29) -> 0 | AM29: =SUM(ABR:JUN!AM29) -> 0 | AN29: =SUM(ABR:JUN!AN29) -> 0 | AO29: =SUM(ABR:JUN!AO29) -> 0 | AP29: =SUM(ABR:JUN!AP29) -> 0 | AQ29: =SUM(ABR:JUN!AQ29) -> 0 | AR29: =SUM(ABR:JUN!AR29) -> 0 | AS29: =SUM(ABR:JUN!AS29) -> 0
H30: Paciente amputado: Amputados de miembro superir con severidad moderado | AC30: =SUM(ABR:JUN!AC30:AF30) -> 0 | AG30: =SUM(ABR:JUN!AG30:AH30) -> 0 | AI30: =SUM(ABR:JUN!AI30:AK30) -> 0 | AL30: =SUM(ABR:JUN!AL30) -> 0 | AM30: =SUM(ABR:JUN!AM30) -> 0 | AN30: =SUM(ABR:JUN!AN30) -> 0 | AO30: =SUM(ABR:JUN!AO30) -> 0 | AP30: =SUM(ABR:JUN!AP30) -> 0 | AQ30: =SUM(ABR:JUN!AQ30) -> 0 | AR30: =SUM(ABR:JUN!AR30) -> 0 | AS30: =SUM(ABR:JUN!AS30) -> 0
H31: Paciente amputado: Amputados de miembro superior severo | AC31: =SUM(ABR:JUN!AC31:AF31) -> 0 | AG31: =SUM(ABR:JUN!AG31:AH31) -> 0 | AI31: =SUM(ABR:JUN!AI31:AK31) -> 0 | AL31: =SUM(ABR:JUN!AL31) -> 0 | AM31: =SUM(ABR:JUN!AM31) -> 0 | AN31: =SUM(ABR:JUN!AN31) -> 0 | AO31: =SUM(ABR:JUN!AO31) -> 0 | AP31: =SUM(ABR:JUN!AP31) -> 0 | AQ31: =SUM(ABR:JUN!AQ31) -> 0 | AR31: =SUM(ABR:JUN!AR31) -> 0 | AS31: =SUM(ABR:JUN!AS31) -> 0
H32: Paciente amputado: Amputados de miembro superior rehabilitado | AC32: =SUM(ABR:JUN!AC32:AF32) -> 0 | AG32: =SUM(ABR:JUN!AG32:AH32) -> 0 | AI32: =SUM(ABR:JUN!AI32:AK32) -> 0 | AL32: =SUM(ABR:JUN!AL32) -> 0 | AM32: =SUM(ABR:JUN!AM32) -> 0 | AN32: =SUM(ABR:JUN!AN32) -> 0 | AO32: =SUM(ABR:JUN!AO32) -> 0 | AP32: =SUM(ABR:JUN!AP32) -> 0 | AQ32: =SUM(ABR:JUN!AQ32) -> 0 | AR32: =SUM(ABR:JUN!AR32) -> 0 | AS32: =SUM(ABR:JUN!AS32) -> 0
H33: Paciente amputado: Amputados de miembro superior discapacitado | AC33: =SUM(ABR:JUN!AC33:AF33) -> 0 | AG33: =SUM(ABR:JUN!AG33:AH33) -> 0 | AI33: =SUM(ABR:JUN!AI33:AK33) -> 0 | AL33: =SUM(ABR:JUN!AL33) -> 0 | AM33: =SUM(ABR:JUN!AM33) -> 0 | AN33: =SUM(ABR:JUN!AN33) -> 0 | AO33: =SUM(ABR:JUN!AO33) -> 0 | AP33: =SUM(ABR:JUN!AP33) -> 0 | AQ33: =SUM(ABR:JUN!AQ33) -> 0 | AR33: =SUM(ABR:JUN!AR33) -> 0 | AS33: =SUM(ABR:JUN!AS33) -> 0
H34: Paciente amputado: Amputados de miembro superior con servicio de evaluación, calificación y certificación de la discapacidad | AC34: =SUM(ABR:JUN!AC34:AF34) -> 0 | AG34: =SUM(ABR:JUN!AG34:AH34) -> 0 | AI34: =SUM(ABR:JUN!AI34:AK34) -> 0 | AL34: =SUM(ABR:JUN!AL34) -> 0 | AM34: =SUM(ABR:JUN!AM34) -> 0 | AN34: =SUM(ABR:JUN!AN34) -> 0 | AO34: =SUM(ABR:JUN!AO34) -> 0 | AP34: =SUM(ABR:JUN!AP34) -> 0 | AQ34: =SUM(ABR:JUN!AQ34) -> 0 | AR34: =SUM(ABR:JUN!AR34) -> 0 | AS34: =SUM(ABR:JUN!AS34) -> 0
H35: Paciente amputado: Amputados de miembro superior con consulta ambulatoria para la evaluación y manejo de un usuario de salud nuevo nivel de atención I (Prescripción de la ayuda técnica o producto de apoyo) | AC35: =SUM(ABR:JUN!AC35:AF35) -> 0 | AG35: =SUM(ABR:JUN!AG35:AH35) -> 0 | AI35: =SUM(ABR:JUN!AI35:AK35) -> 0 | AL35: =SUM(ABR:JUN!AL35) -> 0 | AM35: =SUM(ABR:JUN!AM35) -> 0 | AN35: =SUM(ABR:JUN!AN35) -> 0 | AO35: =SUM(ABR:JUN!AO35) -> 0 | AP35: =SUM(ABR:JUN!AP35) -> 0 | AQ35: =SUM(ABR:JUN!AQ35) -> 0 | AR35: =SUM(ABR:JUN!AR35) -> 0 | AS35: =SUM(ABR:JUN!AS35) -> 0
H36: Paciente amputado: Amputados de miembro superior con consulta ambulatoria para la evaluación y manejo de un usuario de salud nuevo nivel de atención II (Prescripción de la ayuda técnica o producto de apoyo). | AC36: =SUM(ABR:JUN!AC36:AF36) -> 0 | AG36: =SUM(ABR:JUN!AG36:AH36) -> 0 | AI36: =SUM(ABR:JUN!AI36:AK36) -> 0 | AL36: =SUM(ABR:JUN!AL36) -> 0 | AM36: =SUM(ABR:JUN!AM36) -> 0 | AN36: =SUM(ABR:JUN!AN36) -> 0 | AO36: =SUM(ABR:JUN!AO36) -> 0 | AP36: =SUM(ABR:JUN!AP36) -> 0 | AQ36: =SUM(ABR:JUN!AQ36) -> 0 | AR36: =SUM(ABR:JUN!AR36) -> 0 | AS36: =SUM(ABR:JUN!AS36) -> 0
H37: Paciente amputado: Amputados de miembro superior con consulta ambulatoria para la evaluación y manejo de un usuario de salud nuevo nivel de atención III (Prescripción de la ayuda técnica o producto de apoyo). | AC37: =SUM(ABR:JUN!AC37:AF37) -> 0 | AG37: =SUM(ABR:JUN!AG37:AH37) -> 0 | AI37: =SUM(ABR:JUN!AI37:AK37) -> 0 | AL37: =SUM(ABR:JUN!AL37) -> 0 | AM37: =SUM(ABR:JUN!AM37) -> 0 | AN37: =SUM(ABR:JUN!AN37) -> 0 | AO37: =SUM(ABR:JUN!AO37) -> 0 | AP37: =SUM(ABR:JUN!AP37) -> 0 | AQ37: =SUM(ABR:JUN!AQ37) -> 0 | AR37: =SUM(ABR:JUN!AR37) -> 0 | AS37: =SUM(ABR:JUN!AS37) -> 0
H38: Paciente amputado: Amputados de miembro superior con revisión final para el uso de dispositivos ortóticos/protésicos usuario de salud establecido (Entrega de la ayuda técnica o producto de apoyo | AC38: =SUM(ABR:JUN!AC38:AF38) -> 0 | AG38: =SUM(ABR:JUN!AG38:AH38) -> 0 | AI38: =SUM(ABR:JUN!AI38:AK38) -> 0 | AL38: =SUM(ABR:JUN!AL38) -> 0 | AM38: =SUM(ABR:JUN!AM38) -> 0 | AN38: =SUM(ABR:JUN!AN38) -> 0 | AO38: =SUM(ABR:JUN!AO38) -> 0 | AP38: =SUM(ABR:JUN!AP38) -> 0 | AQ38: =SUM(ABR:JUN!AQ38) -> 0 | AR38: =SUM(ABR:JUN!AR38) -> 0 | AS38: =SUM(ABR:JUN!AS38) -> 0
B39: Paciente amputado: Amputados de miembro inferior | H39: Paciente amputado: Amputados de miembro inferior con severidad leve | AC39: =SUM(ABR:JUN!AC39:AF39) -> 0 | AG39: =SUM(ABR:JUN!AG39:AH39) -> 0 | AI39: =SUM(ABR:JUN!AI39:AK39) -> 0 | AL39: =SUM(ABR:JUN!AL39) -> 0 | AM39: =SUM(ABR:JUN!AM39) -> 0 | AN39: =SUM(ABR:JUN!AN39) -> 0 | AO39: =SUM(ABR:JUN!AO39) -> 0 | AP39: =SUM(ABR:JUN!AP39) -> 0 | AQ39: =SUM(ABR:JUN!AQ39) -> 0 | AR39: =SUM(ABR:JUN!AR39) -> 0 | AS39: =SUM(ABR:JUN!AS39) -> 0
H40: Paciente amputado: Amputados de miembro inferior con severidad moderada | AC40: =SUM(ABR:JUN!AC40:AF40) -> 0 | AG40: =SUM(ABR:JUN!AG40:AH40) -> 0 | AI40: =SUM(ABR:JUN!AI40:AK40) -> 0 | AL40: =SUM(ABR:JUN!AL40) -> 0 | AM40: =SUM(ABR:JUN!AM40) -> 0 | AN40: =SUM(ABR:JUN!AN40) -> 0 | AO40: =SUM(ABR:JUN!AO40) -> 0 | AP40: =SUM(ABR:JUN!AP40) -> 0 | AQ40: =SUM(ABR:JUN!AQ40) -> 0 | AR40: =SUM(ABR:JUN!AR40) -> 0 | AS40: =SUM(ABR:JUN!AS40) -> 0
H41: Paciente amputado: Amputados de miembro inferior severo | AC41: =SUM(ABR:JUN!AC41:AF41) -> 0 | AG41: =SUM(ABR:JUN!AG41:AH41) -> 0 | AI41: =SUM(ABR:JUN!AI41:AK41) -> 0 | AL41: =SUM(ABR:JUN!AL41) -> 0 | AM41: =SUM(ABR:JUN!AM41) -> 0 | AN41: =SUM(ABR:JUN!AN41) -> 0 | AO41: =SUM(ABR:JUN!AO41) -> 0 | AP41: =SUM(ABR:JUN!AP41) -> 0 | AQ41: =SUM(ABR:JUN!AQ41) -> 0 | AR41: =SUM(ABR:JUN!AR41) -> 0 | AS41: =SUM(ABR:JUN!AS41) -> 0
H42: Paciente amputado: Amputados de miembro inferior rehabilitado | AC42: =SUM(ABR:JUN!AC42:AF42) -> 0 | AG42: =SUM(ABR:JUN!AG42:AH42) -> 0 | AI42: =SUM(ABR:JUN!AI42:AK42) -> 0 | AL42: =SUM(ABR:JUN!AL42) -> 0 | AM42: =SUM(ABR:JUN!AM42) -> 0 | AN42: =SUM(ABR:JUN!AN42) -> 0 | AO42: =SUM(ABR:JUN!AO42) -> 0 | AP42: =SUM(ABR:JUN!AP42) -> 0 | AQ42: =SUM(ABR:JUN!AQ42) -> 0 | AR42: =SUM(ABR:JUN!AR42) -> 0 | AS42: =SUM(ABR:JUN!AS42) -> 0
H43: Paciente amputado: Amputados de miembro inferior con discapacidad | AC43: =SUM(ABR:JUN!AC43:AF43) -> 0 | AG43: =SUM(ABR:JUN!AG43:AH43) -> 0 | AI43: =SUM(ABR:JUN!AI43:AK43) -> 0 | AL43: =SUM(ABR:JUN!AL43) -> 0 | AM43: =SUM(ABR:JUN!AM43) -> 0 | AN43: =SUM(ABR:JUN!AN43) -> 0 | AO43: =SUM(ABR:JUN!AO43) -> 0 | AP43: =SUM(ABR:JUN!AP43) -> 0 | AQ43: =SUM(ABR:JUN!AQ43) -> 0 | AR43: =SUM(ABR:JUN!AR43) -> 0 | AS43: =SUM(ABR:JUN!AS43) -> 0
H44: Paciente amputado: Amputados de miembro inferior con servicio de evaluación, calificación y certificación de la discapacidad | AC44: =SUM(ABR:JUN!AC44:AF44) -> 0 | AG44: =SUM(ABR:JUN!AG44:AH44) -> 0 | AI44: =SUM(ABR:JUN!AI44:AK44) -> 0 | AL44: =SUM(ABR:JUN!AL44) -> 0 | AM44: =SUM(ABR:JUN!AM44) -> 0 | AN44: =SUM(ABR:JUN!AN44) -> 0 | AO44: =SUM(ABR:JUN!AO44) -> 0 | AP44: =SUM(ABR:JUN!AP44) -> 0 | AQ44: =SUM(ABR:JUN!AQ44) -> 0 | AR44: =SUM(ABR:JUN!AR44) -> 0 | AS44: =SUM(ABR:JUN!AS44) -> 0
H45: Paciente amputado: Amputados de miembro inferior con consulta ambulatoria para la evaluación y manejo de un usuario de salud nuevo nivel de atención I (Prescripción de la ayuda técnica o producto de apoyo) | AC45: =SUM(ABR:JUN!AC45:AF45) -> 0 | AG45: =SUM(ABR:JUN!AG45:AH45) -> 0 | AI45: =SUM(ABR:JUN!AI45:AK45) -> 0 | AL45: =SUM(ABR:JUN!AL45) -> 0 | AM45: =SUM(ABR:JUN!AM45) -> 0 | AN45: =SUM(ABR:JUN!AN45) -> 0 | AO45: =SUM(ABR:JUN!AO45) -> 0 | AP45: =SUM(ABR:JUN!AP45) -> 0 | AQ45: =SUM(ABR:JUN!AQ45) -> 0 | AR45: =SUM(ABR:JUN!AR45) -> 0 | AS45: =SUM(ABR:JUN!AS45) -> 0
H46: Paciente amputado: Amputados de miembro inferior con consulta ambulatoria para la evaluación y manejo de un usuario de salud nuevo nivel de atención II (Prescripción de la ayuda técnica o producto de apoyo). | AC46: =SUM(ABR:JUN!AC46:AF46) -> 0 | AG46: =SUM(ABR:JUN!AG46:AH46) -> 0 | AI46: =SUM(ABR:JUN!AI46:AK46) -> 0 | AL46: =SUM(ABR:JUN!AL46) -> 0 | AM46: =SUM(ABR:JUN!AM46) -> 0 | AN46: =SUM(ABR:JUN!AN46) -> 0 | AO46: =SUM(ABR:JUN!AO46) -> 0 | AP46: =SUM(ABR:JUN!AP46) -> 0 | AQ46: =SUM(ABR:JUN!AQ46) -> 0 | AR46: =SUM(ABR:JUN!AR46) -> 0 | AS46: =SUM(ABR:JUN!AS46) -> 0
H47: Paciente amputado: Amputados de miembro inferior con consulta ambulatoria para la evaluación y manejo de un usuario de salud nuevo nivel de atención III (Prescripción de la ayuda técnica o producto de apoyo). | AC47: =SUM(ABR:JUN!AC47:AF47) -> 0 | AG47: =SUM(ABR:JUN!AG47:AH47) -> 0 | AI47: =SUM(ABR:JUN!AI47:AK47) -> 0 | AL47: =SUM(ABR:JUN!AL47) -> 0 | AM47: =SUM(ABR:JUN!AM47) -> 0 | AN47: =SUM(ABR:JUN!AN47) -> 0 | AO47: =SUM(ABR:JUN!AO47) -> 0 | AP47: =SUM(ABR:JUN!AP47) -> 0 | AQ47: =SUM(ABR:JUN!AQ47) -> 0 | AR47: =SUM(ABR:JUN!AR47) -> 0 | AS47: =SUM(ABR:JUN!AS47) -> 0
H48: Paciente amputado: Amputados de miembro inferior con revisión final para el uso de dispositivos ortóticos/protésicos usuario de salud establecido (Entrega de la ayuda técnica o producto de apoyo). | AC48: =SUM(ABR:JUN!AC48:AF48) -> 0 | AG48: =SUM(ABR:JUN!AG48:AH48) -> 0 | AI48: =SUM(ABR:JUN!AI48:AK48) -> 0 | AL48: =SUM(ABR:JUN!AL48) -> 0 | AM48: =SUM(ABR:JUN!AM48) -> 0 | AN48: =SUM(ABR:JUN!AN48) -> 0 | AO48: =SUM(ABR:JUN!AO48) -> 0 | AP48: =SUM(ABR:JUN!AP48) -> 0 | AQ48: =SUM(ABR:JUN!AQ48) -> 0 | AR48: =SUM(ABR:JUN!AR48) -> 0 | AS48: =SUM(ABR:JUN!AS48) -> 0
A49: PATOLOGÍA NEUROLOGICA | B49: ----------------------- | H49: Enfermedad de Parkinson | AC49: =SUM(ABR:JUN!AC49:AF49) -> 0 | AG49: =SUM(ABR:JUN!AG49:AH49) -> 0 | AI49: =SUM(ABR:JUN!AI49:AK49) -> 0 | AL49: =SUM(ABR:JUN!AL49) -> 0 | AM49: =SUM(ABR:JUN!AM49) -> 0 | AN49: =SUM(ABR:JUN!AN49) -> 0 | AO49: =SUM(ABR:JUN!AO49) -> 0 | AP49: =SUM(ABR:JUN!AP49) -> 0 | AQ49: =SUM(ABR:JUN!AQ49) -> 0 | AR49: =SUM(ABR:JUN!AR49) -> 0 | AS49: =SUM(ABR:JUN!AS49) -> 0
H50: Enfermedad cerebro vascular | AC50: =SUM(ABR:JUN!AC50:AF50) -> 0 | AG50: =SUM(ABR:JUN!AG50:AH50) -> 0 | AI50: =SUM(ABR:JUN!AI50:AK50) -> 0 | AL50: =SUM(ABR:JUN!AL50) -> 0 | AM50: =SUM(ABR:JUN!AM50) -> 0 | AN50: =SUM(ABR:JUN!AN50) -> 0 | AO50: =SUM(ABR:JUN!AO50) -> 0 | AP50: =SUM(ABR:JUN!AP50) -> 0 | AQ50: =SUM(ABR:JUN!AQ50) -> 0 | AR50: =SUM(ABR:JUN!AR50) -> 0 | AS50: =SUM(ABR:JUN!AS50) -> 0
H51: Enfermedad muscular y unión mioneural | AC51: =SUM(ABR:JUN!AC51:AF51) -> 0 | AG51: =SUM(ABR:JUN!AG51:AH51) -> 0 | AI51: =SUM(ABR:JUN!AI51:AK51) -> 0 | AL51: =SUM(ABR:JUN!AL51) -> 0 | AM51: =SUM(ABR:JUN!AM51) -> 0 | AN51: =SUM(ABR:JUN!AN51) -> 0 | AO51: =SUM(ABR:JUN!AO51) -> 0 | AP51: =SUM(ABR:JUN!AP51) -> 0 | AQ51: =SUM(ABR:JUN!AQ51) -> 0 | AR51: =SUM(ABR:JUN!AR51) -> 0 | AS51: =SUM(ABR:JUN!AS51) -> 0
H52: Lesiones de nervio periférico | AC52: =SUM(ABR:JUN!AC52:AF52) -> 0 | AG52: =SUM(ABR:JUN!AG52:AH52) -> 0 | AI52: =SUM(ABR:JUN!AI52:AK52) -> 0 | AL52: =SUM(ABR:JUN!AL52) -> 0 | AM52: =SUM(ABR:JUN!AM52) -> 0 | AN52: =SUM(ABR:JUN!AN52) -> 0 | AO52: =SUM(ABR:JUN!AO52) -> 0 | AP52: =SUM(ABR:JUN!AP52) -> 0 | AQ52: =SUM(ABR:JUN!AQ52) -> 0 | AR52: =SUM(ABR:JUN!AR52) -> 0 | AS52: =SUM(ABR:JUN!AS52) -> 0
A53: 0515006 TRANSTORNOS DEL DESARROLLO DE LA FUNCION MOTRIZ | B53: ----------------------- | H53: Trastornos del desarrollo de la función motriz | AC53: =SUM(ABR:JUN!AC53:AF53) -> 0 | AG53: =SUM(ABR:JUN!AG53:AH53) -> 0 | AI53: =SUM(ABR:JUN!AI53:AK53) -> 0 | AL53: =SUM(ABR:JUN!AL53) -> 0 | AM53: =SUM(ABR:JUN!AM53) -> 0 | AN53: =SUM(ABR:JUN!AN53) -> 0 | AO53: =SUM(ABR:JUN!AO53) -> 0 | AP53: =SUM(ABR:JUN!AP53) -> 0 | AQ53: =SUM(ABR:JUN!AQ53) -> 0 | AR53: =SUM(ABR:JUN!AR53) -> 0 | AS53: =SUM(ABR:JUN!AS53) -> 0
A54: 0515007 ENFERMEDAD ARTICULAR DEGENERATIVA | B54: ----------------------- | H54: Enfermedad articular degenerativa | AC54: =SUM(ABR:JUN!AC54:AF54) -> 0 | AG54: =SUM(ABR:JUN!AG54:AH54) -> 0 | AI54: =SUM(ABR:JUN!AI54:AK54) -> 0 | AL54: =SUM(ABR:JUN!AL54) -> 0 | AM54: =SUM(ABR:JUN!AM54) -> 0 | AN54: =SUM(ABR:JUN!AN54) -> 0 | AO54: =SUM(ABR:JUN!AO54) -> 0 | AP54: =SUM(ABR:JUN!AP54) -> 0 | AQ54: =SUM(ABR:JUN!AQ54) -> 0 | AR54: =SUM(ABR:JUN!AR54) -> 0 | AS54: =SUM(ABR:JUN!AS54) -> 0
A55: 0515009 ENCEFALOPATIA INFANTIL | B55: ----------------------- | H55: Encefalopatía infantil | AC55: =SUM(ABR:JUN!AC55:AF55) -> 0 | AG55: =SUM(ABR:JUN!AG55:AH55) -> 0 | AI55: =SUM(ABR:JUN!AI55:AK55) -> 0 | AL55: =SUM(ABR:JUN!AL55) -> 0 | AM55: =SUM(ABR:JUN!AM55) -> 0 | AN55: =SUM(ABR:JUN!AN55) -> 0 | AO55: =SUM(ABR:JUN!AO55) -> 0 | AP55: =SUM(ABR:JUN!AP55) -> 0 | AQ55: =SUM(ABR:JUN!AQ55) -> 0 | AR55: =SUM(ABR:JUN!AR55) -> 0 | AS55: =SUM(ABR:JUN!AS55) -> 0
A56: 0515011 SÍNDROME DE DOWN | B56: ----------------------- | H56: Síndrome de Down | AC56: =SUM(ABR:JUN!AC56:AF56) -> 0 | AG56: =SUM(ABR:JUN!AG56:AH56) -> 0 | AI56: =SUM(ABR:JUN!AI56:AK56) -> 0 | AL56: =SUM(ABR:JUN!AL56) -> 0 | AM56: =SUM(ABR:JUN!AM56) -> 0 | AN56: =SUM(ABR:JUN!AN56) -> 0 | AO56: =SUM(ABR:JUN!AO56) -> 0 | AP56: =SUM(ABR:JUN!AP56) -> 0 | AQ56: =SUM(ABR:JUN!AQ56) -> 0 | AR56: =SUM(ABR:JUN!AR56) -> 0 | AS56: =SUM(ABR:JUN!AS56) -> 0
A57: PATOLOGIA DE LA COLUMNA VERTEBRAL Y OTROS TRANSTORNOS POSTURALES | B57: ----------------------- | H57: Cifosis y lordosis | AC57: =SUM(ABR:JUN!AC57:AF57) -> 0 | AG57: =SUM(ABR:JUN!AG57:AH57) -> 0 | AI57: =SUM(ABR:JUN!AI57:AK57) -> 0 | AL57: =SUM(ABR:JUN!AL57) -> 0 | AM57: =SUM(ABR:JUN!AM57) -> 0 | AN57: =SUM(ABR:JUN!AN57) -> 0 | AO57: =SUM(ABR:JUN!AO57) -> 0 | AP57: =SUM(ABR:JUN!AP57) -> 0 | AQ57: =SUM(ABR:JUN!AQ57) -> 0 | AR57: =SUM(ABR:JUN!AR57) -> 0 | AS57: =SUM(ABR:JUN!AS57) -> 0
H58: Espondilo artropatías | AC58: =SUM(ABR:JUN!AC58:AF58) -> 0 | AG58: =SUM(ABR:JUN!AG58:AH58) -> 0 | AI58: =SUM(ABR:JUN!AI58:AK58) -> 0 | AL58: =SUM(ABR:JUN!AL58) -> 0 | AM58: =SUM(ABR:JUN!AM58) -> 0 | AN58: =SUM(ABR:JUN!AN58) -> 0 | AO58: =SUM(ABR:JUN!AO58) -> 0 | AP58: =SUM(ABR:JUN!AP58) -> 0 | AQ58: =SUM(ABR:JUN!AQ58) -> 0 | AR58: =SUM(ABR:JUN!AR58) -> 0 | AS58: =SUM(ABR:JUN!AS58) -> 0
H59: Otros trastornos de los discos intervertebrales | AC59: =SUM(ABR:JUN!AC59:AF59) -> 0 | AG59: =SUM(ABR:JUN!AG59:AH59) -> 0 | AI59: =SUM(ABR:JUN!AI59:AK59) -> 0 | AL59: =SUM(ABR:JUN!AL59) -> 0 | AM59: =SUM(ABR:JUN!AM59) -> 0 | AN59: =SUM(ABR:JUN!AN59) -> 0 | AO59: =SUM(ABR:JUN!AO59) -> 0 | AP59: =SUM(ABR:JUN!AP59) -> 0 | AQ59: =SUM(ABR:JUN!AQ59) -> 0 | AR59: =SUM(ABR:JUN!AR59) -> 0 | AS59: =SUM(ABR:JUN!AS59) -> 0
H60: Cervicalgia, Dorsalgia, Lumbago | AC60: =SUM(ABR:JUN!AC60:AF60) -> 0 | AG60: =SUM(ABR:JUN!AG60:AH60) -> 0 | AI60: =SUM(ABR:JUN!AI60:AK60) -> 0 | AL60: =SUM(ABR:JUN!AL60) -> 0 | AM60: =SUM(ABR:JUN!AM60) -> 0 | AN60: =SUM(ABR:JUN!AN60) -> 0 | AO60: =SUM(ABR:JUN!AO60) -> 0 | AP60: =SUM(ABR:JUN!AP60) -> 0 | AQ60: =SUM(ABR:JUN!AQ60) -> 0 | AR60: =SUM(ABR:JUN!AR60) -> 0 | AS60: =SUM(ABR:JUN!AS60) -> 0
H61: Otras dorsopatías deformantes. | AC61: =SUM(ABR:JUN!AC61:AF61) -> 0 | AG61: =SUM(ABR:JUN!AG61:AH61) -> 0 | AI61: =SUM(ABR:JUN!AI61:AK61) -> 0 | AL61: =SUM(ABR:JUN!AL61) -> 0 | AM61: =SUM(ABR:JUN!AM61) -> 0 | AN61: =SUM(ABR:JUN!AN61) -> 0 | AO61: =SUM(ABR:JUN!AO61) -> 0 | AP61: =SUM(ABR:JUN!AP61) -> 0 | AQ61: =SUM(ABR:JUN!AQ61) -> 0 | AR61: =SUM(ABR:JUN!AR61) -> 0 | AS61: =SUM(ABR:JUN!AS61) -> 0
H62: Otros trastornos del sistema musculoesquelético y el tejido conectivo | AC62: =SUM(ABR:JUN!AC62:AF62) -> 0 | AG62: =SUM(ABR:JUN!AG62:AH62) -> 0 | AI62: =SUM(ABR:JUN!AI62:AK62) -> 0 | AL62: =SUM(ABR:JUN!AL62) -> 0 | AM62: =SUM(ABR:JUN!AM62) -> 0 | AN62: =SUM(ABR:JUN!AN62) -> 0 | AO62: =SUM(ABR:JUN!AO62) -> 0 | AP62: =SUM(ABR:JUN!AP62) -> 0 | AQ62: =SUM(ABR:JUN!AQ62) -> 0 | AR62: =SUM(ABR:JUN!AR62) -> 0 | AS62: =SUM(ABR:JUN!AS62) -> 0
H63: Otros trastornos articulares | AC63: =SUM(ABR:JUN!AC63:AF63) -> 0 | AG63: =SUM(ABR:JUN!AG63:AH63) -> 0 | AI63: =SUM(ABR:JUN!AI63:AK63) -> 0 | AL63: =SUM(ABR:JUN!AL63) -> 0 | AM63: =SUM(ABR:JUN!AM63) -> 0 | AN63: =SUM(ABR:JUN!AN63) -> 0 | AO63: =SUM(ABR:JUN!AO63) -> 0 | AP63: =SUM(ABR:JUN!AP63) -> 0 | AQ63: =SUM(ABR:JUN!AQ63) -> 0 | AR63: =SUM(ABR:JUN!AR63) -> 0 | AS63: =SUM(ABR:JUN!AS63) -> 0
H64: Defectos en la longitud de extremidades | AC64: =SUM(ABR:JUN!AC64:AF64) -> 0 | AG64: =SUM(ABR:JUN!AG64:AH64) -> 0 | AI64: =SUM(ABR:JUN!AI64:AK64) -> 0 | AL64: =SUM(ABR:JUN!AL64) -> 0 | AM64: =SUM(ABR:JUN!AM64) -> 0 | AN64: =SUM(ABR:JUN!AN64) -> 0 | AO64: =SUM(ABR:JUN!AO64) -> 0 | AP64: =SUM(ABR:JUN!AP64) -> 0 | AQ64: =SUM(ABR:JUN!AQ64) -> 0 | AR64: =SUM(ABR:JUN!AR64) -> 0 | AS64: =SUM(ABR:JUN!AS64) -> 0
A65: REHABILITACIÓN EN ENFERMEDAD CARDIOVASCULAR | B65: ----------------------- | H65: Rehabilitación en enfermedad cardiovascular | AC65: =SUM(ABR:JUN!AC65:AF65) -> 0 | AG65: =SUM(ABR:JUN!AG65:AH65) -> 0 | AI65: =SUM(ABR:JUN!AI65:AK65) -> 0 | AL65: =SUM(ABR:JUN!AL65) -> 0 | AM65: =SUM(ABR:JUN!AM65) -> 0 | AN65: =SUM(ABR:JUN!AN65) -> 0 | AO65: =SUM(ABR:JUN!AO65) -> 0 | AP65: =SUM(ABR:JUN!AP65) -> 0 | AQ65: =SUM(ABR:JUN!AQ65) -> 0 | AR65: =SUM(ABR:JUN!AR65) -> 0 | AS65: =SUM(ABR:JUN!AS65) -> 0
A66: REHABILITACIÓN EN ENFERMEDAD RESPIRATORIA | B66: ----------------------- | H66: Rehabilitación en enfermedad respiratoria | AC66: =SUM(ABR:JUN!AC66:AF66) -> 0 | AG66: =SUM(ABR:JUN!AG66:AH66) -> 0 | AI66: =SUM(ABR:JUN!AI66:AK66) -> 0 | AL66: =SUM(ABR:JUN!AL66) -> 0 | AM66: =SUM(ABR:JUN!AM66) -> 0 | AN66: =SUM(ABR:JUN!AN66) -> 0 | AO66: =SUM(ABR:JUN!AO66) -> 0 | AP66: =SUM(ABR:JUN!AP66) -> 0 | AQ66: =SUM(ABR:JUN!AQ66) -> 0 | AR66: =SUM(ABR:JUN!AR66) -> 0 | AS66: =SUM(ABR:JUN!AS66) -> 0
A67: REHABILITACIÓN EN ALTERACIONES DEL PISO PÉLVICO | B67: ----------------------- | H67: Vejiga neurogénica | AC67: =SUM(ABR:JUN!AC67:AF67) -> 0 | AG67: =SUM(ABR:JUN!AG67:AH67) -> 0 | AI67: =SUM(ABR:JUN!AI67:AK67) -> 0 | AL67: =SUM(ABR:JUN!AL67) -> 0 | AM67: =SUM(ABR:JUN!AM67) -> 0 | AN67: =SUM(ABR:JUN!AN67) -> 0 | AO67: =SUM(ABR:JUN!AO67) -> 0 | AP67: =SUM(ABR:JUN!AP67) -> 0 | AQ67: =SUM(ABR:JUN!AQ67) -> 0 | AR67: =SUM(ABR:JUN!AR67) -> 0 | AS67: =SUM(ABR:JUN!AS67) -> 0
H68: Incontinencia | AC68: =SUM(ABR:JUN!AC68:AF68) -> 0 | AG68: =SUM(ABR:JUN!AG68:AH68) -> 0 | AI68: =SUM(ABR:JUN!AI68:AK68) -> 0 | AL68: =SUM(ABR:JUN!AL68) -> 0 | AM68: =SUM(ABR:JUN!AM68) -> 0 | AN68: =SUM(ABR:JUN!AN68) -> 0 | AO68: =SUM(ABR:JUN!AO68) -> 0 | AP68: =SUM(ABR:JUN!AP68) -> 0 | AQ68: =SUM(ABR:JUN!AQ68) -> 0 | AR68: =SUM(ABR:JUN!AR68) -> 0 | AS68: =SUM(ABR:JUN!AS68) -> 0
H69: Prolapso | AC69: =SUM(ABR:JUN!AC69:AF69) -> 0 | AG69: =SUM(ABR:JUN!AG69:AH69) -> 0 | AI69: =SUM(ABR:JUN!AI69:AK69) -> 0 | AL69: =SUM(ABR:JUN!AL69) -> 0 | AM69: =SUM(ABR:JUN!AM69) -> 0 | AN69: =SUM(ABR:JUN!AN69) -> 0 | AO69: =SUM(ABR:JUN!AO69) -> 0 | AP69: =SUM(ABR:JUN!AP69) -> 0 | AQ69: =SUM(ABR:JUN!AQ69) -> 0 | AR69: =SUM(ABR:JUN!AR69) -> 0 | AS69: =SUM(ABR:JUN!AS69) -> 0
A70: ATENCIÓN DE REHABILITACIÓN EN PATOLOGÍA TRAUMATOLÓGICA Y REUMATOLÓGICA | B70: ----------------------- | H70: Traumatismo | AC70: =SUM(ABR:JUN!AC70:AF70) -> 0 | AG70: =SUM(ABR:JUN!AG70:AH70) -> 0 | AI70: =SUM(ABR:JUN!AI70:AK70) -> 0 | AL70: =SUM(ABR:JUN!AL70) -> 0 | AM70: =SUM(ABR:JUN!AM70) -> 0 | AN70: =SUM(ABR:JUN!AN70) -> 0 | AO70: =SUM(ABR:JUN!AO70) -> 0 | AP70: =SUM(ABR:JUN!AP70) -> 0 | AQ70: =SUM(ABR:JUN!AQ70) -> 0 | AR70: =SUM(ABR:JUN!AR70) -> 0 | AS70: =SUM(ABR:JUN!AS70) -> 0
H71: Enfermedades del tejido conectivo | AC71: =SUM(ABR:JUN!AC71:AF71) -> 0 | AG71: =SUM(ABR:JUN!AG71:AH71) -> 0 | AI71: =SUM(ABR:JUN!AI71:AK71) -> 0 | AL71: =SUM(ABR:JUN!AL71) -> 0 | AM71: =SUM(ABR:JUN!AM71) -> 0 | AN71: =SUM(ABR:JUN!AN71) -> 0 | AO71: =SUM(ABR:JUN!AO71) -> 0 | AP71: =SUM(ABR:JUN!AP71) -> 0 | AQ71: =SUM(ABR:JUN!AQ71) -> 0 | AR71: =SUM(ABR:JUN!AR71) -> 0 | AS71: =SUM(ABR:JUN!AS71) -> 0
H72: Patología articular excluida columna | AC72: =SUM(ABR:JUN!AC72:AF72) -> 0 | AG72: =SUM(ABR:JUN!AG72:AH72) -> 0 | AI72: =SUM(ABR:JUN!AI72:AK72) -> 0 | AL72: =SUM(ABR:JUN!AL72) -> 0 | AM72: =SUM(ABR:JUN!AM72) -> 0 | AN72: =SUM(ABR:JUN!AN72) -> 0 | AO72: =SUM(ABR:JUN!AO72) -> 0 | AP72: =SUM(ABR:JUN!AP72) -> 0 | AQ72: =SUM(ABR:JUN!AQ72) -> 0 | AR72: =SUM(ABR:JUN!AR72) -> 0 | AS72: =SUM(ABR:JUN!AS72) -> 0
H73: Lesiones Infecciosas | AC73: =SUM(ABR:JUN!AC73:AF73) -> 0 | AG73: =SUM(ABR:JUN!AG73:AH73) -> 0 | AI73: =SUM(ABR:JUN!AI73:AK73) -> 0 | AL73: =SUM(ABR:JUN!AL73) -> 0 | AM73: =SUM(ABR:JUN!AM73) -> 0 | AN73: =SUM(ABR:JUN!AN73) -> 0 | AO73: =SUM(ABR:JUN!AO73) -> 0 | AP73: =SUM(ABR:JUN!AP73) -> 0 | AQ73: =SUM(ABR:JUN!AQ73) -> 0 | AR73: =SUM(ABR:JUN!AR73) -> 0 | AS73: =SUM(ABR:JUN!AS73) -> 0
H74: Lesión biomecánica | AC74: =SUM(ABR:JUN!AC74:AF74) -> 0 | AG74: =SUM(ABR:JUN!AG74:AH74) -> 0 | AI74: =SUM(ABR:JUN!AI74:AK74) -> 0 | AL74: =SUM(ABR:JUN!AL74) -> 0 | AM74: =SUM(ABR:JUN!AM74) -> 0 | AN74: =SUM(ABR:JUN!AN74) -> 0 | AO74: =SUM(ABR:JUN!AO74) -> 0 | AP74: =SUM(ABR:JUN!AP74) -> 0 | AQ74: =SUM(ABR:JUN!AQ74) -> 0 | AR74: =SUM(ABR:JUN!AR74) -> 0 | AS74: =SUM(ABR:JUN!AS74) -> 0
A75: REHABILITACIÓN ONCOLÓGICA | B75: ----------------------- | H75: Linfedema + DX Neoplasia | AC75: =SUM(ABR:JUN!AC75:AF75) -> 0 | AG75: =SUM(ABR:JUN!AG75:AH75) -> 0 | AI75: =SUM(ABR:JUN!AI75:AK75) -> 0 | AL75: =SUM(ABR:JUN!AL75) -> 0 | AM75: =SUM(ABR:JUN!AM75) -> 0 | AN75: =SUM(ABR:JUN!AN75) -> 0 | AO75: =SUM(ABR:JUN!AO75) -> 0 | AP75: =SUM(ABR:JUN!AP75) -> 0 | AQ75: =SUM(ABR:JUN!AQ75) -> 0 | AR75: =SUM(ABR:JUN!AR75) -> 0 | AS75: =SUM(ABR:JUN!AS75) -> 0
H76: Sarcopenia + Dx Neoplasia | AC76: =SUM(ABR:JUN!AC76:AF76) -> 0 | AG76: =SUM(ABR:JUN!AG76:AH76) -> 0 | AI76: =SUM(ABR:JUN!AI76:AK76) -> 0 | AL76: =SUM(ABR:JUN!AL76) -> 0 | AM76: =SUM(ABR:JUN!AM76) -> 0 | AN76: =SUM(ABR:JUN!AN76) -> 0 | AO76: =SUM(ABR:JUN!AO76) -> 0 | AP76: =SUM(ABR:JUN!AP76) -> 0 | AQ76: =SUM(ABR:JUN!AQ76) -> 0 | AR76: =SUM(ABR:JUN!AR76) -> 0 | AS76: =SUM(ABR:JUN!AS76) -> 0
A77: REHABILITACIÓN EN DOLOR | B77: ----------------------- | H77: Rehabilitación en dolor | AC77: =SUM(ABR:JUN!AC77:AF77) -> 0 | AG77: =SUM(ABR:JUN!AG77:AH77) -> 0 | AI77: =SUM(ABR:JUN!AI77:AK77) -> 0 | AL77: =SUM(ABR:JUN!AL77) -> 0 | AM77: =SUM(ABR:JUN!AM77) -> 0 | AN77: =SUM(ABR:JUN!AN77) -> 0 | AO77: =SUM(ABR:JUN!AO77) -> 0 | AP77: =SUM(ABR:JUN!AP77) -> 0 | AQ77: =SUM(ABR:JUN!AQ77) -> 0 | AR77: =SUM(ABR:JUN!AR77) -> 0 | AS77: =SUM(ABR:JUN!AS77) -> 0
A78: REHABILITACIÓN EN PACIENTES QUEMADOS | B78: ----------------------- | H78: Rehabilitación en pacientes quemados | AC78: =SUM(ABR:JUN!AC78:AF78) -> 0 | AG78: =SUM(ABR:JUN!AG78:AH78) -> 0 | AI78: =SUM(ABR:JUN!AI78:AK78) -> 0 | AL78: =SUM(ABR:JUN!AL78) -> 0 | AM78: =SUM(ABR:JUN!AM78) -> 0 | AN78: =SUM(ABR:JUN!AN78) -> 0 | AO78: =SUM(ABR:JUN!AO78) -> 0 | AP78: =SUM(ABR:JUN!AP78) -> 0 | AQ78: =SUM(ABR:JUN!AQ78) -> 0 | AR78: =SUM(ABR:JUN!AR78) -> 0 | AS78: =SUM(ABR:JUN!AS78) -> 0
A80: Atención de Rehabilitación en Personas con Discapacidad de Tipo Sensorial (5005151)
A82: ATENCIONES | H82: Total | J82: 00a-11a | O82: 12a-17a | V82: 18a-29a | Y82: 30a-59a | AD82: 60a+
J83: M | M83: F | O83: M | R83: F | V83: M | W83: F | Y83: M | AA83: F | AD83: M | AH83: F
A84: HIPOACUSIA Y SORDERA | B84: Hipoacusia y/o sordera | H84: =SUM(ABR:JUN!H84:I84) -> 0 | J84: =SUM(ABR:JUN!J84:L84) -> 0 | M84: =SUM(ABR:JUN!M84:N84) -> 0 | O84: =SUM('I TRIM'!O84:Q84) -> 0 | R84: =SUM(ABR:JUN!R84:U84) -> 0 | V84: =SUM(ABR:JUN!V84) -> 0 | W84: =SUM(ABR:JUN!W84:X84) -> 0 | Y84: =SUM(ABR:JUN!Y84:Z84) -> 0 | AA84: =SUM(ABR:JUN!AA84:AC84) -> 0 | AD84: =SUM(ABR:JUN!AD84:AG84) -> 0 | AH84: =SUM(ABR:JUN!AH84:AI84) -> 0
A85: BAJA VISIÓN Y CEGUERA | B85: Baja visión y/o ceguera | H85: =SUM(ABR:JUN!H85:I85) -> 0 | J85: =SUM(ABR:JUN!J85:L85) -> 0 | M85: =SUM(ABR:JUN!M85:N85) -> 0 | O85: =SUM('I TRIM'!O85:Q85) -> 0 | R85: =SUM(ABR:JUN!R85:U85) -> 0 | V85: =SUM(ABR:JUN!V85) -> 0 | W85: =SUM(ABR:JUN!W85:X85) -> 0 | Y85: =SUM(ABR:JUN!Y85:Z85) -> 0 | AA85: =SUM(ABR:JUN!AA85:AC85) -> 0 | AD85: =SUM(ABR:JUN!AD85:AG85) -> 0 | AH85: =SUM(ABR:JUN!AH85:AI85) -> 0
A86: SORDOMUDEZ | B86: Sordomudez | H86: =SUM(ABR:JUN!H86:I86) -> 0 | J86: =SUM(ABR:JUN!J86:L86) -> 0 | M86: =SUM(ABR:JUN!M86:N86) -> 0 | O86: =SUM('I TRIM'!O86:Q86) -> 0 | R86: =SUM(ABR:JUN!R86:U86) -> 0 | V86: =SUM(ABR:JUN!V86) -> 0 | W86: =SUM(ABR:JUN!W86:X86) -> 0 | Y86: =SUM(ABR:JUN!Y86:Z86) -> 0 | AA86: =SUM(ABR:JUN!AA86:AC86) -> 0 | AD86: =SUM(ABR:JUN!AD86:AG86) -> 0 | AH86: =SUM(ABR:JUN!AH86:AI86) -> 0
A87: TRASTORNOS ESPECÍFICOS DEL DESARROLLO DEL HABLA Y LENGUAJE | B87: Transtornos específicos del desarrollo del habla y lenguaje | H87: =SUM(ABR:JUN!H87:I87) -> 0 | J87: =SUM(ABR:JUN!J87:L87) -> 0 | M87: =SUM(ABR:JUN!M87:N87) -> 0 | O87: =SUM('I TRIM'!O87:Q87) -> 0 | R87: =SUM(ABR:JUN!R87:U87) -> 0 | V87: =SUM(ABR:JUN!V87) -> 0 | W87: =SUM(ABR:JUN!W87:X87) -> 0 | Y87: =SUM(ABR:JUN!Y87:Z87) -> 0 | AA87: =SUM(ABR:JUN!AA87:AC87) -> 0 | AD87: =SUM(ABR:JUN!AD87:AG87) -> 0 | AH87: =SUM(ABR:JUN!AH87:AI87) -> 0
B88: Otros trastornos de la deglución | H88: =SUM(ABR:JUN!H88:I88) -> 0 | J88: =SUM(ABR:JUN!J88:L88) -> 0 | M88: =SUM(ABR:JUN!M88:N88) -> 0 | O88: =SUM('I TRIM'!O88:Q88) -> 0 | R88: =SUM(ABR:JUN!R88:U88) -> 0 | V88: =SUM(ABR:JUN!V88) -> 0 | W88: =SUM(ABR:JUN!W88:X88) -> 0 | Y88: =SUM(ABR:JUN!Y88:Z88) -> 0 | AA88: =SUM(ABR:JUN!AA88:AC88) -> 0 | AD88: =SUM(ABR:JUN!AD88:AG88) -> 0 | AH88: =SUM(ABR:JUN!AH88:AI88) -> 0
A89: DISARTRIA Y DISFAGIA | B89: Disartria | H89: =SUM(ABR:JUN!H89:I89) -> 0 | J89: =SUM(ABR:JUN!J89:L89) -> 0 | M89: =SUM(ABR:JUN!M89:N89) -> 0 | O89: =SUM('I TRIM'!O89:Q89) -> 0 | R89: =SUM(ABR:JUN!R89:U89) -> 0 | V89: =SUM(ABR:JUN!V89) -> 0 | W89: =SUM(ABR:JUN!W89:X89) -> 0 | Y89: =SUM(ABR:JUN!Y89:Z89) -> 0 | AA89: =SUM(ABR:JUN!AA89:AC89) -> 0 | AD89: =SUM(ABR:JUN!AD89:AG89) -> 0 | AH89: =SUM(ABR:JUN!AH89:AI89) -> 0
B90: Disfagia | H90: =SUM(ABR:JUN!H90:I90) -> 0 | J90: =SUM(ABR:JUN!J90:L90) -> 0 | M90: =SUM(ABR:JUN!M90:N90) -> 0 | O90: =SUM('I TRIM'!O90:Q90) -> 0 | R90: =SUM(ABR:JUN!R90:U90) -> 0 | V90: =SUM(ABR:JUN!V90) -> 0 | W90: =SUM(ABR:JUN!W90:X90) -> 0 | Y90: =SUM(ABR:JUN!Y90:Z90) -> 0 | AA90: =SUM(ABR:JUN!AA90:AC90) -> 0 | AD90: =SUM(ABR:JUN!AD90:AG90) -> 0 | AH90: =SUM(ABR:JUN!AH90:AI90) -> 0
A92: Atención de Rehabilitación en Personas con Discapacidad de Tipo Mental (5005151)
A94: ATENCIONES | C94: Total | D94: 00a-11a | I94: 12a-17a | N94: 18a-29a | U94: 30a-59a | Z94: 60a+
D95: M | G95: F | I95: M | L95: F | N95: M | Q95: F | U95: M | X95: F | Z95: M | AB95: F
A96: Trastornos de aprendizaje | C96: =SUM(ABR:JUN!C96) -> 0 | D96: =SUM(ABR:JUN!D96:F96) -> 0 | G96: =SUM(ABR:JUN!G96:H96) -> 0 | I96: =SUM(ABR:JUN!I96:K96) -> 0 | L96: =SUM(ABR:JUN!L96:M96) -> 0 | N96: =SUM(ABR:JUN!N96:P96) -> 0 | Q96: =SUM(ABR:JUN!Q96:T96) -> 0 | U96: =SUM(ABR:JUN!U96:W96) -> 0 | X96: =SUM(ABR:JUN!X96:Y96) -> 0 | Z96: =SUM(ABR:JUN!Z96:AA96) -> 0 | AB96: =SUM(ABR:JUN!AB96:AD96) -> 0
A97: Retraso mental: leve, moderado, severo | C97: =SUM(ABR:JUN!C97) -> 0 | D97: =SUM(ABR:JUN!D97:F97) -> 0 | G97: =SUM(ABR:JUN!G97:H97) -> 0 | I97: =SUM(ABR:JUN!I97:K97) -> 0 | L97: =SUM(ABR:JUN!L97:M97) -> 0 | N97: =SUM(ABR:JUN!N97:P97) -> 0 | Q97: =SUM(ABR:JUN!Q97:T97) -> 0 | U97: =SUM(ABR:JUN!U97:W97) -> 0 | X97: =SUM(ABR:JUN!X97:Y97) -> 0 | Z97: =SUM(ABR:JUN!Z97:AA97) -> 0 | AB97: =SUM(ABR:JUN!AB97:AD97) -> 0
A98: Trastornos del espectro autista | C98: =SUM(ABR:JUN!C98) -> 0 | D98: =SUM(ABR:JUN!D98:F98) -> 0 | G98: =SUM(ABR:JUN!G98:H98) -> 0 | I98: =SUM(ABR:JUN!I98:K98) -> 0 | L98: =SUM(ABR:JUN!L98:M98) -> 0 | N98: =SUM(ABR:JUN!N98:P98) -> 0 | Q98: =SUM(ABR:JUN!Q98:T98) -> 0 | U98: =SUM(ABR:JUN!U98:W98) -> 0 | X98: =SUM(ABR:JUN!X98:Y98) -> 0 | Z98: =SUM(ABR:JUN!Z98:AA98) -> 0 | AB98: =SUM(ABR:JUN!AB98:AD98) -> 0
A99: Otros trastornos de salud mental | C99: =SUM(ABR:JUN!C99) -> 0 | D99: =SUM(ABR:JUN!D99:F99) -> 0 | G99: =SUM(ABR:JUN!G99:H99) -> 0 | I99: =SUM(ABR:JUN!I99:K99) -> 0 | L99: =SUM(ABR:JUN!L99:M99) -> 0 | N99: =SUM(ABR:JUN!N99:P99) -> 0 | Q99: =SUM(ABR:JUN!Q99:T99) -> 0 | U99: =SUM(ABR:JUN!U99:W99) -> 0 | X99: =SUM(ABR:JUN!X99:Y99) -> 0 | Z99: =SUM(ABR:JUN!Z99:AA99) -> 0 | AB99: =SUM(ABR:JUN!AB99:AD99) -> 0
A101: PERSONAS CON DISCAPACIDAD CERTIFICADAS EN ESTABLECIMIENTOS DE SALUD (3000689)
A103: ATENCIONES | C103: Total | D103: 00a-11a | I103: 12a-17a | N103: 18a-29a | U103: 30a-59a | Z103: 60a+
D104: M | G104: F | I104: M | L104: F | N104: M | Q104: F | U104: M | X104: F | Z104: M | AB104: F
A105: Certificación de Discapacidad | C105: =SUM(ABR:JUN!C105) -> 0 | D105: =SUM(ABR:JUN!D105:F105) -> 0 | G105: =SUM(ABR:JUN!G105:H105) -> 0 | I105: =SUM(ABR:JUN!I105:K105) -> 0 | L105: =SUM(ABR:JUN!L105:M105) -> 0 | N105: =SUM(ABR:JUN!N105:P105) -> 0 | Q105: =SUM(ABR:JUN!Q105:T105) -> 0 | U105: =SUM(ABR:JUN!U105:W105) -> 0 | X105: =SUM(ABR:JUN!X105:Y105) -> 0 | Z105: =SUM(ABR:JUN!Z105:AA105) -> 0 | AB105: =SUM(ABR:JUN!AB105:AD105) -> 0
A106: Certificación de Incapacidad | C106: =SUM(ABR:JUN!C106) -> 0 | D106: =SUM(ABR:JUN!D106:F106) -> 0 | G106: =SUM(ABR:JUN!G106:H106) -> 0 | I106: =SUM(ABR:JUN!I106:K106) -> 0 | L106: =SUM(ABR:JUN!L106:M106) -> 0 | N106: =SUM(ABR:JUN!N106:P106) -> 0 | Q106: =SUM(ABR:JUN!Q106:T106) -> 0 | U106: =SUM(ABR:JUN!U106:W106) -> 0 | X106: =SUM(ABR:JUN!X106:Y106) -> 0 | Z106: =SUM(ABR:JUN!Z106:AA106) -> 0 | AB106: =SUM(ABR:JUN!AB106:AD106) -> 0
A108: PERSONAS CON DISCAPACIDAD RECIBEN SERVICIOS DE REHABILITACIÓN BASADA EN LA COMUNIDAD (3000690)
A110: ATENCIONES | C110: Total | D110: 00a-11a | I110: 12a-17a | N110: 18a-29a | U110: 30a-59a | Z110: 60a+
D111: M | G111: F | I111: M | L111: F | N111: M | Q111: F | U111: M | X111: F | Z111: M | AB111: F
A112: 1° Visita | C112: =SUM(ABR:JUN!C112) -> 0 | D112: =SUM(ABR:JUN!D112:F112) -> 0 | G112: =SUM(ABR:JUN!G112:H112) -> 0 | I112: =SUM(ABR:JUN!I112:K112) -> 0 | L112: =SUM(ABR:JUN!L112:M112) -> 0 | N112: =SUM(ABR:JUN!N112:P112) -> 0 | Q112: =SUM(ABR:JUN!Q112:T112) -> 0 | U112: =SUM(ABR:JUN!U112:W112) -> 0 | X112: =SUM(ABR:JUN!X112:Y112) -> 0 | Z112: =SUM(ABR:JUN!Z112:AA112) -> 0 | AB112: =SUM(ABR:JUN!AB112:AD112) -> 0
A113: 2° Visita | C113: =SUM(ABR:JUN!C113) -> 0 | D113: =SUM(ABR:JUN!D113:F113) -> 0 | G113: =SUM(ABR:JUN!G113:H113) -> 0 | I113: =SUM(ABR:JUN!I113:K113) -> 0 | L113: =SUM(ABR:JUN!L113:M113) -> 0 | N113: =SUM(ABR:JUN!N113:P113) -> 0 | Q113: =SUM(ABR:JUN!Q113:T113) -> 0 | U113: =SUM(ABR:JUN!U113:W113) -> 0 | X113: =SUM(ABR:JUN!X113:Y113) -> 0 | Z113: =SUM(ABR:JUN!Z113:AA113) -> 0 | AB113: =SUM(ABR:JUN!AB113:AD113) -> 0
A114: 3° Visita | C114: =SUM(ABR:JUN!C114) -> 0 | D114: =SUM(ABR:JUN!D114:F114) -> 0 | G114: =SUM(ABR:JUN!G114:H114) -> 0 | I114: =SUM(ABR:JUN!I114:K114) -> 0 | L114: =SUM(ABR:JUN!L114:M114) -> 0 | N114: =SUM(ABR:JUN!N114:P114) -> 0 | Q114: =SUM(ABR:JUN!Q114:T114) -> 0 | U114: =SUM(ABR:JUN!U114:W114) -> 0 | X114: =SUM(ABR:JUN!X114:Y114) -> 0 | Z114: =SUM(ABR:JUN!Z114:AA114) -> 0 | AB114: =SUM(ABR:JUN!AB114:AD114) -> 0
A116: Capacitación a agentes comunitarios en rehabilitación basada en la comunidad (5005155)
E118: 1° Taller / Sesión | K118: 2° Taller / Sesión
...

Sheet JUL
A3: REPORTE DE ACTIVIDADES DEL COMPONENTE DE DISCAPACIDAD
A5: Periodo: Julio - 2025
A6: Diresa/Red/M.Red/EE.SS: AREQUIPA/AREQUIPA CAYLLOMA/TIABAYA/TODOS LOS EE.SS
A8: PERSONAS CON DISCAPACIDAD RECIBEN ATENCION DE REHABILITACION EN ESTABLECIMIENTOS DE SALUD (3000688)
A10: Capacitación en medicina de rehabilitación integral (5004449)
B12: N° | C12: Capacitados
A13: Capacitación personal médido rehabilitador
A15: Atención de Rehabilitación en Personas con Discapacidad de Tipo Física (5005150)
A17: GRUPO | B17: ATENCIONES | AC17: Total | AG17: 00a-11a | AL17: 12a-17a | AN17: 18a-29a | AP17: 30a-59a | AR17: 60a+
AG18: M | AI18: F | AL18: M | AM18: F | AN18: M | AO18: F | AP18: M | AQ18: F | AR18: M | AS18: F
A19: 0515001 LESIONES MEDULARES | B19: Lesiones medulares | H19: Lesiones medulares con severidad leve
H20: Lesiones medulares con severidad moderada
H21: Lesiones medulares severas
H22: Lesiones medulares en personas rehabilitadas
H23: Lesiones medulares en personas con discapacidad
H24: Lesiones medulares con servicio de evaluación, calificación y certificación de la discapacidad
H25: Lesiones medulares con consulta ambulatoria para la evaluación y manejo de un usuario de salud nuevo nivel de atención I (Prescripción de la ayuda técnica o producto de apoyo)
H26: Lesiones medulares con consulta ambulatoria para la evaluación y manejo de un usuario de salud nuevo nivel de atención III (Prescripción de la ayuda técnica o producto de apoyo).
H27: Lesiones medulares con consulta ambulatoria para la evaluación y manejo de un usuario de salud nuevo nivel de atención II (Prescripción de la ayuda técnica o producto de apoyo).
H28: Lesiones medulares con revisión final para el uso de dispositivos ortóticos/protésicos usuario de salud establecido (Entrega de la ayuda técnica o producto de apoyo).
A29: 0515013 REHABILITACIÓN EN PACIENTES AMPUTADOS | B29: Paciente amputado: Amputados de miembro superior | H29: Paciente amputado: Amputados de miembro superior con severidad leve
H30: Paciente amputado: Amputados de miembro superir con severidad moderado
H31: Paciente amputado: Amputados de miembro superior severo
H32: Paciente amputado: Amputados de miembro superior rehabilitado
H33: Paciente amputado: Amputados de miembro superior discapacitado
H34: Paciente amputado: Amputados de miembro superior con servicio de evaluación, calificación y certificación de la discapacidad
H35: Paciente amputado: Amputados de miembro superior con consulta ambulatoria para la evaluación y manejo de un usuario de salud nuevo nivel de atención I (Prescripción de la ayuda técnica o producto de apoyo)
H36: Paciente amputado: Amputados de miembro superior con consulta ambulatoria para la evaluación y manejo de un usuario de salud nuevo nivel de atención II (Prescripción de la ayuda técnica o producto de apoyo).
H37: Paciente amputado: Amputados de miembro superior con consulta ambulatoria para la evaluación y manejo de un usuario de salud nuevo nivel de atención III (Prescripción de la ayuda técnica o producto de apoyo).
H38: Paciente amputado: Amputados de miembro superior con revisión final para el uso de dispositivos ortóticos/protésicos usuario de salud establecido (Entrega de la ayuda técnica o producto de apoyo
B39: Paciente amputado: Amputados de miembro inferior | H39: Paciente amputado: Amputados de miembro inferior con severidad leve
H40: Paciente amputado: Amputados de miembro inferior con severidad moderada
H41: Paciente amputado: Amputados de miembro inferior severo
H42: Paciente amputado: Amputados de miembro inferior rehabilitado
H43: Paciente amputado: Amputados de miembro inferior con discapacidad
H44: Paciente amputado: Amputados de miembro inferior con servicio de evaluación, calificación y certificación de la discapacidad
H45: Paciente amputado: Amputados de miembro inferior con consulta ambulatoria para la evaluación y manejo de un usuario de salud nuevo nivel de atención I (Prescripción de la ayuda técnica o producto de apoyo)
H46: Paciente amputado: Amputados de miembro inferior con consulta ambulatoria para la evaluación y manejo de un usuario de salud nuevo nivel de atención II (Prescripción de la ayuda técnica o producto de apoyo).
H47: Paciente amputado: Amputados de miembro inferior con consulta ambulatoria para la evaluación y manejo de un usuario de salud nuevo nivel de atención III (Prescripción de la ayuda técnica o producto de apoyo).
H48: Paciente amputado: Amputados de miembro inferior con revisión final para el uso de dispositivos ortóticos/protésicos usuario de salud establecido (Entrega de la ayuda técnica o producto de apoyo).
A49: PATOLOGÍA NEUROLOGICA | B49: ----------------------- | H49: Enfermedad de Parkinson
H50: Enfermedad cerebro vascular
H51: Enfermedad muscular y unión mioneural
H52: Lesiones de nervio periférico
A53: 0515006 TRANSTORNOS DEL DESARROLLO DE LA FUNCION MOTRIZ | B53: ----------------------- | H53: Trastornos del desarrollo de la función motriz
A54: 0515007 ENFERMEDAD ARTICULAR DEGENERATIVA | B54: ----------------------- | H54: Enfermedad articular degenerativa
A55: 0515009 ENCEFALOPATIA INFANTIL | B55: ----------------------- | H55: Encefalopatía infantil
A56: 0515011 SÍNDROME DE DOWN | B56: ----------------------- | H56: Síndrome de Down
A57: PATOLOGIA DE LA COLUMNA VERTEBRAL Y OTROS TRANSTORNOS POSTURALES | B57: ----------------------- | H57: Cifosis y lordosis
H58: Espondilo artropatías
H59: Otros trastornos de los discos intervertebrales
H60: Cervicalgia, Dorsalgia, Lumbago
H61: Otras dorsopatías deformantes.
H62: Otros trastornos del sistema musculoesquelético y el tejido conectivo
H63: Otros trastornos articulares
H64: Defectos en la longitud de extremidades
A65: REHABILITACIÓN EN ENFERMEDAD CARDIOVASCULAR | B65: ----------------------- | H65: Rehabilitación en enfermedad cardiovascular
A66: REHABILITACIÓN EN ENFERMEDAD RESPIRATORIA | B66: ----------------------- | H66: Rehabilitación en enfermedad respiratoria
A67: REHABILITACIÓN EN ALTERACIONES DEL PISO PÉLVICO | B67: ----------------------- | H67: Vejiga neurogénica
H68: Incontinencia
H69: Prolapso
A70: ATENCIÓN DE REHABILITACIÓN EN PATOLOGÍA TRAUMATOLÓGICA Y REUMATOLÓGICA | B70: ----------------------- | H70: Traumatismo
H71: Enfermedades del tejido conectivo
H72: Patología articular excluida columna
H73: Lesiones Infecciosas
H74: Lesión biomecánica
A75: REHABILITACIÓN ONCOLÓGICA | B75: ----------------------- | H75: Linfedema + DX Neoplasia
H76: Sarcopenia + Dx Neoplasia
A77: REHABILITACIÓN EN DOLOR | B77: ----------------------- | H77: Rehabilitación en dolor
A78: REHABILITACIÓN EN PACIENTES QUEMADOS | B78: ----------------------- | H78: Rehabilitación en pacientes quemados
A80: Atención de Rehabilitación en Personas con Discapacidad de Tipo Sensorial (5005151)
A82: ATENCIONES | H82: Total | J82: 00a-11a | O82: 12a-17a | V82: 18a-29a | Y82: 30a-59a | AD82: 60a+
J83: M | M83: F | O83: M | R83: F | V83: M | W83: F | Y83: M | AA83: F | AD83: M | AH83: F
A84: HIPOACUSIA Y SORDERA | B84: Hipoacusia y/o sordera
A85: BAJA VISIÓN Y CEGUERA | B85: Baja visión y/o ceguera
A86: SORDOMUDEZ | B86: Sordomudez
A87: TRASTORNOS ESPECÍFICOS DEL DESARROLLO DEL HABLA Y LENGUAJE | B87: Transtornos específicos del desarrollo del habla y lenguaje
B88: Otros trastornos de la deglución
A89: DISARTRIA Y DISFAGIA | B89: Disartria
B90: Disfagia
A92: Atención de Rehabilitación en Personas con Discapacidad de Tipo Mental (5005151)
A94: ATENCIONES | C94: Total | D94: 00a-11a | I94: 12a-17a | N94: 18a-29a | U94: 30a-59a | Z94: 60a+
D95: M | G95: F | I95: M | L95: F | N95: M | Q95: F | U95: M | X95: F | Z95: M | AB95: F
A96: Trastornos de aprendizaje
A97: Retraso mental: leve, moderado, severo
A98: Trastornos del espectro autista | C98: 1 | G98: 1
A99: Otros trastornos de salud mental
A101: PERSONAS CON DISCAPACIDAD CERTIFICADAS EN ESTABLECIMIENTOS DE SALUD (3000689)
A103: ATENCIONES | C103: Total | D103: 00a-11a | I103: 12a-17a | N103: 18a-29a | U103: 30a-59a | Z103: 60a+
D104: M | G104: F | I104: M | L104: F | N104: M | Q104: F | U104: M | X104: F | Z104: M | AB104: F
A105: Certificación de Discapacidad
A106: Certificación de Incapacidad
A108: PERSONAS CON DISCAPACIDAD RECIBEN SERVICIOS DE REHABILITACIÓN BASADA EN LA COMUNIDAD (3000690)
A110: ATENCIONES | C110: Total | D110: 00a-11a | I110: 12a-17a | N110: 18a-29a | U110: 30a-59a | Z110: 60a+
D111: M | G111: F | I111: M | L111: F | N111: M | Q111: F | U111: M | X111: F | Z111: M | AB111: F
A112: 1° Visita
A113: 2° Visita
A114: 3° Visita
A116: Capacitación a agentes comunitarios en rehabilitación basada en la comunidad (5005155)
E118: 1° Taller / Sesión | K118: 2° Taller / Sesión
...

Sheet AGO
A3: REPORTE DE ACTIVIDADES DEL COMPONENTE DE DISCAPACIDAD
A5: Periodo: Agosto - 2025
A6: Diresa/Red/M.Red/EE.SS: AREQUIPA/AREQUIPA CAYLLOMA/TIABAYA/TODOS LOS EE.SS
A8: PERSONAS CON DISCAPACIDAD RECIBEN ATENCION DE REHABILITACION EN ESTABLECIMIENTOS DE SALUD (3000688)
A10: Capacitación en medicina de rehabilitación integral (5004449)
B12: N° | C12: Capacitados
A13: Capacitación personal médido rehabilitador
A15: Atención de Rehabilitación en Personas con Discapacidad de Tipo Física (5005150)
A17: GRUPO | B17: ATENCIONES | AC17: Total | AG17: 00a-11a | AL17: 12a-17a | AN17: 18a-29a | AP17: 30a-59a | AR17: 60a+
AG18: M | AI18: F | AL18: M | AM18: F | AN18: M | AO18: F | AP18: M | AQ18: F | AR18: M | AS18: F
A19: 0515001 LESIONES MEDULARES | B19: Lesiones medulares | H19: Lesiones medulares con severidad leve
H20: Lesiones medulares con severidad moderada
H21: Lesiones medulares severas
H22: Lesiones medulares en personas rehabilitadas
H23: Lesiones medulares en personas con discapacidad
H24: Lesiones medulares con servicio de evaluación, calificación y certificación de la discapacidad
H25: Lesiones medulares con consulta ambulatoria para la evaluación y manejo de un usuario de salud nuevo nivel de atención I (Prescripción de la ayuda técnica o producto de apoyo)
H26: Lesiones medulares con consulta ambulatoria para la evaluación y manejo de un usuario de salud nuevo nivel de atención III (Prescripción de la ayuda técnica o producto de apoyo).
H27: Lesiones medulares con consulta ambulatoria para la evaluación y manejo de un usuario de salud nuevo nivel de atención II (Prescripción de la ayuda técnica o producto de apoyo).
H28: Lesiones medulares con revisión final para el uso de dispositivos ortóticos/protésicos usuario de salud establecido (Entrega de la ayuda técnica o producto de apoyo).
A29: 0515013 REHABILITACIÓN EN PACIENTES AMPUTADOS | B29: Paciente amputado: Amputados de miembro superior | H29: Paciente amputado: Amputados de miembro superior con severidad leve
H30: Paciente amputado: Amputados de miembro superir con severidad moderado
H31: Paciente amputado: Amputados de miembro superior severo
H32: Paciente amputado: Amputados de miembro superior rehabilitado
H33: Paciente amputado: Amputados de miembro superior discapacitado
H34: Paciente amputado: Amputados de miembro superior con servicio de evaluación, calificación y certificación de la discapacidad
H35: Paciente amputado: Amputados de miembro superior con consulta ambulatoria para la evaluación y manejo de un usuario de salud nuevo nivel de atención I (Prescripción de la ayuda técnica o producto de apoyo)
H36: Paciente amputado: Amputados de miembro superior con consulta ambulatoria para la evaluación y manejo de un usuario de salud nuevo nivel de atención II (Prescripción de la ayuda técnica o producto de apoyo).
H37: Paciente amputado: Amputados de miembro superior con consulta ambulatoria para la evaluación y manejo de un usuario de salud nuevo nivel de atención III (Prescripción de la ayuda técnica o producto de apoyo).
H38: Paciente amputado: Amputados de miembro superior con revisión final para el uso de dispositivos ortóticos/protésicos usuario de salud establecido (Entrega de la ayuda técnica o producto de apoyo
B39: Paciente amputado: Amputados de miembro inferior | H39: Paciente amputado: Amputados de miembro inferior con severidad leve
H40: Paciente amputado: Amputados de miembro inferior con severidad moderada
H41: Paciente amputado: Amputados de miembro inferior severo
H42: Paciente amputado: Amputados de miembro inferior rehabilitado
H43: Paciente amputado: Amputados de miembro inferior con discapacidad
H44: Paciente amputado: Amputados de miembro inferior con servicio de evaluación, calificación y certificación de la discapacidad
H45: Paciente amputado: Amputados de miembro inferior con consulta ambulatoria para la evaluación y manejo de un usuario de salud nuevo nivel de atención I (Prescripción de la ayuda técnica o producto de apoyo)
H46: Paciente amputado: Amputados de miembro inferior con consulta ambulatoria para la evaluación y manejo de un usuario de salud nuevo nivel de atención II (Prescripción de la ayuda técnica o producto de apoyo).
H47: Paciente amputado: Amputados de miembro inferior con consulta ambulatoria para la evaluación y manejo de un usuario de salud nuevo nivel de atención III (Prescripción de la ayuda técnica o producto de apoyo).
H48: Paciente amputado: Amputados de miembro inferior con revisión final para el uso de dispositivos ortóticos/protésicos usuario de salud establecido (Entrega de la ayuda técnica o producto de apoyo).
A49: PATOLOGÍA NEUROLOGICA | B49: ----------------------- | H49: Enfermedad de Parkinson
H50: Enfermedad cerebro vascular
H51: Enfermedad muscular y unión mioneural
H52: Lesiones de nervio periférico | AC52: 1 | AR52: 1
A53: 0515006 TRANSTORNOS DEL DESARROLLO DE LA FUNCION MOTRIZ | B53: ----------------------- | H53: Trastornos del desarrollo de la función motriz | AC53: 1 | AP53: 1
A54: 0515007 ENFERMEDAD ARTICULAR DEGENERATIVA | B54: ----------------------- | H54: Enfermedad articular degenerativa | AC54: 2 | AP54: 1 | AS54: 1
A55: 0515009 ENCEFALOPATIA INFANTIL | B55: ----------------------- | H55: Encefalopatía infantil
A56: 0515011 SÍNDROME DE DOWN | B56: ----------------------- | H56: Síndrome de Down
A57: PATOLOGIA DE LA COLUMNA VERTEBRAL Y OTROS TRANSTORNOS POSTURALES | B57: ----------------------- | H57: Cifosis y lordosis
H58: Espondilo artropatías
H59: Otros trastornos de los discos intervertebrales
H60: Cervicalgia, Dorsalgia, Lumbago
H61: Otras dorsopatías deformantes.
H62: Otros trastornos del sistema musculoesquelético y el tejido conectivo
H63: Otros trastornos articulares
H64: Defectos en la longitud de extremidades
A65: REHABILITACIÓN EN ENFERMEDAD CARDIOVASCULAR | B65: ----------------------- | H65: Rehabilitación en enfermedad cardiovascular
A66: REHABILITACIÓN EN ENFERMEDAD RESPIRATORIA | B66: ----------------------- | H66: Rehabilitación en enfermedad respiratoria
A67: REHABILITACIÓN EN ALTERACIONES DEL PISO PÉLVICO | B67: ----------------------- | H67: Vejiga neurogénica
H68: Incontinencia
H69: Prolapso
A70: ATENCIÓN DE REHABILITACIÓN EN PATOLOGÍA TRAUMATOLÓGICA Y REUMATOLÓGICA | B70: ----------------------- | H70: Traumatismo
H71: Enfermedades del tejido conectivo
H72: Patología articular excluida columna
H73: Lesiones Infecciosas
H74: Lesión biomecánica
A75: REHABILITACIÓN ONCOLÓGICA | B75: ----------------------- | H75: Linfedema + DX Neoplasia
H76: Sarcopenia + Dx Neoplasia
A77: REHABILITACIÓN EN DOLOR | B77: ----------------------- | H77: Rehabilitación en dolor
A78: REHABILITACIÓN EN PACIENTES QUEMADOS | B78: ----------------------- | H78: Rehabilitación en pacientes quemados
A80: Atención de Rehabilitación en Personas con Discapacidad de Tipo Sensorial (5005151)
A82: ATENCIONES | H82: Total | J82: 00a-11a | O82: 12a-17a | V82: 18a-29a | Y82: 30a-59a | AD82: 60a+
J83: M | M83: F | O83: M | R83: F | V83: M | W83: F | Y83: M | AA83: F | AD83: M | AH83: F
A84: HIPOACUSIA Y SORDERA | B84: Hipoacusia y/o sordera
A85: BAJA VISIÓN Y CEGUERA | B85: Baja visión y/o ceguera
A86: SORDOMUDEZ | B86: Sordomudez
A87: TRASTORNOS ESPECÍFICOS DEL DESARROLLO DEL HABLA Y LENGUAJE | B87: Transtornos específicos del desarrollo del habla y lenguaje
B88: Otros trastornos de la deglución
A89: DISARTRIA Y DISFAGIA | B89: Disartria
B90: Disfagia
A92: Atención de Rehabilitación en Personas con Discapacidad de Tipo Mental (5005151)
A94: ATENCIONES | C94: Total | D94: 00a-11a | I94: 12a-17a | N94: 18a-29a | U94: 30a-59a | Z94: 60a+
D95: M | G95: F | I95: M | L95: F | N95: M | Q95: F | U95: M | X95: F | Z95: M | AB95: F
A96: Trastornos de aprendizaje
A97: Retraso mental: leve, moderado, severo | C97: 1 | L97: 1
A98: Trastornos del espectro autista | C98: 1 | G98: 1
A99: Otros trastornos de salud mental
A101: PERSONAS CON DISCAPACIDAD CERTIFICADAS EN ESTABLECIMIENTOS DE SALUD (3000689)
A103: ATENCIONES | C103: Total | D103: 00a-11a | I103: 12a-17a | N103: 18a-29a | U103: 30a-59a | Z103: 60a+
D104: M | G104: F | I104: M | L104: F | N104: M | Q104: F | U104: M | X104: F | Z104: M | AB104: F
A105: Certificación de Discapacidad
A106: Certificación de Incapacidad
A108: PERSONAS CON DISCAPACIDAD RECIBEN SERVICIOS DE REHABILITACIÓN BASADA EN LA COMUNIDAD (3000690)
A110: ATENCIONES | C110: Total | D110: 00a-11a | I110: 12a-17a | N110: 18a-29a | U110: 30a-59a | Z110: 60a+
D111: M | G111: F | I111: M | L111: F | N111: M | Q111: F | U111: M | X111: F | Z111: M | AB111: F
A112: 1° Visita
A113: 2° Visita
A114: 3° Visita
A116: Capacitación a agentes comunitarios en rehabilitación basada en la comunidad (5005155)
E118: 1° Taller / Sesión | K118: 2° Taller / Sesión
...

Sheet SET
A3: REPORTE DE ACTIVIDADES DEL COMPONENTE DE DISCAPACIDAD
A5: Periodo: Septiembre - 2025
A6: Diresa/Red/M.Red/EE.SS: AREQUIPA/AREQUIPA CAYLLOMA/TIABAYA/TODOS LOS EE.SS
A8: PERSONAS CON DISCAPACIDAD RECIBEN ATENCION DE REHABILITACION EN ESTABLECIMIENTOS DE SALUD (3000688)
A10: Capacitación en medicina de rehabilitación integral (5004449)
B12: N° | C12: Capacitados
A13: Capacitación personal médido rehabilitador
A15: Atención de Rehabilitación en Personas con Discapacidad de Tipo Física (5005150)
A17: GRUPO | B17: ATENCIONES | AC17: Total | AG17: 00a-11a | AL17: 12a-17a | AN17: 18a-29a | AP17: 30a-59a | AR17: 60a+
AG18: M | AI18: F | AL18: M | AM18: F | AN18: M | AO18: F | AP18: M | AQ18: F | AR18: M | AS18: F
A19: 0515001 LESIONES MEDULARES | B19: Lesiones medulares | H19: Lesiones medulares con severidad leve
H20: Lesiones medulares con severidad moderada
H21: Lesiones medulares severas
H22: Lesiones medulares en personas rehabilitadas
H23: Lesiones medulares en personas con discapacidad
H24: Lesiones medulares con servicio de evaluación, calificación y certificación de la discapacidad
H25: Lesiones medulares con consulta ambulatoria para la evaluación y manejo de un usuario de salud nuevo nivel de atención I (Prescripción de la ayuda técnica o producto de apoyo)
H26: Lesiones medulares con consulta ambulatoria para la evaluación y manejo de un usuario de salud nuevo nivel de atención III (Prescripción de la ayuda técnica o producto de apoyo).
H27: Lesiones medulares con consulta ambulatoria para la evaluación y manejo de un usuario de salud nuevo nivel de atención II (Prescripción de la ayuda técnica o producto de apoyo).
H28: Lesiones medulares con revisión final para el uso de dispositivos ortóticos/protésicos usuario de salud establecido (Entrega de la ayuda técnica o producto de apoyo).
A29: 0515013 REHABILITACIÓN EN PACIENTES AMPUTADOS | B29: Paciente amputado: Amputados de miembro superior | H29: Paciente amputado: Amputados de miembro superior con severidad leve
H30: Paciente amputado: Amputados de miembro superir con severidad moderado
H31: Paciente amputado: Amputados de miembro superior severo
H32: Paciente amputado: Amputados de miembro superior rehabilitado
H33: Paciente amputado: Amputados de miembro superior discapacitado
H34: Paciente amputado: Amputados de miembro superior con servicio de evaluación, calificación y certificación de la discapacidad
H35: Paciente amputado: Amputados de miembro superior con consulta ambulatoria para la evaluación y manejo de un usuario de salud nuevo nivel de atención I (Prescripción de la ayuda técnica o producto de apoyo)
H36: Paciente amputado: Amputados de miembro superior con consulta ambulatoria para la evaluación y manejo de un usuario de salud nuevo nivel de atención II (Prescripción de la ayuda técnica o producto de apoyo).
H37: Paciente amputado: Amputados de miembro superior con consulta ambulatoria para la evaluación y manejo de un usuario de salud nuevo nivel de atención III (Prescripción de la ayuda técnica o producto de apoyo).
H38: Paciente amputado: Amputados de miembro superior con revisión final para el uso de dispositivos ortóticos/protésicos usuario de salud establecido (Entrega de la ayuda técnica o producto de apoyo
B39: Paciente amputado: Amputados de miembro inferior | H39: Paciente amputado: Amputados de miembro inferior con severidad leve
H40: Paciente amputado: Amputados de miembro inferior con severidad moderada
H41: Paciente amputado: Amputados de miembro inferior severo
H42: Paciente amputado: Amputados de miembro inferior rehabilitado
H43: Paciente amputado: Amputados de miembro inferior con discapacidad
H44: Paciente amputado: Amputados de miembro inferior con servicio de evaluación, calificación y certificación de la discapacidad
H45: Paciente amputado: Amputados de miembro inferior con consulta ambulatoria para la evaluación y manejo de un usuario de salud nuevo nivel de atención I (Prescripción de la ayuda técnica o producto de apoyo)
H46: Paciente amputado: Amputados de miembro inferior con consulta ambulatoria para la evaluación y manejo de un usuario de salud nuevo nivel de atención II (Prescripción de la ayuda técnica o producto de apoyo).
H47: Paciente amputado: Amputados de miembro inferior con consulta ambulatoria para la evaluación y manejo de un usuario de salud nuevo nivel de atención III (Prescripción de la ayuda técnica o producto de apoyo).
H48: Paciente amputado: Amputados de miembro inferior con revisión final para el uso de dispositivos ortóticos/protésicos usuario de salud establecido (Entrega de la ayuda técnica o producto de apoyo).
A49: PATOLOGÍA NEUROLOGICA | B49: ----------------------- | H49: Enfermedad de Parkinson
H50: Enfermedad cerebro vascular
H51: Enfermedad muscular y unión mioneural
H52: Lesiones de nervio periférico
A53: 0515006 TRANSTORNOS DEL DESARROLLO DE LA FUNCION MOTRIZ | B53: ----------------------- | H53: Trastornos del desarrollo de la función motriz
A54: 0515007 ENFERMEDAD ARTICULAR DEGENERATIVA | B54: ----------------------- | H54: Enfermedad articular degenerativa
A55: 0515009 ENCEFALOPATIA INFANTIL | B55: ----------------------- | H55: Encefalopatía infantil
A56: 0515011 SÍNDROME DE DOWN | B56: ----------------------- | H56: Síndrome de Down
A57: PATOLOGIA DE LA COLUMNA VERTEBRAL Y OTROS TRANSTORNOS POSTURALES | B57: ----------------------- | H57: Cifosis y lordosis
H58: Espondilo artropatías
H59: Otros trastornos de los discos intervertebrales
H60: Cervicalgia, Dorsalgia, Lumbago
H61: Otras dorsopatías deformantes.
H62: Otros trastornos del sistema musculoesquelético y el tejido conectivo
H63: Otros trastornos articulares
H64: Defectos en la longitud de extremidades
A65: REHABILITACIÓN EN ENFERMEDAD CARDIOVASCULAR | B65: ----------------------- | H65: Rehabilitación en enfermedad cardiovascular
A66: REHABILITACIÓN EN ENFERMEDAD RESPIRATORIA | B66: ----------------------- | H66: Rehabilitación en enfermedad respiratoria
A67: REHABILITACIÓN EN ALTERACIONES DEL PISO PÉLVICO | B67: ----------------------- | H67: Vejiga neurogénica
H68: Incontinencia
H69: Prolapso
A70: ATENCIÓN DE REHABILITACIÓN EN PATOLOGÍA TRAUMATOLÓGICA Y REUMATOLÓGICA | B70: ----------------------- | H70: Traumatismo
H71: Enfermedades del tejido conectivo
H72: Patología articular excluida columna
H73: Lesiones Infecciosas
H74: Lesión biomecánica
A75: REHABILITACIÓN ONCOLÓGICA | B75: ----------------------- | H75: Linfedema + DX Neoplasia
H76: Sarcopenia + Dx Neoplasia
A77: REHABILITACIÓN EN DOLOR | B77: ----------------------- | H77: Rehabilitación en dolor
A78: REHABILITACIÓN EN PACIENTES QUEMADOS | B78: ----------------------- | H78: Rehabilitación en pacientes quemados
A80: Atención de Rehabilitación en Personas con Discapacidad de Tipo Sensorial (5005151)
A82: ATENCIONES | H82: Total | J82: 00a-11a | O82: 12a-17a | V82: 18a-29a | Y82: 30a-59a | AD82: 60a+
J83: M | M83: F | O83: M | R83: F | V83: M | W83: F | Y83: M | AA83: F | AD83: M | AH83: F
A84: HIPOACUSIA Y SORDERA | B84: Hipoacusia y/o sordera
A85: BAJA VISIÓN Y CEGUERA | B85: Baja visión y/o ceguera
A86: SORDOMUDEZ | B86: Sordomudez
A87: TRASTORNOS ESPECÍFICOS DEL DESARROLLO DEL HABLA Y LENGUAJE | B87: Transtornos específicos del desarrollo del habla y lenguaje
B88: Otros trastornos de la deglución
A89: DISARTRIA Y DISFAGIA | B89: Disartria
B90: Disfagia
A92: Atención de Rehabilitación en Personas con Discapacidad de Tipo Mental (5005151)
A94: ATENCIONES | C94: Total | D94: 00a-11a | I94: 12a-17a | N94: 18a-29a | U94: 30a-59a | Z94: 60a+
D95: M | G95: F | I95: M | L95: F | N95: M | Q95: F | U95: M | X95: F | Z95: M | AB95: F
A96: Trastornos de aprendizaje
A97: Retraso mental: leve, moderado, severo
A98: Trastornos del espectro autista
A99: Otros trastornos de salud mental
A101: PERSONAS CON DISCAPACIDAD CERTIFICADAS EN ESTABLECIMIENTOS DE SALUD (3000689)
A103: ATENCIONES | C103: Total | D103: 00a-11a | I103: 12a-17a | N103: 18a-29a | U103: 30a-59a | Z103: 60a+
D104: M | G104: F | I104: M | L104: F | N104: M | Q104: F | U104: M | X104: F | Z104: M | AB104: F
A105: Certificación de Discapacidad
A106: Certificación de Incapacidad
A108: PERSONAS CON DISCAPACIDAD RECIBEN SERVICIOS DE REHABILITACIÓN BASADA EN LA COMUNIDAD (3000690)
A110: ATENCIONES | C110: Total | D110: 00a-11a | I110: 12a-17a | N110: 18a-29a | U110: 30a-59a | Z110: 60a+
D111: M | G111: F | I111: M | L111: F | N111: M | Q111: F | U111: M | X111: F | Z111: M | AB111: F
A112: 1° Visita
A113: 2° Visita
A114: 3° Visita
A116: Capacitación a agentes comunitarios en rehabilitación basada en la comunidad (5005155)
E118: 1° Taller / Sesión | K118: 2° Taller / Sesión
...

Sheet III TRIM
A3: REPORTE DE ACTIVIDADES DEL COMPONENTE DE DISCAPACIDAD
A5: Periodo: Marzo - 2025
A6: Diresa/Red/M.Red/EE.SS: AREQUIPA/AREQUIPA CAYLLOMA/TIABAYA/TODOS LOS EE.SS
A8: PERSONAS CON DISCAPACIDAD RECIBEN ATENCION DE REHABILITACION EN ESTABLECIMIENTOS DE SALUD (3000688)
A10: Capacitación en medicina de rehabilitación integral (5004449)
B12: N° | C12: Capacitados
A13: Capacitación personal médido rehabilitador | B13: =SUM(JUL:SET!B13) -> 0 | C13: =SUM(JUL:SET!C13:E13) -> 0
A15: Atención de Rehabilitación en Personas con Discapacidad de Tipo Física (5005150)
A17: GRUPO | B17: ATENCIONES | AC17: Total | AG17: 00a-11a | AL17: 12a-17a | AN17: 18a-29a | AP17: 30a-59a | AR17: 60a+
AG18: M | AI18: F | AL18: M | AM18: F | AN18: M | AO18: F | AP18: M | AQ18: F | AR18: M | AS18: F
A19: 0515001 LESIONES MEDULARES | B19: Lesiones medulares | H19: Lesiones medulares con severidad leve | AC19: =SUM(JUL:SET!AC19:AF19) -> 0 | AG19: =SUM(JUL:SET!AG19:AH19) -> 0 | AI19: =SUM(JUL:SET!AI19:AK19) -> 0 | AL19: =SUM(JUL:SET!AL19) -> 0 | AM19: =SUM(JUL:SET!AM19) -> 0 | AN19: =SUM(JUL:SET!AN19) -> 0 | AO19: =SUM(JUL:SET!AO19) -> 0 | AP19: =SUM(JUL:SET!AP19) -> 0 | AQ19: =SUM(JUL:SET!AQ19) -> 0 | AR19: =SUM(JUL:SET!AR19) -> 0 | AS19: =SUM(JUL:SET!AS19) -> 0
H20: Lesiones medulares con severidad moderada | AC20: =SUM(JUL:SET!AC20:AF20) -> 0 | AG20: =SUM(JUL:SET!AG20:AH20) -> 0 | AI20: =SUM(JUL:SET!AI20:AK20) -> 0 | AL20: =SUM(JUL:SET!AL20) -> 0 | AM20: =SUM(JUL:SET!AM20) -> 0 | AN20: =SUM(JUL:SET!AN20) -> 0 | AO20: =SUM(JUL:SET!AO20) -> 0 | AP20: =SUM(JUL:SET!AP20) -> 0 | AQ20: =SUM(JUL:SET!AQ20) -> 0 | AR20: =SUM(JUL:SET!AR20) -> 0 | AS20: =SUM(JUL:SET!AS20) -> 0
H21: Lesiones medulares severas | AC21: =SUM(JUL:SET!AC21:AF21) -> 0 | AG21: =SUM(JUL:SET!AG21:AH21) -> 0 | AI21: =SUM(JUL:SET!AI21:AK21) -> 0 | AL21: =SUM(JUL:SET!AL21) -> 0 | AM21: =SUM(JUL:SET!AM21) -> 0 | AN21: =SUM(JUL:SET!AN21) -> 0 | AO21: =SUM(JUL:SET!AO21) -> 0 | AP21: =SUM(JUL:SET!AP21) -> 0 | AQ21: =SUM(JUL:SET!AQ21) -> 0 | AR21: =SUM(JUL:SET!AR21) -> 0 | AS21: =SUM(JUL:SET!AS21) -> 0
H22: Lesiones medulares en personas rehabilitadas | AC22: =SUM(JUL:SET!AC22:AF22) -> 0 | AG22: =SUM(JUL:SET!AG22:AH22) -> 0 | AI22: =SUM(JUL:SET!AI22:AK22) -> 0 | AL22: =SUM(JUL:SET!AL22) -> 0 | AM22: =SUM(JUL:SET!AM22) -> 0 | AN22: =SUM(JUL:SET!AN22) -> 0 | AO22: =SUM(JUL:SET!AO22) -> 0 | AP22: =SUM(JUL:SET!AP22) -> 0 | AQ22: =SUM(JUL:SET!AQ22) -> 0 | AR22: =SUM(JUL:SET!AR22) -> 0 | AS22: =SUM(JUL:SET!AS22) -> 0
H23: Lesiones medulares en personas con discapacidad | AC23: =SUM(JUL:SET!AC23:AF23) -> 0 | AG23: =SUM(JUL:SET!AG23:AH23) -> 0 | AI23: =SUM(JUL:SET!AI23:AK23) -> 0 | AL23: =SUM(JUL:SET!AL23) -> 0 | AM23: =SUM(JUL:SET!AM23) -> 0 | AN23: =SUM(JUL:SET!AN23) -> 0 | AO23: =SUM(JUL:SET!AO23) -> 0 | AP23: =SUM(JUL:SET!AP23) -> 0 | AQ23: =SUM(JUL:SET!AQ23) -> 0 | AR23: =SUM(JUL:SET!AR23) -> 0 | AS23: =SUM(JUL:SET!AS23) -> 0
H24: Lesiones medulares con servicio de evaluación, calificación y certificación de la discapacidad | AC24: =SUM(JUL:SET!AC24:AF24) -> 0 | AG24: =SUM(JUL:SET!AG24:AH24) -> 0 | AI24: =SUM(JUL:SET!AI24:AK24) -> 0 | AL24: =SUM(JUL:SET!AL24) -> 0 | AM24: =SUM(JUL:SET!AM24) -> 0 | AN24: =SUM(JUL:SET!AN24) -> 0 | AO24: =SUM(JUL:SET!AO24) -> 0 | AP24: =SUM(JUL:SET!AP24) -> 0 | AQ24: =SUM(JUL:SET!AQ24) -> 0 | AR24: =SUM(JUL:SET!AR24) -> 0 | AS24: =SUM(JUL:SET!AS24) -> 0
H25: Lesiones medulares con consulta ambulatoria para la evaluación y manejo de un usuario de salud nuevo nivel de atención I (Prescripción de la ayuda técnica o producto de apoyo) | AC25: =SUM(JUL:SET!AC25:AF25) -> 0 | AG25: =SUM(JUL:SET!AG25:AH25) -> 0 | AI25: =SUM(JUL:SET!AI25:AK25) -> 0 | AL25: =SUM(JUL:SET!AL25) -> 0 | AM25: =SUM(JUL:SET!AM25) -> 0 | AN25: =SUM(JUL:SET!AN25) -> 0 | AO25: =SUM(JUL:SET!AO25) -> 0 | AP25: =SUM(JUL:SET!AP25) -> 0 | AQ25: =SUM(JUL:SET!AQ25) -> 0 | AR25: =SUM(JUL:SET!AR25) -> 0 | AS25: =SUM(JUL:SET!AS25) -> 0
H26: Lesiones medulares con consulta ambulatoria para la evaluación y manejo de un usuario de salud nuevo nivel de atención III (Prescripción de la ayuda técnica o producto de apoyo). | AC26: =SUM(JUL:SET!AC26:AF26) -> 0 | AG26: =SUM(JUL:SET!AG26:AH26) -> 0 | AI26: =SUM(JUL:SET!AI26:AK26) -> 0 | AL26: =SUM(JUL:SET!AL26) -> 0 | AM26: =SUM(JUL:SET!AM26) -> 0 | AN26: =SUM(JUL:SET!AN26) -> 0 | AO26: =SUM(JUL:SET!AO26) -> 0 | AP26: =SUM(JUL:SET!AP26) -> 0 | AQ26: =SUM(JUL:SET!AQ26) -> 0 | AR26: =SUM(JUL:SET!AR26) -> 0 | AS26: =SUM(JUL:SET!AS26) -> 0
H27: Lesiones medulares con consulta ambulatoria para la evaluación y manejo de un usuario de salud nuevo nivel de atención II (Prescripción de la ayuda técnica o producto de apoyo). | AC27: =SUM(JUL:SET!AC27:AF27) -> 0 | AG27: =SUM(JUL:SET!AG27:AH27) -> 0 | AI27: =SUM(JUL:SET!AI27:AK27) -> 0 | AL27: =SUM(JUL:SET!AL27) -> 0 | AM27: =SUM(JUL:SET!AM27) -> 0 | AN27: =SUM(JUL:SET!AN27) -> 0 | AO27: =SUM(JUL:SET!AO27) -> 0 | AP27: =SUM(JUL:SET!AP27) -> 0 | AQ27: =SUM(JUL:SET!AQ27) -> 0 | AR27: =SUM(JUL:SET!AR27) -> 0 | AS27: =SUM(JUL:SET!AS27) -> 0
H28: Lesiones medulares con revisión final para el uso de dispositivos ortóticos/protésicos usuario de salud establecido (Entrega de la ayuda técnica o producto de apoyo). | AC28: =SUM(JUL:SET!AC28:AF28) -> 0 | AG28: =SUM(JUL:SET!AG28:AH28) -> 0 | AI28: =SUM(JUL:SET!AI28:AK28) -> 0 | AL28: =SUM(JUL:SET!AL28) -> 0 | AM28: =SUM(JUL:SET!AM28) -> 0 | AN28: =SUM(JUL:SET!AN28) -> 0 | AO28: =SUM(JUL:SET!AO28) -> 0 | AP28: =SUM(JUL:SET!AP28) -> 0 | AQ28: =SUM(JUL:SET!AQ28) -> 0 | AR28: =SUM(JUL:SET!AR28) -> 0 | AS28: =SUM(JUL:SET!AS28) -> 0
A29: 0515013 REHABILITACIÓN EN PACIENTES AMPUTADOS | B29: Paciente amputado: Amputados de miembro superior | H29: Paciente amputado: Amputados de miembro superior con severidad leve | AC29: =SUM(JUL:SET!AC29:AF29) -> 0 | AG29: =SUM(JUL:SET!AG29:AH29) -> 0 | AI29: =SUM(JUL:SET!AI29:AK29) -> 0 | AL29: =SUM(JUL:SET!AL29) -> 0 | AM29: =SUM(JUL:SET!AM29) -> 0 | AN29: =SUM(JUL:SET!AN29) -> 0 | AO29: =SUM(JUL:SET!AO29) -> 0 | AP29: =SUM(JUL:SET!AP29) -> 0 | AQ29: =SUM(JUL:SET!AQ29) -> 0 | AR29: =SUM(JUL:SET!AR29) -> 0 | AS29: =SUM(JUL:SET!AS29) -> 0
H30: Paciente amputado: Amputados de miembro superir con severidad moderado | AC30: =SUM(JUL:SET!AC30:AF30) -> 0 | AG30: =SUM(JUL:SET!AG30:AH30) -> 0 | AI30: =SUM(JUL:SET!AI30:AK30) -> 0 | AL30: =SUM(JUL:SET!AL30) -> 0 | AM30: =SUM(JUL:SET!AM30) -> 0 | AN30: =SUM(JUL:SET!AN30) -> 0 | AO30: =SUM(JUL:SET!AO30) -> 0 | AP30: =SUM(JUL:SET!AP30) -> 0 | AQ30: =SUM(JUL:SET!AQ30) -> 0 | AR30: =SUM(JUL:SET!AR30) -> 0 | AS30: =SUM(JUL:SET!AS30) -> 0
H31: Paciente amputado: Amputados de miembro superior severo | AC31: =SUM(JUL:SET!AC31:AF31) -> 0 | AG31: =SUM(JUL:SET!AG31:AH31) -> 0 | AI31: =SUM(JUL:SET!AI31:AK31) -> 0 | AL31: =SUM(JUL:SET!AL31) -> 0 | AM31: =SUM(JUL:SET!AM31) -> 0 | AN31: =SUM(JUL:SET!AN31) -> 0 | AO31: =SUM(JUL:SET!AO31) -> 0 | AP31: =SUM(JUL:SET!AP31) -> 0 | AQ31: =SUM(JUL:SET!AQ31) -> 0 | AR31: =SUM(JUL:SET!AR31) -> 0 | AS31: =SUM(JUL:SET!AS31) -> 0
H32: Paciente amputado: Amputados de miembro superior rehabilitado | AC32: =SUM(JUL:SET!AC32:AF32) -> 0 | AG32: =SUM(JUL:SET!AG32:AH32) -> 0 | AI32: =SUM(JUL:SET!AI32:AK32) -> 0 | AL32: =SUM(JUL:SET!AL32) -> 0 | AM32: =SUM(JUL:SET!AM32) -> 0 | AN32: =SUM(JUL:SET!AN32) -> 0 | AO32: =SUM(JUL:SET!AO32) -> 0 | AP32: =SUM(JUL:SET!AP32) -> 0 | AQ32: =SUM(JUL:SET!AQ32) -> 0 | AR32: =SUM(JUL:SET!AR32) -> 0 | AS32: =SUM(JUL:SET!AS32) -> 0
H33: Paciente amputado: Amputados de miembro superior discapacitado | AC33: =SUM(JUL:SET!AC33:AF33) -> 0 | AG33: =SUM(JUL:SET!AG33:AH33) -> 0 | AI33: =SUM(JUL:SET!AI33:AK33) -> 0 | AL33: =SUM(JUL:SET!AL33) -> 0 | AM33: =SUM(JUL:SET!AM33) -> 0 | AN33: =SUM(JUL:SET!AN33) -> 0 | AO33: =SUM(JUL:SET!AO33) -> 0 | AP33: =SUM(JUL:SET!AP33) -> 0 | AQ33: =SUM(JUL:SET!AQ33) -> 0 | AR33: =SUM(JUL:SET!AR33) -> 0 | AS33: =SUM(JUL:SET!AS33) -> 0
H34: Paciente amputado: Amputados de miembro superior con servicio de evaluación, calificación y certificación de la discapacidad | AC34: =SUM(JUL:SET!AC34:AF34) -> 0 | AG34: =SUM(JUL:SET!AG34:AH34) -> 0 | AI34: =SUM(JUL:SET!AI34:AK34) -> 0 | AL34: =SUM(JUL:SET!AL34) -> 0 | AM34: =SUM(JUL:SET!AM34) -> 0 | AN34: =SUM(JUL:SET!AN34) -> 0 | AO34: =SUM(JUL:SET!AO34) -> 0 | AP34: =SUM(JUL:SET!AP34) -> 0 | AQ34: =SUM(JUL:SET!AQ34) -> 0 | AR34: =SUM(JUL:SET!AR34) -> 0 | AS34: =SUM(JUL:SET!AS34) -> 0
H35: Paciente amputado: Amputados de miembro superior con consulta ambulatoria para la evaluación y manejo de un usuario de salud nuevo nivel de atención I (Prescripción de la ayuda técnica o producto de apoyo) | AC35: =SUM(JUL:SET!AC35:AF35) -> 0 | AG35: =SUM(JUL:SET!AG35:AH35) -> 0 | AI35: =SUM(JUL:SET!AI35:AK35) -> 0 | AL35: =SUM(JUL:SET!AL35) -> 0 | AM35: =SUM(JUL:SET!AM35) -> 0 | AN35: =SUM(JUL:SET!AN35) -> 0 | AO35: =SUM(JUL:SET!AO35) -> 0 | AP35: =SUM(JUL:SET!AP35) -> 0 | AQ35: =SUM(JUL:SET!AQ35) -> 0 | AR35: =SUM(JUL:SET!AR35) -> 0 | AS35: =SUM(JUL:SET!AS35) -> 0
H36: Paciente amputado: Amputados de miembro superior con consulta ambulatoria para la evaluación y manejo de un usuario de salud nuevo nivel de atención II (Prescripción de la ayuda técnica o producto de apoyo). | AC36: =SUM(JUL:SET!AC36:AF36) -> 0 | AG36: =SUM(JUL:SET!AG36:AH36) -> 0 | AI36: =SUM(JUL:SET!AI36:AK36) -> 0 | AL36: =SUM(JUL:SET!AL36) -> 0 | AM36: =SUM(JUL:SET!AM36) -> 0 | AN36: =SUM(JUL:SET!AN36) -> 0 | AO36: =SUM(JUL:SET!AO36) -> 0 | AP36: =SUM(JUL:SET!AP36) -> 0 | AQ36: =SUM(JUL:SET!AQ36) -> 0 | AR36: =SUM(JUL:SET!AR36) -> 0 | AS36: =SUM(JUL:SET!AS36) -> 0
H37: Paciente amputado: Amputados de miembro superior con consulta ambulatoria para la evaluación y manejo de un usuario de salud nuevo nivel de atención III (Prescripción de la ayuda técnica o producto de apoyo). | AC37: =SUM(JUL:SET!AC37:AF37) -> 0 | AG37: =SUM(JUL:SET!AG37:AH37) -> 0 | AI37: =SUM(JUL:SET!AI37:AK37) -> 0 | AL37: =SUM(JUL:SET!AL37) -> 0 | AM37: =SUM(JUL:SET!AM37) -> 0 | AN37: =SUM(JUL:SET!AN37) -> 0 | AO37: =SUM(JUL:SET!AO37) -> 0 | AP37: =SUM(JUL:SET!AP37) -> 0 | AQ37: =SUM(JUL:SET!AQ37) -> 0 | AR37: =SUM(JUL:SET!AR37) -> 0 | AS37: =SUM(JUL:SET!AS37) -> 0
H38: Paciente amputado: Amputados de miembro superior con revisión final para el uso de dispositivos ortóticos/protésicos usuario de salud establecido (Entrega de la ayuda técnica o producto de apoyo | AC38: =SUM(JUL:SET!AC38:AF38) -> 0 | AG38: =SUM(JUL:SET!AG38:AH38) -> 0 | AI38: =SUM(JUL:SET!AI38:AK38) -> 0 | AL38: =SUM(JUL:SET!AL38) -> 0 | AM38: =SUM(JUL:SET!AM38) -> 0 | AN38: =SUM(JUL:SET!AN38) -> 0 | AO38: =SUM(JUL:SET!AO38) -> 0 | AP38: =SUM(JUL:SET!AP38) -> 0 | AQ38: =SUM(JUL:SET!AQ38) -> 0 | AR38: =SUM(JUL:SET!AR38) -> 0 | AS38: =SUM(JUL:SET!AS38) -> 0
